BEGIN:VCALENDAR
VERSION:1.0
BEGIN:VEVENT
DTSTART:20251206T141500
DTEND:20251206T151500
SUMMARY:FBCT - Thomas vs. FBCT - Amari
DESCRIPTION:5th/6th Girls - CrossPoint Church
LOCATION:CrossPoint Court 2
CATEGORIES:QuickScores; Basketball Game
TRANSP:0
DALARM:20251206T121500;PT10M;2;FBCT - Thomas vs. FBCT - Amari
END:VEVENT
BEGIN:VEVENT
DTSTART:20251213T141500
DTEND:20251213T151500
SUMMARY:FBCT - Thomas vs. Springville Methodist
DESCRIPTION:5th/6th Girls - CrossPoint Church
LOCATION:CrossPoint Court 2
CATEGORIES:QuickScores; Basketball Game
TRANSP:0
DALARM:20251213T121500;PT10M;2;FBCT - Thomas vs. Springville Methodist
END:VEVENT
BEGIN:VEVENT
DTSTART:20260103T151500
DTEND:20260103T161500
SUMMARY:FBCT - Hodge vs. FBCT - Thomas
DESCRIPTION:5th/6th Girls - CrossPoint Church
LOCATION:CrossPoint Court 2
CATEGORIES:QuickScores; Basketball Game
TRANSP:0
DALARM:20260103T131500;PT10M;2;FBCT - Hodge vs. FBCT - Thomas
END:VEVENT
BEGIN:VEVENT
DTSTART:20260110T151500
DTEND:20260110T161500
SUMMARY:FBCT - Thomas vs. CrossPoint - Green
DESCRIPTION:5th/6th Girls - CrossPoint Church
LOCATION:CrossPoint Court 1
CATEGORIES:QuickScores; Basketball Game
TRANSP:0
DALARM:20260110T131500;PT10M;2;FBCT - Thomas vs. CrossPoint - Green
END:VEVENT
BEGIN:VEVENT
DTSTART:20260124T151500
DTEND:20260124T161500
SUMMARY:FBCT - Rutland vs. FBCT - Thomas
DESCRIPTION:5th/6th Girls - CrossPoint Church
LOCATION:CrossPoint Court 2
CATEGORIES:QuickScores; Basketball Game
TRANSP:0
DALARM:20260124T131500;PT10M;2;FBCT - Rutland vs. FBCT - Thomas
END:VEVENT
BEGIN:VEVENT
DTSTART:20260131T151500
DTEND:20260131T161500
SUMMARY:FBCT - Amari vs. FBCT - Thomas
DESCRIPTION:5th/6th Girls - CrossPoint Church
LOCATION:CrossPoint Court 2
CATEGORIES:QuickScores; Basketball Game
TRANSP:0
DALARM:20260131T131500;PT10M;2;FBCT - Amari vs. FBCT - Thomas
END:VEVENT
BEGIN:VEVENT
DTSTART:20260207T151500
DTEND:20260207T161500
SUMMARY:Springville Methodist vs. FBCT - Thomas
DESCRIPTION:5th/6th Girls - CrossPoint Church
LOCATION:CrossPoint Court 1
CATEGORIES:QuickScores; Basketball Game
TRANSP:0
DALARM:20260207T131500;PT10M;2;Springville Methodist vs. FBCT - Thomas
END:VEVENT
BEGIN:VEVENT
DTSTART:20260214T111500
DTEND:20260214T121500
SUMMARY:[1] FBCT - Rutland vs. [2] FBCT - Thomas
DESCRIPTION:5th/6th Girls - CrossPoint Church
LOCATION:CrossPoint Court 1
CATEGORIES:QuickScores; Basketball Game
TRANSP:0
DALARM:20260214T091500;PT10M;2;[1] FBCT - Rutland vs. [2] FBCT - Thomas
END:VEVENT
END:VCALENDAR
