BEGIN:VCALENDAR
VERSION:1.0
BEGIN:VEVENT
DTSTART:20251206T110000
DTEND:20251206T120000
SUMMARY:CrossPoint - Wilbanks vs. CrossPoint - Orazine/Hamilton
DESCRIPTION:3rd/4th Girls - CrossPoint Church
LOCATION:CrossPoint Court 1
CATEGORIES:QuickScores; Basketball Game
TRANSP:0
DALARM:20251206T090000;PT10M;2;CrossPoint - Wilbanks vs. CrossPoint - Orazine/Hamilton
END:VEVENT
BEGIN:VEVENT
DTSTART:20251213T110000
DTEND:20251213T120000
SUMMARY:FBCT - Coleman vs. CrossPoint - Wilbanks
DESCRIPTION:3rd/4th Girls - CrossPoint Church
LOCATION:CrossPoint Court 2
CATEGORIES:QuickScores; Basketball Game
TRANSP:0
DALARM:20251213T090000;PT10M;2;FBCT - Coleman vs. CrossPoint - Wilbanks
END:VEVENT
BEGIN:VEVENT
DTSTART:20260103T110000
DTEND:20260103T120000
SUMMARY:CrossPoint - Wilbanks vs. Faith
DESCRIPTION:3rd/4th Girls - CrossPoint Church
LOCATION:CrossPoint Court 2
CATEGORIES:QuickScores; Basketball Game
TRANSP:0
DALARM:20260103T090000;PT10M;2;CrossPoint - Wilbanks vs. Faith
END:VEVENT
BEGIN:VEVENT
DTSTART:20260110T100000
DTEND:20260110T110000
SUMMARY:CrossPoint - Baker vs. CrossPoint - Wilbanks
DESCRIPTION:3rd/4th Girls - CrossPoint Church
LOCATION:CrossPoint Court 2
CATEGORIES:QuickScores; Basketball Game
TRANSP:0
DALARM:20260110T080000;PT10M;2;CrossPoint - Baker vs. CrossPoint - Wilbanks
END:VEVENT
BEGIN:VEVENT
DTSTART:20260124T110000
DTEND:20260124T120000
SUMMARY:FBCT - Spies vs. CrossPoint - Wilbanks
DESCRIPTION:3rd/4th Girls - CrossPoint Church
LOCATION:CrossPoint Court 2
CATEGORIES:QuickScores; Basketball Game
TRANSP:0
DALARM:20260124T090000;PT10M;2;FBCT - Spies vs. CrossPoint - Wilbanks
END:VEVENT
BEGIN:VEVENT
DTSTART:20260131T110000
DTEND:20260131T120000
SUMMARY:CrossPoint - Orazine/Hamilton vs. CrossPoint - Wilbanks
DESCRIPTION:3rd/4th Girls - CrossPoint Church
LOCATION:CrossPoint Court 1
CATEGORIES:QuickScores; Basketball Game
TRANSP:0
DALARM:20260131T090000;PT10M;2;CrossPoint - Orazine/Hamilton vs. CrossPoint - Wilbanks
END:VEVENT
BEGIN:VEVENT
DTSTART:20260207T100000
DTEND:20260207T110000
SUMMARY:CrossPoint - Wilbanks vs. FBCT - Coleman
DESCRIPTION:3rd/4th Girls - CrossPoint Church
LOCATION:CrossPoint Court 2
CATEGORIES:QuickScores; Basketball Game
TRANSP:0
DALARM:20260207T080000;PT10M;2;CrossPoint - Wilbanks vs. FBCT - Coleman
END:VEVENT
END:VCALENDAR
