BEGIN:VCALENDAR
VERSION:1.0
BEGIN:VEVENT
DTSTART:20241207T160500
DTEND:20241207T170500
SUMMARY:FBCT - Nevins vs. CrossPoint - Orazine
DESCRIPTION:5th/6th Boys - CrossPoint Church
LOCATION:CrossPoint Court 1
CATEGORIES:QuickScores; Basketball Game
TRANSP:0
DALARM:20241207T140500;PT10M;2;FBCT - Nevins vs. CrossPoint - Orazine
END:VEVENT
BEGIN:VEVENT
DTSTART:20241214T135500
DTEND:20241214T145500
SUMMARY:FBCT - Nevins vs. CrossPoint - Windham
DESCRIPTION:5th/6th Boys - CrossPoint Church
LOCATION:CrossPoint Court 1
CATEGORIES:QuickScores; Basketball Game
TRANSP:0
DALARM:20241214T115500;PT10M;2;FBCT - Nevins vs. CrossPoint - Windham
END:VEVENT
BEGIN:VEVENT
DTSTART:20250104T150000
DTEND:20250104T160000
SUMMARY:FBCT - King vs. FBCT - Nevins
DESCRIPTION:5th/6th Boys - CrossPoint Church
LOCATION:CrossPoint Court 2
CATEGORIES:QuickScores; Basketball Game
TRANSP:0
DALARM:20250104T130000;PT10M;2;FBCT - King vs. FBCT - Nevins
END:VEVENT
BEGIN:VEVENT
DTSTART:20250125T160500
DTEND:20250125T170500
SUMMARY:FBCT - Easterling vs. FBCT - Nevins
DESCRIPTION:5th/6th Boys - CrossPoint Church
LOCATION:CrossPoint Court 2
CATEGORIES:QuickScores; Basketball Game
TRANSP:0
DALARM:20250125T140500;PT10M;2;FBCT - Easterling vs. FBCT - Nevins
END:VEVENT
BEGIN:VEVENT
DTSTART:20250131T204500
DTEND:20250131T214500
SUMMARY:Faith vs. FBCT - Nevins
DESCRIPTION:5th/6th Boys - CrossPoint Church
LOCATION:CrossPoint Court 2
CATEGORIES:QuickScores; Basketball Game
TRANSP:0
DALARM:20250131T184500;PT10M;2;Faith vs. FBCT - Nevins
END:VEVENT
BEGIN:VEVENT
DTSTART:20250201T150000
DTEND:20250201T160000
SUMMARY:FBCT - Nevins vs. CrossPoint - Holmes
DESCRIPTION:5th/6th Boys - CrossPoint Church
LOCATION:CrossPoint Court 1
CATEGORIES:QuickScores; Basketball Game
TRANSP:0
DALARM:20250201T130000;PT10M;2;FBCT - Nevins vs. CrossPoint - Holmes
END:VEVENT
BEGIN:VEVENT
DTSTART:20250208T160500
DTEND:20250208T170500
SUMMARY:CrossPoint - Walker vs. FBCT - Nevins
DESCRIPTION:5th/6th Boys - CrossPoint Church
LOCATION:CrossPoint Court 2
CATEGORIES:QuickScores; Basketball Game
TRANSP:0
DALARM:20250208T140500;PT10M;2;CrossPoint - Walker vs. FBCT - Nevins
END:VEVENT
END:VCALENDAR
