BEGIN:VCALENDAR
VERSION:1.0
BEGIN:VEVENT
DTSTART:20241203T174500
DTEND:20241203T184500
SUMMARY:CrossPoint - Windham vs. CrossPoint - Walker
DESCRIPTION:5th/6th Boys - CrossPoint Church
LOCATION:CrossPoint Court 2
CATEGORIES:QuickScores; Basketball Game
TRANSP:0
DALARM:20241203T154500;PT10M;2;CrossPoint - Windham vs. CrossPoint - Walker
END:VEVENT
BEGIN:VEVENT
DTSTART:20241214T150000
DTEND:20241214T160000
SUMMARY:Faith vs. CrossPoint - Walker
DESCRIPTION:5th/6th Boys - CrossPoint Church
LOCATION:CrossPoint Court 1
CATEGORIES:QuickScores; Basketball Game
TRANSP:0
DALARM:20241214T130000;PT10M;2;Faith vs. CrossPoint - Walker
END:VEVENT
BEGIN:VEVENT
DTSTART:20250104T160500
DTEND:20250104T170500
SUMMARY:CrossPoint - Walker vs. CrossPoint - Orazine
DESCRIPTION:5th/6th Boys - CrossPoint Church
LOCATION:CrossPoint Court 1
CATEGORIES:QuickScores; Basketball Game
TRANSP:0
DALARM:20250104T140500;PT10M;2;CrossPoint - Walker vs. CrossPoint - Orazine
END:VEVENT
BEGIN:VEVENT
DTSTART:20250125T150000
DTEND:20250125T160000
SUMMARY:CrossPoint - Holmes vs. CrossPoint - Walker
DESCRIPTION:5th/6th Boys - CrossPoint Church
LOCATION:CrossPoint Court 2
CATEGORIES:QuickScores; Basketball Game
TRANSP:0
DALARM:20250125T130000;PT10M;2;CrossPoint - Holmes vs. CrossPoint - Walker
END:VEVENT
BEGIN:VEVENT
DTSTART:20250131T204500
DTEND:20250131T214500
SUMMARY:CrossPoint - Walker vs. FBCT - Easterling
DESCRIPTION:5th/6th Boys - CrossPoint Church
LOCATION:CrossPoint Court 1
CATEGORIES:QuickScores; Basketball Game
TRANSP:0
DALARM:20250131T184500;PT10M;2;CrossPoint - Walker vs. FBCT - Easterling
END:VEVENT
BEGIN:VEVENT
DTSTART:20250201T135500
DTEND:20250201T145500
SUMMARY:FBCT - King vs. CrossPoint - Walker
DESCRIPTION:5th/6th Boys - CrossPoint Church
LOCATION:CrossPoint Court 1
CATEGORIES:QuickScores; Basketball Game
TRANSP:0
DALARM:20250201T115500;PT10M;2;FBCT - King vs. CrossPoint - Walker
END:VEVENT
BEGIN:VEVENT
DTSTART:20250208T160500
DTEND:20250208T170500
SUMMARY:CrossPoint - Walker vs. FBCT - Nevins
DESCRIPTION:5th/6th Boys - CrossPoint Church
LOCATION:CrossPoint Court 2
CATEGORIES:QuickScores; Basketball Game
TRANSP:0
DALARM:20250208T140500;PT10M;2;CrossPoint - Walker vs. FBCT - Nevins
END:VEVENT
END:VCALENDAR
