BEGIN:VCALENDAR
VERSION:1.0
BEGIN:VEVENT
DTSTART:20260214T124500
DTEND:20260214T140000
SUMMARY:Practice: Lady Wild Things vs. Warhawks
DESCRIPTION:Scrimmage Day --- 8U - 
LOCATION:CPYL Little Field
CATEGORIES:QuickScores; Softball Game
TRANSP:0
DALARM:20260214T104500;PT10M;2;Practice: Lady Wild Things vs. Warhawks
END:VEVENT
BEGIN:VEVENT
DTSTART:20260218T190000
DTEND:20260218T200000
SUMMARY:Thunder vs. Lady Wild Things
DESCRIPTION:8U - 
LOCATION:CPYL Little Field
CATEGORIES:QuickScores; Softball Game
TRANSP:0
DALARM:20260218T170000;PT10M;2;Thunder vs. Lady Wild Things
END:VEVENT
BEGIN:VEVENT
DTSTART:20260223T190000
DTEND:20260223T200000
SUMMARY:Timberwolves vs. Lady Wild Things
DESCRIPTION:8U - 
LOCATION:CPYL Little Field
CATEGORIES:QuickScores; Softball Game
TRANSP:0
DALARM:20260223T170000;PT10M;2;Timberwolves vs. Lady Wild Things
END:VEVENT
BEGIN:VEVENT
DTSTART:20260228T104500
DTEND:20260228T114500
SUMMARY:Lady Wild Things vs. Sirens
DESCRIPTION:8U - 
LOCATION:CPYL Little Field
CATEGORIES:QuickScores; Softball Game
TRANSP:0
DALARM:20260228T084500;PT10M;2;Lady Wild Things vs. Sirens
END:VEVENT
BEGIN:VEVENT
DTSTART:20260311T190000
DTEND:20260311T200000
SUMMARY:Lady Wild Things vs. Thunder
DESCRIPTION:8U - 
LOCATION:CPYL Little Field
CATEGORIES:QuickScores; Softball Game
TRANSP:0
DALARM:20260311T170000;PT10M;2;Lady Wild Things vs. Thunder
END:VEVENT
BEGIN:VEVENT
DTSTART:20260323T190000
DTEND:20260323T200000
SUMMARY:Lady Wild Things vs. Timberwolves
DESCRIPTION:8U - 
LOCATION:CPYL Little Field
CATEGORIES:QuickScores; Softball Game
TRANSP:0
DALARM:20260323T170000;PT10M;2;Lady Wild Things vs. Timberwolves
END:VEVENT
BEGIN:VEVENT
DTSTART:20260328T093000
DTEND:20260328T103000
SUMMARY:Sirens vs. Lady Wild Things
DESCRIPTION:8U - 
LOCATION:CPYL Little Field
CATEGORIES:QuickScores; Softball Game
TRANSP:0
DALARM:20260328T073000;PT10M;2;Sirens vs. Lady Wild Things
END:VEVENT
BEGIN:VEVENT
DTSTART:20260401T190000
DTEND:20260401T200000
SUMMARY:Warhawks vs. Lady Wild Things
DESCRIPTION:8U - 
LOCATION:CPYL Little Field
CATEGORIES:QuickScores; Softball Game
TRANSP:0
DALARM:20260401T170000;PT10M;2;Warhawks vs. Lady Wild Things
END:VEVENT
BEGIN:VEVENT
DTSTART:20260411T090000
DTEND:20260411T100000
SUMMARY:Practice: Lago Vista Vikings 8U vs. Lady Wild Things
DESCRIPTION:Sunset Park: 21817 RM 1431, Lago Vista, TX 78645 --- 8U - 
LOCATION:Lago Vista
CATEGORIES:QuickScores; Softball Game
TRANSP:0
DALARM:20260411T070000;PT10M;2;Practice: Lago Vista Vikings 8U vs. Lady Wild Things
END:VEVENT
BEGIN:VEVENT
DTSTART:20260414T174500
DTEND:20260414T184500
SUMMARY:Lady Wild Things vs. Warhawks
DESCRIPTION:Game rescheduled from Sat 3/7/26, 12:00 PM at CPYL Little Field due to weather --- 8U - 
LOCATION:CPYL Little Field
CATEGORIES:QuickScores; Softball Game
TRANSP:0
DALARM:20260414T154500;PT10M;2;Lady Wild Things vs. Warhawks
END:VEVENT
BEGIN:VEVENT
DTSTART:20260415T190000
DTEND:20260415T200000
SUMMARY:Thunder vs. Lady Wild Things
DESCRIPTION:8U - 
LOCATION:CPYL Little Field
CATEGORIES:QuickScores; Softball Game
TRANSP:0
DALARM:20260415T170000;PT10M;2;Thunder vs. Lady Wild Things
END:VEVENT
BEGIN:VEVENT
DTSTART:20260424T190000
DTEND:20260424T200000
SUMMARY:Lady Wild Things vs. Sirens
DESCRIPTION:Rescheduled from 4/20 --- 8U - 
LOCATION:CPYL Little Field
CATEGORIES:QuickScores; Softball Game
TRANSP:0
DALARM:20260424T170000;PT10M;2;Lady Wild Things vs. Sirens
END:VEVENT
BEGIN:VEVENT
DTSTART:20260427T190000
DTEND:20260427T200000
SUMMARY:Timberwolves vs. Lady Wild Things
DESCRIPTION:8U - 
LOCATION:CPYL Little Field
CATEGORIES:QuickScores; Softball Game
TRANSP:0
DALARM:20260427T170000;PT10M;2;Timberwolves vs. Lady Wild Things
END:VEVENT
BEGIN:VEVENT
DTSTART:20260506T190000
DTEND:20260506T200000
SUMMARY:Lady Wild Things vs. Warhawks
DESCRIPTION:8U - 
LOCATION:CPYL Little Field
CATEGORIES:QuickScores; Softball Game
TRANSP:0
DALARM:20260506T170000;PT10M;2;Lady Wild Things vs. Warhawks
END:VEVENT
END:VCALENDAR
