BEGIN:VCALENDAR
VERSION:1.0
BEGIN:VEVENT
DTSTART:20260319T180000
DTEND:20260319T190000
SUMMARY:Rays vs. Rockies
DESCRIPTION:7/8 Softball - Columbia County Parks, Recreation, and Events
LOCATION:Patriots 13
CATEGORIES:QuickScores; Softball - Fastpitch Game
TRANSP:0
DALARM:20260319T160000;PT10M;2;Rays vs. Rockies
END:VEVENT
BEGIN:VEVENT
DTSTART:20260323T180000
DTEND:20260323T190000
SUMMARY:Rockies vs. Red Sox
DESCRIPTION:7/8 Softball - Columbia County Parks, Recreation, and Events
LOCATION:Patriots 13
CATEGORIES:QuickScores; Softball - Fastpitch Game
TRANSP:0
DALARM:20260323T160000;PT10M;2;Rockies vs. Red Sox
END:VEVENT
BEGIN:VEVENT
DTSTART:20260326T180000
DTEND:20260326T190000
SUMMARY:Tigers vs. Rockies
DESCRIPTION:7/8 Softball - Columbia County Parks, Recreation, and Events
LOCATION:Patriots 13
CATEGORIES:QuickScores; Softball - Fastpitch Game
TRANSP:0
DALARM:20260326T160000;PT10M;2;Tigers vs. Rockies
END:VEVENT
BEGIN:VEVENT
DTSTART:20260330T191000
DTEND:20260330T201000
SUMMARY:Rockies vs. Braves
DESCRIPTION:7/8 Softball - Columbia County Parks, Recreation, and Events
LOCATION:Patriots 13
CATEGORIES:QuickScores; Softball - Fastpitch Game
TRANSP:0
DALARM:20260330T171000;PT10M;2;Rockies vs. Braves
END:VEVENT
BEGIN:VEVENT
DTSTART:20260331T191000
DTEND:20260331T201000
SUMMARY:Rockies vs. White Sox
DESCRIPTION:7/8 Softball - Columbia County Parks, Recreation, and Events
LOCATION:Patriots 13
CATEGORIES:QuickScores; Softball - Fastpitch Game
TRANSP:0
DALARM:20260331T171000;PT10M;2;Rockies vs. White Sox
END:VEVENT
BEGIN:VEVENT
DTSTART:20260416T191000
DTEND:20260416T201000
SUMMARY:Rangers vs. Rockies
DESCRIPTION:7/8 Softball - Columbia County Parks, Recreation, and Events
LOCATION:Patriots 13
CATEGORIES:QuickScores; Softball - Fastpitch Game
TRANSP:0
DALARM:20260416T171000;PT10M;2;Rangers vs. Rockies
END:VEVENT
BEGIN:VEVENT
DTSTART:20260421T180000
DTEND:20260421T190000
SUMMARY:Red Sox vs. Rockies
DESCRIPTION:7/8 Softball - Columbia County Parks, Recreation, and Events
LOCATION:Patriots 13
CATEGORIES:QuickScores; Softball - Fastpitch Game
TRANSP:0
DALARM:20260421T160000;PT10M;2;Red Sox vs. Rockies
END:VEVENT
BEGIN:VEVENT
DTSTART:20260423T191000
DTEND:20260423T201000
SUMMARY:Rockies vs. Tigers
DESCRIPTION:7/8 Softball - Columbia County Parks, Recreation, and Events
LOCATION:Patriots 13
CATEGORIES:QuickScores; Softball - Fastpitch Game
TRANSP:0
DALARM:20260423T171000;PT10M;2;Rockies vs. Tigers
END:VEVENT
END:VCALENDAR
