BEGIN:VCALENDAR
VERSION:1.0
BEGIN:VEVENT
DTSTART:20260305T200000
DTEND:20260305T203000
SUMMARY:Thursday Dinkers vs. The Little Dinkers
DESCRIPTION:Harrison Thursday Coed Doubles Adult Pickleball League - Cobb County PARKS
LOCATION:Harrison Court 6
CATEGORIES:QuickScores; Pickleball Game
TRANSP:0
DALARM:20260305T180000;PT10M;2;Thursday Dinkers vs. The Little Dinkers
END:VEVENT
BEGIN:VEVENT
DTSTART:20260305T203000
DTEND:20260305T210000
SUMMARY:Ball Busters vs. Thursday Dinkers
DESCRIPTION:Harrison Thursday Coed Doubles Adult Pickleball League - Cobb County PARKS
LOCATION:Harrison Court 4
CATEGORIES:QuickScores; Pickleball Game
TRANSP:0
DALARM:20260305T183000;PT10M;2;Ball Busters vs. Thursday Dinkers
END:VEVENT
BEGIN:VEVENT
DTSTART:20260312T193000
DTEND:20260312T200000
SUMMARY:The Baxters vs. Thursday Dinkers
DESCRIPTION:Harrison Thursday Coed Doubles Adult Pickleball League - Cobb County PARKS
LOCATION:Harrison Court 6
CATEGORIES:QuickScores; Pickleball Game
TRANSP:0
DALARM:20260312T173000;PT10M;2;The Baxters vs. Thursday Dinkers
END:VEVENT
BEGIN:VEVENT
DTSTART:20260312T203000
DTEND:20260312T210000
SUMMARY:Thursday Dinkers vs. Dinkin’ Dillies
DESCRIPTION:Harrison Thursday Coed Doubles Adult Pickleball League - Cobb County PARKS
LOCATION:Harrison Court 6
CATEGORIES:QuickScores; Pickleball Game
TRANSP:0
DALARM:20260312T183000;PT10M;2;Thursday Dinkers vs. Dinkin’ Dillies
END:VEVENT
BEGIN:VEVENT
DTSTART:20260319T183000
DTEND:20260319T190000
SUMMARY:Thursday Dinkers vs. Dinkin Dawgs
DESCRIPTION:Harrison Thursday Coed Doubles Adult Pickleball League - Cobb County PARKS
LOCATION:Harrison Court 5
CATEGORIES:QuickScores; Pickleball Game
TRANSP:0
DALARM:20260319T163000;PT10M;2;Thursday Dinkers vs. Dinkin Dawgs
END:VEVENT
BEGIN:VEVENT
DTSTART:20260319T190000
DTEND:20260319T193000
SUMMARY:Thursday Dinkers vs. Pickle Ticklers
DESCRIPTION:Harrison Thursday Coed Doubles Adult Pickleball League - Cobb County PARKS
LOCATION:Harrison Court 5
CATEGORIES:QuickScores; Pickleball Game
TRANSP:0
DALARM:20260319T170000;PT10M;2;Thursday Dinkers vs. Pickle Ticklers
END:VEVENT
BEGIN:VEVENT
DTSTART:20260326T200000
DTEND:20260326T203000
SUMMARY:Tanghulu vs. Thursday Dinkers
DESCRIPTION:Harrison Thursday Coed Doubles Adult Pickleball League - Cobb County PARKS
LOCATION:Harrison Court 5
CATEGORIES:QuickScores; Pickleball Game
TRANSP:0
DALARM:20260326T180000;PT10M;2;Tanghulu vs. Thursday Dinkers
END:VEVENT
BEGIN:VEVENT
DTSTART:20260326T203000
DTEND:20260326T210000
SUMMARY:Thursday Dinkers vs. Pickle Ticklers
DESCRIPTION:Harrison Thursday Coed Doubles Adult Pickleball League - Cobb County PARKS
LOCATION:Harrison Court 5
CATEGORIES:QuickScores; Pickleball Game
TRANSP:0
DALARM:20260326T183000;PT10M;2;Thursday Dinkers vs. Pickle Ticklers
END:VEVENT
BEGIN:VEVENT
DTSTART:20260402T190000
DTEND:20260402T193000
SUMMARY:Dinkin’ Dillies vs. Thursday Dinkers
DESCRIPTION:Harrison Thursday Coed Doubles Adult Pickleball League - Cobb County PARKS
LOCATION:Harrison Court 6
CATEGORIES:QuickScores; Pickleball Game
TRANSP:0
DALARM:20260402T170000;PT10M;2;Dinkin’ Dillies vs. Thursday Dinkers
END:VEVENT
BEGIN:VEVENT
DTSTART:20260402T193000
DTEND:20260402T200000
SUMMARY:Thursday Dinkers vs. Ball Busters
DESCRIPTION:Harrison Thursday Coed Doubles Adult Pickleball League - Cobb County PARKS
LOCATION:Harrison Court 6
CATEGORIES:QuickScores; Pickleball Game
TRANSP:0
DALARM:20260402T173000;PT10M;2;Thursday Dinkers vs. Ball Busters
END:VEVENT
BEGIN:VEVENT
DTSTART:20260416T183000
DTEND:20260416T190000
SUMMARY:Pickle Ticklers vs. Thursday Dinkers
DESCRIPTION:Harrison Thursday Coed Doubles Adult Pickleball League - Cobb County PARKS
LOCATION:Harrison Court 4
CATEGORIES:QuickScores; Pickleball Game
TRANSP:0
DALARM:20260416T163000;PT10M;2;Pickle Ticklers vs. Thursday Dinkers
END:VEVENT
BEGIN:VEVENT
DTSTART:20260416T190000
DTEND:20260416T193000
SUMMARY:Shaken Not Served vs. Thursday Dinkers
DESCRIPTION:Harrison Thursday Coed Doubles Adult Pickleball League - Cobb County PARKS
LOCATION:Harrison Court 4
CATEGORIES:QuickScores; Pickleball Game
TRANSP:0
DALARM:20260416T170000;PT10M;2;Shaken Not Served vs. Thursday Dinkers
END:VEVENT
END:VCALENDAR
