BEGIN:VCALENDAR
VERSION:1.0
BEGIN:VEVENT
DTSTART:20260305T183000
DTEND:20260305T190000
SUMMARY:heat wave vs. Pickle Me Elmo
DESCRIPTION:Harrison Thursday Coed Doubles Adult Pickleball League - Cobb County PARKS
LOCATION:Harrison Court 5
CATEGORIES:QuickScores; Pickleball Game
TRANSP:0
DALARM:20260305T163000;PT10M;2;heat wave vs. Pickle Me Elmo
END:VEVENT
BEGIN:VEVENT
DTSTART:20260305T193000
DTEND:20260305T200000
SUMMARY:Pickle Me Elmo vs. The Kitchen Violators
DESCRIPTION:Harrison Thursday Coed Doubles Adult Pickleball League - Cobb County PARKS
LOCATION:Harrison Court 5
CATEGORIES:QuickScores; Pickleball Game
TRANSP:0
DALARM:20260305T173000;PT10M;2;Pickle Me Elmo vs. The Kitchen Violators
END:VEVENT
BEGIN:VEVENT
DTSTART:20260312T183000
DTEND:20260312T190000
SUMMARY:Pickle Me Elmo vs. Two-morrows
DESCRIPTION:Harrison Thursday Coed Doubles Adult Pickleball League - Cobb County PARKS
LOCATION:Harrison Court 5
CATEGORIES:QuickScores; Pickleball Game
TRANSP:0
DALARM:20260312T163000;PT10M;2;Pickle Me Elmo vs. Two-morrows
END:VEVENT
BEGIN:VEVENT
DTSTART:20260312T190000
DTEND:20260312T193000
SUMMARY:The Kitchen Violators vs. Pickle Me Elmo
DESCRIPTION:Harrison Thursday Coed Doubles Adult Pickleball League - Cobb County PARKS
LOCATION:Harrison Court 3
CATEGORIES:QuickScores; Pickleball Game
TRANSP:0
DALARM:20260312T170000;PT10M;2;The Kitchen Violators vs. Pickle Me Elmo
END:VEVENT
BEGIN:VEVENT
DTSTART:20260319T200000
DTEND:20260319T203000
SUMMARY:Pickle Me Elmo vs. Two-morrows
DESCRIPTION:Harrison Thursday Coed Doubles Adult Pickleball League - Cobb County PARKS
LOCATION:Harrison Court 6
CATEGORIES:QuickScores; Pickleball Game
TRANSP:0
DALARM:20260319T180000;PT10M;2;Pickle Me Elmo vs. Two-morrows
END:VEVENT
BEGIN:VEVENT
DTSTART:20260319T203000
DTEND:20260319T210000
SUMMARY:heat wave vs. Pickle Me Elmo
DESCRIPTION:Harrison Thursday Coed Doubles Adult Pickleball League - Cobb County PARKS
LOCATION:Harrison Court 6
CATEGORIES:QuickScores; Pickleball Game
TRANSP:0
DALARM:20260319T183000;PT10M;2;heat wave vs. Pickle Me Elmo
END:VEVENT
BEGIN:VEVENT
DTSTART:20260326T183000
DTEND:20260326T190000
SUMMARY:Pickle Me Elmo vs. Big Kosher Dill
DESCRIPTION:Harrison Thursday Coed Doubles Adult Pickleball League - Cobb County PARKS
LOCATION:Harrison Court 3
CATEGORIES:QuickScores; Pickleball Game
TRANSP:0
DALARM:20260326T163000;PT10M;2;Pickle Me Elmo vs. Big Kosher Dill
END:VEVENT
BEGIN:VEVENT
DTSTART:20260326T190000
DTEND:20260326T193000
SUMMARY:Pickle Me Elmo vs. In a pickle
DESCRIPTION:Harrison Thursday Coed Doubles Adult Pickleball League - Cobb County PARKS
LOCATION:Harrison Court 4
CATEGORIES:QuickScores; Pickleball Game
TRANSP:0
DALARM:20260326T170000;PT10M;2;Pickle Me Elmo vs. In a pickle
END:VEVENT
BEGIN:VEVENT
DTSTART:20260402T200000
DTEND:20260402T203000
SUMMARY:Gin&Juice vs. Pickle Me Elmo
DESCRIPTION:Harrison Thursday Coed Doubles Adult Pickleball League - Cobb County PARKS
LOCATION:Harrison Court 5
CATEGORIES:QuickScores; Pickleball Game
TRANSP:0
DALARM:20260402T180000;PT10M;2;Gin&Juice vs. Pickle Me Elmo
END:VEVENT
BEGIN:VEVENT
DTSTART:20260402T203000
DTEND:20260402T210000
SUMMARY:Two-morrows vs. Pickle Me Elmo
DESCRIPTION:Harrison Thursday Coed Doubles Adult Pickleball League - Cobb County PARKS
LOCATION:Harrison Court 4
CATEGORIES:QuickScores; Pickleball Game
TRANSP:0
DALARM:20260402T183000;PT10M;2;Two-morrows vs. Pickle Me Elmo
END:VEVENT
BEGIN:VEVENT
DTSTART:20260416T193000
DTEND:20260416T200000
SUMMARY:Two-morrows vs. Pickle Me Elmo
DESCRIPTION:Harrison Thursday Coed Doubles Adult Pickleball League - Cobb County PARKS
LOCATION:Harrison Court 4
CATEGORIES:QuickScores; Pickleball Game
TRANSP:0
DALARM:20260416T173000;PT10M;2;Two-morrows vs. Pickle Me Elmo
END:VEVENT
BEGIN:VEVENT
DTSTART:20260416T203000
DTEND:20260416T210000
SUMMARY:In a pickle vs. Pickle Me Elmo
DESCRIPTION:Harrison Thursday Coed Doubles Adult Pickleball League - Cobb County PARKS
LOCATION:Harrison Court 4
CATEGORIES:QuickScores; Pickleball Game
TRANSP:0
DALARM:20260416T183000;PT10M;2;In a pickle vs. Pickle Me Elmo
END:VEVENT
END:VCALENDAR
