BEGIN:VCALENDAR
VERSION:1.0
BEGIN:VEVENT
DTSTART:20260310T200000
DTEND:20260310T210000
SUMMARY:Golden Girls vs. Spike Girls
DESCRIPTION:Tuesday Women's A/BB Volleyball League - Cobb County PARKS
LOCATION:Fair Oaks Volleyball Court 2
CATEGORIES:QuickScores; Volleyball - Adult Game
TRANSP:0
DALARM:20260310T180000;PT10M;2;Golden Girls vs. Spike Girls
END:VEVENT
BEGIN:VEVENT
DTSTART:20260317T190000
DTEND:20260317T200000
SUMMARY:5 Hitters and 1 Setter vs. Golden Girls
DESCRIPTION:Tuesday Women's A/BB Volleyball League - Cobb County PARKS
LOCATION:Fair Oaks Volleyball Court 2
CATEGORIES:QuickScores; Volleyball - Adult Game
TRANSP:0
DALARM:20260317T170000;PT10M;2;5 Hitters and 1 Setter vs. Golden Girls
END:VEVENT
BEGIN:VEVENT
DTSTART:20260324T190000
DTEND:20260324T200000
SUMMARY:Golden Girls vs. Team 1
DESCRIPTION:Tuesday Women's A/BB Volleyball League - Cobb County PARKS
LOCATION:Fair Oaks Volleyball Court 2
CATEGORIES:QuickScores; Volleyball - Adult Game
TRANSP:0
DALARM:20260324T170000;PT10M;2;Golden Girls vs. Team 1
END:VEVENT
BEGIN:VEVENT
DTSTART:20260331T210000
DTEND:20260331T220000
SUMMARY:5 Hitters and 1 Setter vs. Golden Girls
DESCRIPTION:Tuesday Women's A/BB Volleyball League - Cobb County PARKS
LOCATION:Fair Oaks Volleyball Court 2
CATEGORIES:QuickScores; Volleyball - Adult Game
TRANSP:0
DALARM:20260331T190000;PT10M;2;5 Hitters and 1 Setter vs. Golden Girls
END:VEVENT
BEGIN:VEVENT
DTSTART:20260414T200000
DTEND:20260414T210000
SUMMARY:Team 1 vs. Golden Girls
DESCRIPTION:Tuesday Women's A/BB Volleyball League - Cobb County PARKS
LOCATION:Fair Oaks Volleyball Court 2
CATEGORIES:QuickScores; Volleyball - Adult Game
TRANSP:0
DALARM:20260414T180000;PT10M;2;Team 1 vs. Golden Girls
END:VEVENT
BEGIN:VEVENT
DTSTART:20260414T210000
DTEND:20260414T220000
SUMMARY:Spike Girls vs. Golden Girls
DESCRIPTION:Tuesday Women's A/BB Volleyball League - Cobb County PARKS
LOCATION:Fair Oaks Volleyball Court 2
CATEGORIES:QuickScores; Volleyball - Adult Game
TRANSP:0
DALARM:20260414T190000;PT10M;2;Spike Girls vs. Golden Girls
END:VEVENT
BEGIN:VEVENT
DTSTART:20260421T200000
DTEND:20260421T210000
SUMMARY:Golden Girls vs. Block Party
DESCRIPTION:Tuesday Women's A/BB Volleyball League - Cobb County PARKS
LOCATION:Fair Oaks Volleyball Court 2
CATEGORIES:QuickScores; Volleyball - Adult Game
TRANSP:0
DALARM:20260421T180000;PT10M;2;Golden Girls vs. Block Party
END:VEVENT
BEGIN:VEVENT
DTSTART:20260428T190000
DTEND:20260428T200000
SUMMARY:Golden Girls vs. 5 Hitters and 1 Setter
DESCRIPTION:Tuesday Women's A/BB Volleyball League - Cobb County PARKS
LOCATION:Fair Oaks Volleyball Court 2
CATEGORIES:QuickScores; Volleyball - Adult Game
TRANSP:0
DALARM:20260428T170000;PT10M;2;Golden Girls vs. 5 Hitters and 1 Setter
END:VEVENT
END:VCALENDAR
