BEGIN:VCALENDAR
VERSION:1.0
BEGIN:VEVENT
DTSTART:20260305T183000
DTEND:20260305T190000
SUMMARY:Dinkin Dawgs vs. Pickle Ticklers
DESCRIPTION:Harrison Thursday Coed Doubles Adult Pickleball League - Cobb County PARKS
LOCATION:Harrison Court 6
CATEGORIES:QuickScores; Pickleball Game
TRANSP:0
DALARM:20260305T163000;PT10M;2;Dinkin Dawgs vs. Pickle Ticklers
END:VEVENT
BEGIN:VEVENT
DTSTART:20260305T190000
DTEND:20260305T193000
SUMMARY:Dinkin Dawgs vs. Tanghulu
DESCRIPTION:Harrison Thursday Coed Doubles Adult Pickleball League - Cobb County PARKS
LOCATION:Harrison Court 3
CATEGORIES:QuickScores; Pickleball Game
TRANSP:0
DALARM:20260305T170000;PT10M;2;Dinkin Dawgs vs. Tanghulu
END:VEVENT
BEGIN:VEVENT
DTSTART:20260312T183000
DTEND:20260312T190000
SUMMARY:The Baxters vs. Dinkin Dawgs
DESCRIPTION:Harrison Thursday Coed Doubles Adult Pickleball League - Cobb County PARKS
LOCATION:Harrison Court 4
CATEGORIES:QuickScores; Pickleball Game
TRANSP:0
DALARM:20260312T163000;PT10M;2;The Baxters vs. Dinkin Dawgs
END:VEVENT
BEGIN:VEVENT
DTSTART:20260312T190000
DTEND:20260312T193000
SUMMARY:Ball Busters vs. Dinkin Dawgs
DESCRIPTION:Harrison Thursday Coed Doubles Adult Pickleball League - Cobb County PARKS
LOCATION:Harrison Court 4
CATEGORIES:QuickScores; Pickleball Game
TRANSP:0
DALARM:20260312T170000;PT10M;2;Ball Busters vs. Dinkin Dawgs
END:VEVENT
BEGIN:VEVENT
DTSTART:20260319T183000
DTEND:20260319T190000
SUMMARY:Thursday Dinkers vs. Dinkin Dawgs
DESCRIPTION:Harrison Thursday Coed Doubles Adult Pickleball League - Cobb County PARKS
LOCATION:Harrison Court 5
CATEGORIES:QuickScores; Pickleball Game
TRANSP:0
DALARM:20260319T163000;PT10M;2;Thursday Dinkers vs. Dinkin Dawgs
END:VEVENT
BEGIN:VEVENT
DTSTART:20260319T190000
DTEND:20260319T193000
SUMMARY:Dinkin Dawgs vs. Dinkin’ Dillies
DESCRIPTION:Harrison Thursday Coed Doubles Adult Pickleball League - Cobb County PARKS
LOCATION:Harrison Court 4
CATEGORIES:QuickScores; Pickleball Game
TRANSP:0
DALARM:20260319T170000;PT10M;2;Dinkin Dawgs vs. Dinkin’ Dillies
END:VEVENT
BEGIN:VEVENT
DTSTART:20260326T200000
DTEND:20260326T203000
SUMMARY:Dinkin Dawgs vs. The Little Dinkers
DESCRIPTION:Harrison Thursday Coed Doubles Adult Pickleball League - Cobb County PARKS
LOCATION:Harrison Court 4
CATEGORIES:QuickScores; Pickleball Game
TRANSP:0
DALARM:20260326T180000;PT10M;2;Dinkin Dawgs vs. The Little Dinkers
END:VEVENT
BEGIN:VEVENT
DTSTART:20260326T203000
DTEND:20260326T210000
SUMMARY:Shaken Not Served vs. Dinkin Dawgs
DESCRIPTION:Harrison Thursday Coed Doubles Adult Pickleball League - Cobb County PARKS
LOCATION:Harrison Court 4
CATEGORIES:QuickScores; Pickleball Game
TRANSP:0
DALARM:20260326T183000;PT10M;2;Shaken Not Served vs. Dinkin Dawgs
END:VEVENT
BEGIN:VEVENT
DTSTART:20260402T200000
DTEND:20260402T203000
SUMMARY:Dinkin Dawgs vs. Ball Busters
DESCRIPTION:Harrison Thursday Coed Doubles Adult Pickleball League - Cobb County PARKS
LOCATION:Harrison Court 6
CATEGORIES:QuickScores; Pickleball Game
TRANSP:0
DALARM:20260402T180000;PT10M;2;Dinkin Dawgs vs. Ball Busters
END:VEVENT
BEGIN:VEVENT
DTSTART:20260402T203000
DTEND:20260402T210000
SUMMARY:Dinkin Dawgs vs. The Baxters
DESCRIPTION:Harrison Thursday Coed Doubles Adult Pickleball League - Cobb County PARKS
LOCATION:Harrison Court 6
CATEGORIES:QuickScores; Pickleball Game
TRANSP:0
DALARM:20260402T183000;PT10M;2;Dinkin Dawgs vs. The Baxters
END:VEVENT
BEGIN:VEVENT
DTSTART:20260416T193000
DTEND:20260416T200000
SUMMARY:Tanghulu vs. Dinkin Dawgs
DESCRIPTION:Harrison Thursday Coed Doubles Adult Pickleball League - Cobb County PARKS
LOCATION:Harrison Court 5
CATEGORIES:QuickScores; Pickleball Game
TRANSP:0
DALARM:20260416T173000;PT10M;2;Tanghulu vs. Dinkin Dawgs
END:VEVENT
BEGIN:VEVENT
DTSTART:20260416T203000
DTEND:20260416T210000
SUMMARY:The Little Dinkers vs. Dinkin Dawgs
DESCRIPTION:Harrison Thursday Coed Doubles Adult Pickleball League - Cobb County PARKS
LOCATION:Harrison Court 5
CATEGORIES:QuickScores; Pickleball Game
TRANSP:0
DALARM:20260416T183000;PT10M;2;The Little Dinkers vs. Dinkin Dawgs
END:VEVENT
END:VCALENDAR
