BEGIN:VCALENDAR
VERSION:1.0
BEGIN:VEVENT
DTSTART:20260305T200000
DTEND:20260305T203000
SUMMARY:That’s What She Said vs. In a pickle
DESCRIPTION:Harrison Thursday Coed Doubles Adult Pickleball League - Cobb County PARKS
LOCATION:Harrison Court 5
CATEGORIES:QuickScores; Pickleball Game
TRANSP:0
DALARM:20260305T180000;PT10M;2;That’s What She Said vs. In a pickle
END:VEVENT
BEGIN:VEVENT
DTSTART:20260305T203000
DTEND:20260305T210000
SUMMARY:That’s What She Said vs. Gin&Juice
DESCRIPTION:Harrison Thursday Coed Doubles Adult Pickleball League - Cobb County PARKS
LOCATION:Harrison Court 5
CATEGORIES:QuickScores; Pickleball Game
TRANSP:0
DALARM:20260305T183000;PT10M;2;That’s What She Said vs. Gin&Juice
END:VEVENT
BEGIN:VEVENT
DTSTART:20260312T183000
DTEND:20260312T190000
SUMMARY:The Kitchen Violators vs. That’s What She Said
DESCRIPTION:Harrison Thursday Coed Doubles Adult Pickleball League - Cobb County PARKS
LOCATION:Harrison Court 3
CATEGORIES:QuickScores; Pickleball Game
TRANSP:0
DALARM:20260312T163000;PT10M;2;The Kitchen Violators vs. That’s What She Said
END:VEVENT
BEGIN:VEVENT
DTSTART:20260312T193000
DTEND:20260312T200000
SUMMARY:In a pickle vs. That’s What She Said
DESCRIPTION:Harrison Thursday Coed Doubles Adult Pickleball League - Cobb County PARKS
LOCATION:Harrison Court 5
CATEGORIES:QuickScores; Pickleball Game
TRANSP:0
DALARM:20260312T173000;PT10M;2;In a pickle vs. That’s What She Said
END:VEVENT
BEGIN:VEVENT
DTSTART:20260319T193000
DTEND:20260319T200000
SUMMARY:Big Kosher Dill vs. That’s What She Said
DESCRIPTION:Harrison Thursday Coed Doubles Adult Pickleball League - Cobb County PARKS
LOCATION:Harrison Court 4
CATEGORIES:QuickScores; Pickleball Game
TRANSP:0
DALARM:20260319T173000;PT10M;2;Big Kosher Dill vs. That’s What She Said
END:VEVENT
BEGIN:VEVENT
DTSTART:20260319T203000
DTEND:20260319T210000
SUMMARY:That’s What She Said vs. Gin&Juice
DESCRIPTION:Harrison Thursday Coed Doubles Adult Pickleball League - Cobb County PARKS
LOCATION:Harrison Court 4
CATEGORIES:QuickScores; Pickleball Game
TRANSP:0
DALARM:20260319T183000;PT10M;2;That’s What She Said vs. Gin&Juice
END:VEVENT
BEGIN:VEVENT
DTSTART:20260326T183000
DTEND:20260326T190000
SUMMARY:Two-morrows vs. That’s What She Said
DESCRIPTION:Harrison Thursday Coed Doubles Adult Pickleball League - Cobb County PARKS
LOCATION:Harrison Court 6
CATEGORIES:QuickScores; Pickleball Game
TRANSP:0
DALARM:20260326T163000;PT10M;2;Two-morrows vs. That’s What She Said
END:VEVENT
BEGIN:VEVENT
DTSTART:20260326T190000
DTEND:20260326T193000
SUMMARY:Big Kosher Dill vs. That’s What She Said
DESCRIPTION:Harrison Thursday Coed Doubles Adult Pickleball League - Cobb County PARKS
LOCATION:Harrison Court 3
CATEGORIES:QuickScores; Pickleball Game
TRANSP:0
DALARM:20260326T170000;PT10M;2;Big Kosher Dill vs. That’s What She Said
END:VEVENT
BEGIN:VEVENT
DTSTART:20260402T183000
DTEND:20260402T190000
SUMMARY:In a pickle vs. That’s What She Said
DESCRIPTION:Harrison Thursday Coed Doubles Adult Pickleball League - Cobb County PARKS
LOCATION:Harrison Court 5
CATEGORIES:QuickScores; Pickleball Game
TRANSP:0
DALARM:20260402T163000;PT10M;2;In a pickle vs. That’s What She Said
END:VEVENT
BEGIN:VEVENT
DTSTART:20260402T190000
DTEND:20260402T193000
SUMMARY:That’s What She Said vs. heat wave
DESCRIPTION:Harrison Thursday Coed Doubles Adult Pickleball League - Cobb County PARKS
LOCATION:Harrison Court 5
CATEGORIES:QuickScores; Pickleball Game
TRANSP:0
DALARM:20260402T170000;PT10M;2;That’s What She Said vs. heat wave
END:VEVENT
BEGIN:VEVENT
DTSTART:20260416T190000
DTEND:20260416T193000
SUMMARY:Gin&Juice vs. That’s What She Said
DESCRIPTION:Harrison Thursday Coed Doubles Adult Pickleball League - Cobb County PARKS
LOCATION:Harrison Court 6
CATEGORIES:QuickScores; Pickleball Game
TRANSP:0
DALARM:20260416T170000;PT10M;2;Gin&Juice vs. That’s What She Said
END:VEVENT
BEGIN:VEVENT
DTSTART:20260416T193000
DTEND:20260416T200000
SUMMARY:That’s What She Said vs. heat wave
DESCRIPTION:Harrison Thursday Coed Doubles Adult Pickleball League - Cobb County PARKS
LOCATION:Harrison Court 6
CATEGORIES:QuickScores; Pickleball Game
TRANSP:0
DALARM:20260416T173000;PT10M;2;That’s What She Said vs. heat wave
END:VEVENT
END:VCALENDAR
