BEGIN:VCALENDAR
VERSION:1.0
BEGIN:VEVENT
DTSTART:20260305T193000
DTEND:20260305T200000
SUMMARY:The Baxters vs. Shaken Not Served
DESCRIPTION:Harrison Thursday Coed Doubles Adult Pickleball League - Cobb County PARKS
LOCATION:Harrison Court 4
CATEGORIES:QuickScores; Pickleball Game
TRANSP:0
DALARM:20260305T173000;PT10M;2;The Baxters vs. Shaken Not Served
END:VEVENT
BEGIN:VEVENT
DTSTART:20260305T200000
DTEND:20260305T203000
SUMMARY:The Baxters vs. Ball Busters
DESCRIPTION:Harrison Thursday Coed Doubles Adult Pickleball League - Cobb County PARKS
LOCATION:Harrison Court 4
CATEGORIES:QuickScores; Pickleball Game
TRANSP:0
DALARM:20260305T180000;PT10M;2;The Baxters vs. Ball Busters
END:VEVENT
BEGIN:VEVENT
DTSTART:20260312T183000
DTEND:20260312T190000
SUMMARY:The Baxters vs. Dinkin Dawgs
DESCRIPTION:Harrison Thursday Coed Doubles Adult Pickleball League - Cobb County PARKS
LOCATION:Harrison Court 4
CATEGORIES:QuickScores; Pickleball Game
TRANSP:0
DALARM:20260312T163000;PT10M;2;The Baxters vs. Dinkin Dawgs
END:VEVENT
BEGIN:VEVENT
DTSTART:20260312T193000
DTEND:20260312T200000
SUMMARY:The Baxters vs. Thursday Dinkers
DESCRIPTION:Harrison Thursday Coed Doubles Adult Pickleball League - Cobb County PARKS
LOCATION:Harrison Court 6
CATEGORIES:QuickScores; Pickleball Game
TRANSP:0
DALARM:20260312T173000;PT10M;2;The Baxters vs. Thursday Dinkers
END:VEVENT
BEGIN:VEVENT
DTSTART:20260319T190000
DTEND:20260319T193000
SUMMARY:The Little Dinkers vs. The Baxters
DESCRIPTION:Harrison Thursday Coed Doubles Adult Pickleball League - Cobb County PARKS
LOCATION:Harrison Court 3
CATEGORIES:QuickScores; Pickleball Game
TRANSP:0
DALARM:20260319T170000;PT10M;2;The Little Dinkers vs. The Baxters
END:VEVENT
BEGIN:VEVENT
DTSTART:20260319T200000
DTEND:20260319T203000
SUMMARY:Tanghulu vs. The Baxters
DESCRIPTION:Harrison Thursday Coed Doubles Adult Pickleball League - Cobb County PARKS
LOCATION:Harrison Court 5
CATEGORIES:QuickScores; Pickleball Game
TRANSP:0
DALARM:20260319T180000;PT10M;2;Tanghulu vs. The Baxters
END:VEVENT
BEGIN:VEVENT
DTSTART:20260326T190000
DTEND:20260326T193000
SUMMARY:The Baxters vs. Ball Busters
DESCRIPTION:Harrison Thursday Coed Doubles Adult Pickleball League - Cobb County PARKS
LOCATION:Harrison Court 5
CATEGORIES:QuickScores; Pickleball Game
TRANSP:0
DALARM:20260326T170000;PT10M;2;The Baxters vs. Ball Busters
END:VEVENT
BEGIN:VEVENT
DTSTART:20260326T193000
DTEND:20260326T200000
SUMMARY:Shaken Not Served vs. The Baxters
DESCRIPTION:Harrison Thursday Coed Doubles Adult Pickleball League - Cobb County PARKS
LOCATION:Harrison Court 4
CATEGORIES:QuickScores; Pickleball Game
TRANSP:0
DALARM:20260326T173000;PT10M;2;Shaken Not Served vs. The Baxters
END:VEVENT
BEGIN:VEVENT
DTSTART:20260402T200000
DTEND:20260402T203000
SUMMARY:The Baxters vs. Tanghulu
DESCRIPTION:Harrison Thursday Coed Doubles Adult Pickleball League - Cobb County PARKS
LOCATION:Harrison Court 4
CATEGORIES:QuickScores; Pickleball Game
TRANSP:0
DALARM:20260402T180000;PT10M;2;The Baxters vs. Tanghulu
END:VEVENT
BEGIN:VEVENT
DTSTART:20260402T203000
DTEND:20260402T210000
SUMMARY:Dinkin Dawgs vs. The Baxters
DESCRIPTION:Harrison Thursday Coed Doubles Adult Pickleball League - Cobb County PARKS
LOCATION:Harrison Court 6
CATEGORIES:QuickScores; Pickleball Game
TRANSP:0
DALARM:20260402T183000;PT10M;2;Dinkin Dawgs vs. The Baxters
END:VEVENT
BEGIN:VEVENT
DTSTART:20260416T183000
DTEND:20260416T190000
SUMMARY:The Baxters vs. Shaken Not Served
DESCRIPTION:Harrison Thursday Coed Doubles Adult Pickleball League - Cobb County PARKS
LOCATION:Harrison Court 3
CATEGORIES:QuickScores; Pickleball Game
TRANSP:0
DALARM:20260416T163000;PT10M;2;The Baxters vs. Shaken Not Served
END:VEVENT
BEGIN:VEVENT
DTSTART:20260416T190000
DTEND:20260416T193000
SUMMARY:Dinkin’ Dillies vs. The Baxters
DESCRIPTION:Harrison Thursday Coed Doubles Adult Pickleball League - Cobb County PARKS
LOCATION:Harrison Court 3
CATEGORIES:QuickScores; Pickleball Game
TRANSP:0
DALARM:20260416T170000;PT10M;2;Dinkin’ Dillies vs. The Baxters
END:VEVENT
END:VCALENDAR
