BEGIN:VCALENDAR
VERSION:1.0
BEGIN:VEVENT
DTSTART:20260317T180000
DTEND:20260317T191500
SUMMARY:Honey Badgers vs. Bandits
DESCRIPTION:8U Softball - 
LOCATION:York Field 1
CATEGORIES:QuickScores; Softball - Fastpitch Game
TRANSP:0
DALARM:20260317T160000;PT10M;2;Honey Badgers vs. Bandits
END:VEVENT
BEGIN:VEVENT
DTSTART:20260318T180000
DTEND:20260318T191500
SUMMARY:Bandits vs. Twisters
DESCRIPTION:Game rescheduled from Mon 3/16/26, 6:00 PM at Roosevelt Field 2 due to weather --- 8U Softball - 
LOCATION:Roosevelt Field 2
CATEGORIES:QuickScores; Softball - Fastpitch Game
TRANSP:0
DALARM:20260318T160000;PT10M;2;Bandits vs. Twisters
END:VEVENT
BEGIN:VEVENT
DTSTART:20260324T180000
DTEND:20260324T191500
SUMMARY:Bandits vs. Cowboys
DESCRIPTION:8U Softball - 
LOCATION:Roosevelt Field 2
CATEGORIES:QuickScores; Softball - Fastpitch Game
TRANSP:0
DALARM:20260324T160000;PT10M;2;Bandits vs. Cowboys
END:VEVENT
BEGIN:VEVENT
DTSTART:20260326T191500
DTEND:20260326T203000
SUMMARY:Bandits vs. Scorpions
DESCRIPTION:8U Softball - 
LOCATION:Roosevelt Field 2
CATEGORIES:QuickScores; Softball - Fastpitch Game
TRANSP:0
DALARM:20260326T171500;PT10M;2;Bandits vs. Scorpions
END:VEVENT
BEGIN:VEVENT
DTSTART:20260331T180000
DTEND:20260331T191500
SUMMARY:Dragonflies vs. Bandits
DESCRIPTION:8U Softball - 
LOCATION:Roosevelt Field 2
CATEGORIES:QuickScores; Softball - Fastpitch Game
TRANSP:0
DALARM:20260331T160000;PT10M;2;Dragonflies vs. Bandits
END:VEVENT
BEGIN:VEVENT
DTSTART:20260402T180000
DTEND:20260402T191500
SUMMARY:Cowboys vs. Bandits
DESCRIPTION:8U Softball - 
LOCATION:Roosevelt Field 2
CATEGORIES:QuickScores; Softball - Fastpitch Game
TRANSP:0
DALARM:20260402T160000;PT10M;2;Cowboys vs. Bandits
END:VEVENT
BEGIN:VEVENT
DTSTART:20260414T191500
DTEND:20260414T203000
SUMMARY:Storm vs. Bandits
DESCRIPTION:8U Softball - 
LOCATION:Roosevelt Field 2
CATEGORIES:QuickScores; Softball - Fastpitch Game
TRANSP:0
DALARM:20260414T171500;PT10M;2;Storm vs. Bandits
END:VEVENT
BEGIN:VEVENT
DTSTART:20260416T180000
DTEND:20260416T191500
SUMMARY:Diamond Divas vs. Bandits
DESCRIPTION:8U Softball - 
LOCATION:Roosevelt Field 2
CATEGORIES:QuickScores; Softball - Fastpitch Game
TRANSP:0
DALARM:20260416T160000;PT10M;2;Diamond Divas vs. Bandits
END:VEVENT
BEGIN:VEVENT
DTSTART:20260420T180000
DTEND:20260420T191500
SUMMARY:Bandits vs. Hitting Heifers
DESCRIPTION:8U Softball - 
LOCATION:Roosevelt Field 2
CATEGORIES:QuickScores; Softball - Fastpitch Game
TRANSP:0
DALARM:20260420T160000;PT10M;2;Bandits vs. Hitting Heifers
END:VEVENT
BEGIN:VEVENT
DTSTART:20260421T191500
DTEND:20260421T203000
SUMMARY:Bandits vs. Dragonflies
DESCRIPTION:8U Softball - 
LOCATION:Roosevelt Field 2
CATEGORIES:QuickScores; Softball - Fastpitch Game
TRANSP:0
DALARM:20260421T171500;PT10M;2;Bandits vs. Dragonflies
END:VEVENT
END:VCALENDAR
