BEGIN:VCALENDAR
VERSION:1.0
BEGIN:VEVENT
DTSTART:20260328T090000
DTEND:20260328T100000
SUMMARY:Eagles vs. Knights
DESCRIPTION:Pre-K T-Ball - 
LOCATION:CCP Field 2
CATEGORIES:QuickScores; T-Ball Game
TRANSP:0
DALARM:20260328T070000;PT10M;2;Eagles vs. Knights
END:VEVENT
BEGIN:VEVENT
DTSTART:20260418T101500
DTEND:20260418T111500
SUMMARY:Knights vs. Hooligans
DESCRIPTION:Pre-K T-Ball - 
LOCATION:CCP Field 2
CATEGORIES:QuickScores; T-Ball Game
TRANSP:0
DALARM:20260418T081500;PT10M;2;Knights vs. Hooligans
END:VEVENT
BEGIN:VEVENT
DTSTART:20260425T090000
DTEND:20260425T100000
SUMMARY:Small Fries vs. Knights
DESCRIPTION:Pre-K T-Ball - 
LOCATION:CCP Field 2
CATEGORIES:QuickScores; T-Ball Game
TRANSP:0
DALARM:20260425T070000;PT10M;2;Small Fries vs. Knights
END:VEVENT
BEGIN:VEVENT
DTSTART:20260502T124500
DTEND:20260502T134500
SUMMARY:Knights vs. SMASH
DESCRIPTION:Pre-K T-Ball - 
LOCATION:CCP Field 2
CATEGORIES:QuickScores; T-Ball Game
TRANSP:0
DALARM:20260502T104500;PT10M;2;Knights vs. SMASH
END:VEVENT
BEGIN:VEVENT
DTSTART:20260509T124500
DTEND:20260509T134500
SUMMARY:Knights vs. Pirates
DESCRIPTION:Pre-K T-Ball - 
LOCATION:CCP Field 2
CATEGORIES:QuickScores; T-Ball Game
TRANSP:0
DALARM:20260509T104500;PT10M;2;Knights vs. Pirates
END:VEVENT
BEGIN:VEVENT
DTSTART:20260516T113000
DTEND:20260516T123000
SUMMARY:Dragons vs. Knights
DESCRIPTION:Pre-K T-Ball - 
LOCATION:CCP Field 2
CATEGORIES:QuickScores; T-Ball Game
TRANSP:0
DALARM:20260516T093000;PT10M;2;Dragons vs. Knights
END:VEVENT
END:VCALENDAR
