BEGIN:VCALENDAR
VERSION:1.0
BEGIN:VEVENT
DTSTART:20260328T090000
DTEND:20260328T100000
SUMMARY:Eagles vs. Knights
DESCRIPTION:Pre-K T-Ball - 
LOCATION:CCP Field 2
CATEGORIES:QuickScores; T-Ball Game
TRANSP:0
DALARM:20260328T070000;PT10M;2;Eagles vs. Knights
END:VEVENT
BEGIN:VEVENT
DTSTART:20260418T113000
DTEND:20260418T123000
SUMMARY:SMASH vs. Eagles
DESCRIPTION:Pre-K T-Ball - 
LOCATION:CCP Field 2
CATEGORIES:QuickScores; T-Ball Game
TRANSP:0
DALARM:20260418T093000;PT10M;2;SMASH vs. Eagles
END:VEVENT
BEGIN:VEVENT
DTSTART:20260425T101500
DTEND:20260425T111500
SUMMARY:Eagles vs. Hooligans
DESCRIPTION:Pre-K T-Ball - 
LOCATION:CCP Field 2
CATEGORIES:QuickScores; T-Ball Game
TRANSP:0
DALARM:20260425T081500;PT10M;2;Eagles vs. Hooligans
END:VEVENT
BEGIN:VEVENT
DTSTART:20260502T090000
DTEND:20260502T100000
SUMMARY:Dragons vs. Eagles
DESCRIPTION:Pre-K T-Ball - 
LOCATION:CCP Field 2
CATEGORIES:QuickScores; T-Ball Game
TRANSP:0
DALARM:20260502T070000;PT10M;2;Dragons vs. Eagles
END:VEVENT
BEGIN:VEVENT
DTSTART:20260509T113000
DTEND:20260509T123000
SUMMARY:Eagles vs. Small Fries
DESCRIPTION:Pre-K T-Ball - 
LOCATION:CCP Field 2
CATEGORIES:QuickScores; T-Ball Game
TRANSP:0
DALARM:20260509T093000;PT10M;2;Eagles vs. Small Fries
END:VEVENT
BEGIN:VEVENT
DTSTART:20260516T124500
DTEND:20260516T134500
SUMMARY:Braves vs. Eagles
DESCRIPTION:Pre-K T-Ball - 
LOCATION:CCP Field 2
CATEGORIES:QuickScores; T-Ball Game
TRANSP:0
DALARM:20260516T104500;PT10M;2;Braves vs. Eagles
END:VEVENT
END:VCALENDAR
