BEGIN:VCALENDAR
VERSION:1.0
BEGIN:VEVENT
DTSTART:20260328T120000
DTEND:20260328T130000
SUMMARY:Stingers vs. Super Sonics
DESCRIPTION:Moved from 10:00 AM to 12:00 PM --- 4U Coed - 
LOCATION:NCP Field 4A
CATEGORIES:QuickScores; Soccer - Youth Game
TRANSP:0
DALARM:20260328T100000;PT10M;2;Stingers vs. Super Sonics
END:VEVENT
BEGIN:VEVENT
DTSTART:20260418T090000
DTEND:20260418T100000
SUMMARY:Huggy Wuggy Dragons vs. Super Sonics
DESCRIPTION:4U Coed - 
LOCATION:NCP Field 4A
CATEGORIES:QuickScores; Soccer - Youth Game
TRANSP:0
DALARM:20260418T070000;PT10M;2;Huggy Wuggy Dragons vs. Super Sonics
END:VEVENT
BEGIN:VEVENT
DTSTART:20260425T110000
DTEND:20260425T120000
SUMMARY:Super Sonics vs. Huggy Wuggy Dragons
DESCRIPTION:4U Coed - 
LOCATION:NCP Field 4C
CATEGORIES:QuickScores; Soccer - Youth Game
TRANSP:0
DALARM:20260425T090000;PT10M;2;Super Sonics vs. Huggy Wuggy Dragons
END:VEVENT
BEGIN:VEVENT
DTSTART:20260502T110000
DTEND:20260502T120000
SUMMARY:Super Sonics vs. Rockets
DESCRIPTION:4U Coed - 
LOCATION:NCP Field 4C
CATEGORIES:QuickScores; Soccer - Youth Game
TRANSP:0
DALARM:20260502T090000;PT10M;2;Super Sonics vs. Rockets
END:VEVENT
BEGIN:VEVENT
DTSTART:20260509T110000
DTEND:20260509T120000
SUMMARY:Super Sonics vs. Sour Patch Kids
DESCRIPTION:4U Coed - 
LOCATION:NCP Field 4A
CATEGORIES:QuickScores; Soccer - Youth Game
TRANSP:0
DALARM:20260509T090000;PT10M;2;Super Sonics vs. Sour Patch Kids
END:VEVENT
BEGIN:VEVENT
DTSTART:20260516T090000
DTEND:20260516T100000
SUMMARY:Panthers vs. Super Sonics
DESCRIPTION:4U Coed - 
LOCATION:NCP Field 4A
CATEGORIES:QuickScores; Soccer - Youth Game
TRANSP:0
DALARM:20260516T070000;PT10M;2;Panthers vs. Super Sonics
END:VEVENT
END:VCALENDAR
