BEGIN:VCALENDAR
VERSION:1.0
BEGIN:VEVENT
DTSTART:20260328T090000
DTEND:20260328T100000
SUMMARY:ThunderCats vs. Panthers
DESCRIPTION:4U Coed - 
LOCATION:NCP Field 4A
CATEGORIES:QuickScores; Soccer - Youth Game
TRANSP:0
DALARM:20260328T070000;PT10M;2;ThunderCats vs. Panthers
END:VEVENT
BEGIN:VEVENT
DTSTART:20260418T110000
DTEND:20260418T120000
SUMMARY:ThunderCats vs. Tigers
DESCRIPTION:4U Coed - 
LOCATION:NCP Field 4A
CATEGORIES:QuickScores; Soccer - Youth Game
TRANSP:0
DALARM:20260418T090000;PT10M;2;ThunderCats vs. Tigers
END:VEVENT
BEGIN:VEVENT
DTSTART:20260425T100000
DTEND:20260425T110000
SUMMARY:ThunderCats vs. Chaos
DESCRIPTION:4U Coed - 
LOCATION:NCP Field 4C
CATEGORIES:QuickScores; Soccer - Youth Game
TRANSP:0
DALARM:20260425T080000;PT10M;2;ThunderCats vs. Chaos
END:VEVENT
BEGIN:VEVENT
DTSTART:20260502T110000
DTEND:20260502T120000
SUMMARY:Sour Patch Kids vs. ThunderCats
DESCRIPTION:4U Coed - 
LOCATION:NCP Field 4A
CATEGORIES:QuickScores; Soccer - Youth Game
TRANSP:0
DALARM:20260502T090000;PT10M;2;Sour Patch Kids vs. ThunderCats
END:VEVENT
BEGIN:VEVENT
DTSTART:20260509T100000
DTEND:20260509T110000
SUMMARY:Speedy Turtles vs. ThunderCats
DESCRIPTION:4U Coed - 
LOCATION:NCP Field 4C
CATEGORIES:QuickScores; Soccer - Youth Game
TRANSP:0
DALARM:20260509T080000;PT10M;2;Speedy Turtles vs. ThunderCats
END:VEVENT
BEGIN:VEVENT
DTSTART:20260516T110000
DTEND:20260516T120000
SUMMARY:Huggy Wuggy Dragons vs. ThunderCats
DESCRIPTION:4U Coed - 
LOCATION:NCP Field 4A
CATEGORIES:QuickScores; Soccer - Youth Game
TRANSP:0
DALARM:20260516T090000;PT10M;2;Huggy Wuggy Dragons vs. ThunderCats
END:VEVENT
END:VCALENDAR
