BEGIN:VCALENDAR
VERSION:1.0
BEGIN:VEVENT
DTSTART:20260328T110000
DTEND:20260328T120000
SUMMARY:Huggy Wuggy Dragons vs. Little Rascals
DESCRIPTION:4U Coed - 
LOCATION:NCP Field 4A
CATEGORIES:QuickScores; Soccer - Youth Game
TRANSP:0
DALARM:20260328T090000;PT10M;2;Huggy Wuggy Dragons vs. Little Rascals
END:VEVENT
BEGIN:VEVENT
DTSTART:20260418T100000
DTEND:20260418T110000
SUMMARY:Little Rascals vs. Stingers
DESCRIPTION:4U Coed - 
LOCATION:NCP Field 4C
CATEGORIES:QuickScores; Soccer - Youth Game
TRANSP:0
DALARM:20260418T080000;PT10M;2;Little Rascals vs. Stingers
END:VEVENT
BEGIN:VEVENT
DTSTART:20260425T110000
DTEND:20260425T120000
SUMMARY:Sour Patch Kids vs. Little Rascals
DESCRIPTION:4U Coed - 
LOCATION:NCP Field 4A
CATEGORIES:QuickScores; Soccer - Youth Game
TRANSP:0
DALARM:20260425T090000;PT10M;2;Sour Patch Kids vs. Little Rascals
END:VEVENT
BEGIN:VEVENT
DTSTART:20260502T100000
DTEND:20260502T110000
SUMMARY:Little Rascals vs. Honey Badgers
DESCRIPTION:4U Coed - 
LOCATION:NCP Field 4C
CATEGORIES:QuickScores; Soccer - Youth Game
TRANSP:0
DALARM:20260502T080000;PT10M;2;Little Rascals vs. Honey Badgers
END:VEVENT
BEGIN:VEVENT
DTSTART:20260509T090000
DTEND:20260509T100000
SUMMARY:Tigers vs. Little Rascals
DESCRIPTION:4U Coed - 
LOCATION:NCP Field 4C
CATEGORIES:QuickScores; Soccer - Youth Game
TRANSP:0
DALARM:20260509T070000;PT10M;2;Tigers vs. Little Rascals
END:VEVENT
BEGIN:VEVENT
DTSTART:20260516T110000
DTEND:20260516T120000
SUMMARY:Little Rascals vs. Rockets
DESCRIPTION:4U Coed - 
LOCATION:NCP Field 4C
CATEGORIES:QuickScores; Soccer - Youth Game
TRANSP:0
DALARM:20260516T090000;PT10M;2;Little Rascals vs. Rockets
END:VEVENT
END:VCALENDAR
