BEGIN:VCALENDAR
VERSION:1.0
BEGIN:VEVENT
DTSTART:20260316T180000
DTEND:20260316T190000
SUMMARY:Practice: Patino, Gonzales vs. Valquinto
DESCRIPTION:PRACTICE NUMBER 1 --- Junior High Co-Ed Soccer 8V8 (Mon/Wed) - Clinton City Parks & Recreation
LOCATION:Civic Center Park - West Field
CATEGORIES:QuickScores; Soccer - Youth Game
TRANSP:0
DALARM:20260316T160000;PT10M;2;Practice: Patino, Gonzales vs. Valquinto
END:VEVENT
BEGIN:VEVENT
DTSTART:20260318T190000
DTEND:20260318T200000
SUMMARY:Practice: Bateman vs. Patino, Gonzales
DESCRIPTION:PRACTICE NUMBER 2 --- Junior High Co-Ed Soccer 8V8 (Mon/Wed) - Clinton City Parks & Recreation
LOCATION:Civic Center Park - West Field
CATEGORIES:QuickScores; Soccer - Youth Game
TRANSP:0
DALARM:20260318T170000;PT10M;2;Practice: Bateman vs. Patino, Gonzales
END:VEVENT
BEGIN:VEVENT
DTSTART:20260323T180000
DTEND:20260323T190000
SUMMARY:Bateman vs. Patino, Gonzales
DESCRIPTION:GAME 1 & PICTURE DAY Home Team is Listed first and wears Red Away Team is Listed second and wears White --- Junior High Co-Ed Soccer 8V8 (Mon/Wed) - Clinton City Parks & Recreation
LOCATION:Civic Center Park - West Field
CATEGORIES:QuickScores; Soccer - Youth Game
TRANSP:0
DALARM:20260323T160000;PT10M;2;Bateman vs. Patino, Gonzales
END:VEVENT
BEGIN:VEVENT
DTSTART:20260325T190000
DTEND:20260325T200000
SUMMARY:Patino, Gonzales vs. Valquinto
DESCRIPTION:GAME 2 Home Team is Listed first and wears Red Away Team is Listed second and wears White --- Junior High Co-Ed Soccer 8V8 (Mon/Wed) - Clinton City Parks & Recreation
LOCATION:Civic Center Park - West Field
CATEGORIES:QuickScores; Soccer - Youth Game
TRANSP:0
DALARM:20260325T170000;PT10M;2;Patino, Gonzales vs. Valquinto
END:VEVENT
BEGIN:VEVENT
DTSTART:20260406T180000
DTEND:20260406T190000
SUMMARY:Practice: Swaner vs. Patino, Gonzales
DESCRIPTION:PRACTICE NUMBER 3 --- Junior High Co-Ed Soccer 8V8 (Mon/Wed) - Clinton City Parks & Recreation
LOCATION:Civic Center Park - West Field
CATEGORIES:QuickScores; Soccer - Youth Game
TRANSP:0
DALARM:20260406T160000;PT10M;2;Practice: Swaner vs. Patino, Gonzales
END:VEVENT
BEGIN:VEVENT
DTSTART:20260408T190000
DTEND:20260408T200000
SUMMARY:Swaner vs. Patino, Gonzales
DESCRIPTION:GAME 3 Home Team is Listed first and wears Red Away Team is Listed second and wears White --- Junior High Co-Ed Soccer 8V8 (Mon/Wed) - Clinton City Parks & Recreation
LOCATION:Civic Center Park - West Field
CATEGORIES:QuickScores; Soccer - Youth Game
TRANSP:0
DALARM:20260408T170000;PT10M;2;Swaner vs. Patino, Gonzales
END:VEVENT
BEGIN:VEVENT
DTSTART:20260413T190000
DTEND:20260413T200000
SUMMARY:Practice: Valquinto vs. Patino, Gonzales
DESCRIPTION:PRACTICE NUMBER 4 --- Junior High Co-Ed Soccer 8V8 (Mon/Wed) - Clinton City Parks & Recreation
LOCATION:Civic Center Park - West Field
CATEGORIES:QuickScores; Soccer - Youth Game
TRANSP:0
DALARM:20260413T170000;PT10M;2;Practice: Valquinto vs. Patino, Gonzales
END:VEVENT
BEGIN:VEVENT
DTSTART:20260415T190000
DTEND:20260415T200000
SUMMARY:Patino, Gonzales vs. Bateman
DESCRIPTION:GAME 4 Home Team is Listed first and wears Red Away Team is Listed second and wears White --- Junior High Co-Ed Soccer 8V8 (Mon/Wed) - Clinton City Parks & Recreation
LOCATION:Civic Center Park - West Field
CATEGORIES:QuickScores; Soccer - Youth Game
TRANSP:0
DALARM:20260415T170000;PT10M;2;Patino, Gonzales vs. Bateman
END:VEVENT
BEGIN:VEVENT
DTSTART:20260420T180000
DTEND:20260420T190000
SUMMARY:Practice: Patino, Gonzales vs. Bateman
DESCRIPTION:PRACTICE NUMBER 5 --- Junior High Co-Ed Soccer 8V8 (Mon/Wed) - Clinton City Parks & Recreation
LOCATION:Civic Center Park - West Field
CATEGORIES:QuickScores; Soccer - Youth Game
TRANSP:0
DALARM:20260420T160000;PT10M;2;Practice: Patino, Gonzales vs. Bateman
END:VEVENT
BEGIN:VEVENT
DTSTART:20260422T190000
DTEND:20260422T200000
SUMMARY:Valquinto vs. Patino, Gonzales
DESCRIPTION:GAME 5 Home Team is Listed first and wears Red Away Team is Listed second and wears White --- Junior High Co-Ed Soccer 8V8 (Mon/Wed) - Clinton City Parks & Recreation
LOCATION:Civic Center Park - West Field
CATEGORIES:QuickScores; Soccer - Youth Game
TRANSP:0
DALARM:20260422T170000;PT10M;2;Valquinto vs. Patino, Gonzales
END:VEVENT
BEGIN:VEVENT
DTSTART:20260427T190000
DTEND:20260427T200000
SUMMARY:Practice: Patino, Gonzales vs. Swaner
DESCRIPTION:PRACTICE NUMBER 6 --- Junior High Co-Ed Soccer 8V8 (Mon/Wed) - Clinton City Parks & Recreation
LOCATION:Civic Center Park - West Field
CATEGORIES:QuickScores; Soccer - Youth Game
TRANSP:0
DALARM:20260427T170000;PT10M;2;Practice: Patino, Gonzales vs. Swaner
END:VEVENT
BEGIN:VEVENT
DTSTART:20260429T180000
DTEND:20260429T190000
SUMMARY:Patino, Gonzales vs. Swaner
DESCRIPTION:GAME 6 Home Team is Listed first and wears Red Away Team is Listed second and wears White --- Junior High Co-Ed Soccer 8V8 (Mon/Wed) - Clinton City Parks & Recreation
LOCATION:Civic Center Park - West Field
CATEGORIES:QuickScores; Soccer - Youth Game
TRANSP:0
DALARM:20260429T160000;PT10M;2;Patino, Gonzales vs. Swaner
END:VEVENT
BEGIN:VEVENT
DTSTART:20260504T190000
DTEND:20260504T200000
SUMMARY:Bateman vs. Patino, Gonzales
DESCRIPTION:GAME 7 Home Team is Listed first and wears Red Away Team is Listed second and wears White --- Junior High Co-Ed Soccer 8V8 (Mon/Wed) - Clinton City Parks & Recreation
LOCATION:Civic Center Park - West Field
CATEGORIES:QuickScores; Soccer - Youth Game
TRANSP:0
DALARM:20260504T170000;PT10M;2;Bateman vs. Patino, Gonzales
END:VEVENT
BEGIN:VEVENT
DTSTART:20260506T180000
DTEND:20260506T190000
SUMMARY:Patino, Gonzales vs. Valquinto
DESCRIPTION:GAME 8 Home Team is Listed first and wears Red Away Team is Listed second and wears White --- Junior High Co-Ed Soccer 8V8 (Mon/Wed) - Clinton City Parks & Recreation
LOCATION:Civic Center Park - West Field
CATEGORIES:QuickScores; Soccer - Youth Game
TRANSP:0
DALARM:20260506T160000;PT10M;2;Patino, Gonzales vs. Valquinto
END:VEVENT
END:VCALENDAR
