BEGIN:VCALENDAR
VERSION:1.0
BEGIN:VEVENT
DTSTART:20260317T180000
DTEND:20260317T190000
SUMMARY:Practice: Flores, Seeds vs. Berardi
DESCRIPTION:PRACTICE NUMBER 1 --- 5th/6th Grade Co-Ed Soccer (Tues/Thurs) - Clinton City Parks & Recreation
LOCATION:Civic Center Park - West Field
CATEGORIES:QuickScores; Soccer - Youth Game
TRANSP:0
DALARM:20260317T160000;PT10M;2;Practice: Flores, Seeds vs. Berardi
END:VEVENT
BEGIN:VEVENT
DTSTART:20260319T190000
DTEND:20260319T200000
SUMMARY:Practice: Berardi vs. Flores, Seeds
DESCRIPTION:PRACTICE NUMBER 2 --- 5th/6th Grade Co-Ed Soccer (Tues/Thurs) - Clinton City Parks & Recreation
LOCATION:Civic Center Park - West Field
CATEGORIES:QuickScores; Soccer - Youth Game
TRANSP:0
DALARM:20260319T170000;PT10M;2;Practice: Berardi vs. Flores, Seeds
END:VEVENT
BEGIN:VEVENT
DTSTART:20260324T170000
DTEND:20260324T180000
SUMMARY:Berardi vs. Flores, Seeds
DESCRIPTION:GAME NUMBER 1 & PICTURE DAY Home Listed First Wears Red Away Listed Second Wears White --- 5th/6th Grade Co-Ed Soccer (Tues/Thurs) - Clinton City Parks & Recreation
LOCATION:Civic Center Park - West Field
CATEGORIES:QuickScores; Soccer - Youth Game
TRANSP:0
DALARM:20260324T150000;PT10M;2;Berardi vs. Flores, Seeds
END:VEVENT
BEGIN:VEVENT
DTSTART:20260326T170000
DTEND:20260326T180000
SUMMARY:Berardi vs. Bateman
DESCRIPTION:GAME NUMBER 2 Home Listed First Wears Red Away Listed Second Wears White --- 5th/6th Grade Co-Ed Soccer (Tues/Thurs) - Clinton City Parks & Recreation
LOCATION:Civic Center Park - West Field
CATEGORIES:QuickScores; Soccer - Youth Game
TRANSP:0
DALARM:20260326T150000;PT10M;2;Berardi vs. Bateman
END:VEVENT
BEGIN:VEVENT
DTSTART:20260407T190000
DTEND:20260407T200000
SUMMARY:Practice: Berardi vs. Hill
DESCRIPTION:PRACTICE NUMBER 3 --- 5th/6th Grade Co-Ed Soccer (Tues/Thurs) - Clinton City Parks & Recreation
LOCATION:Civic Center Park - West Field
CATEGORIES:QuickScores; Soccer - Youth Game
TRANSP:0
DALARM:20260407T170000;PT10M;2;Practice: Berardi vs. Hill
END:VEVENT
BEGIN:VEVENT
DTSTART:20260409T170000
DTEND:20260409T180000
SUMMARY:Bedell vs. Berardi
DESCRIPTION:GAME NUMBER 3 Home Listed First Wears Red Away Listed Second Wears White --- 5th/6th Grade Co-Ed Soccer (Tues/Thurs) - Clinton City Parks & Recreation
LOCATION:Civic Center Park - West Field
CATEGORIES:QuickScores; Soccer - Youth Game
TRANSP:0
DALARM:20260409T150000;PT10M;2;Bedell vs. Berardi
END:VEVENT
BEGIN:VEVENT
DTSTART:20260414T170000
DTEND:20260414T180000
SUMMARY:Practice: Bedell vs. Berardi
DESCRIPTION:PRACTICE NUMBER 4 --- 5th/6th Grade Co-Ed Soccer (Tues/Thurs) - Clinton City Parks & Recreation
LOCATION:Civic Center Park - West Field
CATEGORIES:QuickScores; Soccer - Youth Game
TRANSP:0
DALARM:20260414T150000;PT10M;2;Practice: Bedell vs. Berardi
END:VEVENT
BEGIN:VEVENT
DTSTART:20260416T180000
DTEND:20260416T190000
SUMMARY:Berardi vs. Simmons
DESCRIPTION:GAME NUMBER 4 Home Listed First Wears Red Away Listed Second Wears White --- 5th/6th Grade Co-Ed Soccer (Tues/Thurs) - Clinton City Parks & Recreation
LOCATION:Civic Center Park - West Field
CATEGORIES:QuickScores; Soccer - Youth Game
TRANSP:0
DALARM:20260416T160000;PT10M;2;Berardi vs. Simmons
END:VEVENT
BEGIN:VEVENT
DTSTART:20260421T190000
DTEND:20260421T200000
SUMMARY:Practice: Bateman vs. Berardi
DESCRIPTION:PRACTICE NUMBER 5 --- 5th/6th Grade Co-Ed Soccer (Tues/Thurs) - Clinton City Parks & Recreation
LOCATION:Civic Center Park - West Field
CATEGORIES:QuickScores; Soccer - Youth Game
TRANSP:0
DALARM:20260421T170000;PT10M;2;Practice: Bateman vs. Berardi
END:VEVENT
BEGIN:VEVENT
DTSTART:20260423T180000
DTEND:20260423T190000
SUMMARY:Hill vs. Berardi
DESCRIPTION:GAME NUMBER 5 Home Listed First Wears Red Away Listed Second Wears White --- 5th/6th Grade Co-Ed Soccer (Tues/Thurs) - Clinton City Parks & Recreation
LOCATION:Civic Center Park - West Field
CATEGORIES:QuickScores; Soccer - Youth Game
TRANSP:0
DALARM:20260423T160000;PT10M;2;Hill vs. Berardi
END:VEVENT
BEGIN:VEVENT
DTSTART:20260428T170000
DTEND:20260428T180000
SUMMARY:Practice: Berardi vs. Flores, Seeds
DESCRIPTION:PRACTICE NUMBER 6 --- 5th/6th Grade Co-Ed Soccer (Tues/Thurs) - Clinton City Parks & Recreation
LOCATION:Civic Center Park - West Field
CATEGORIES:QuickScores; Soccer - Youth Game
TRANSP:0
DALARM:20260428T150000;PT10M;2;Practice: Berardi vs. Flores, Seeds
END:VEVENT
BEGIN:VEVENT
DTSTART:20260430T190000
DTEND:20260430T200000
SUMMARY:Flores, Seeds vs. Berardi
DESCRIPTION:GAME NUMBER 6 Home Listed First Wears Red Away Listed Second Wears White --- 5th/6th Grade Co-Ed Soccer (Tues/Thurs) - Clinton City Parks & Recreation
LOCATION:Civic Center Park - West Field
CATEGORIES:QuickScores; Soccer - Youth Game
TRANSP:0
DALARM:20260430T170000;PT10M;2;Flores, Seeds vs. Berardi
END:VEVENT
BEGIN:VEVENT
DTSTART:20260505T180000
DTEND:20260505T190000
SUMMARY:Bateman vs. Berardi
DESCRIPTION:GAME NUMBER 7 Home Listed First Wears Red Away Listed Second Wears White --- 5th/6th Grade Co-Ed Soccer (Tues/Thurs) - Clinton City Parks & Recreation
LOCATION:Civic Center Park - West Field
CATEGORIES:QuickScores; Soccer - Youth Game
TRANSP:0
DALARM:20260505T160000;PT10M;2;Bateman vs. Berardi
END:VEVENT
BEGIN:VEVENT
DTSTART:20260507T190000
DTEND:20260507T200000
SUMMARY:Berardi vs. Bedell
DESCRIPTION:GAME NUMBER 8 Home Listed First Wears Red Away Listed Second Wears White --- 5th/6th Grade Co-Ed Soccer (Tues/Thurs) - Clinton City Parks & Recreation
LOCATION:Civic Center Park - West Field
CATEGORIES:QuickScores; Soccer - Youth Game
TRANSP:0
DALARM:20260507T170000;PT10M;2;Berardi vs. Bedell
END:VEVENT
END:VCALENDAR
