BEGIN:VCALENDAR
VERSION:1.0
BEGIN:VEVENT
DTSTART:20260221T094500
DTEND:20260221T103000
SUMMARY:Reid - Orange vs. Duenas - Yellow
DESCRIPTION:Kindergarten - Hurricanerec
LOCATION:Three Falls  Field 4
CATEGORIES:QuickScores; Soccer - Youth Game
TRANSP:0
DALARM:20260221T074500;PT10M;2;Reid - Orange vs. Duenas - Yellow
END:VEVENT
BEGIN:VEVENT
DTSTART:20260228T094500
DTEND:20260228T103000
SUMMARY:Reid - Orange vs. Dalton - Light Blue
DESCRIPTION:Kindergarten - Hurricanerec
LOCATION:Three Falls  Field 4
CATEGORIES:QuickScores; Soccer - Youth Game
TRANSP:0
DALARM:20260228T074500;PT10M;2;Reid - Orange vs. Dalton - Light Blue
END:VEVENT
BEGIN:VEVENT
DTSTART:20260307T090000
DTEND:20260307T094500
SUMMARY:Nay - Tan vs. Reid - Orange
DESCRIPTION:Kindergarten - Hurricanerec
LOCATION:Three Falls  Field 4
CATEGORIES:QuickScores; Soccer - Youth Game
TRANSP:0
DALARM:20260307T070000;PT10M;2;Nay - Tan vs. Reid - Orange
END:VEVENT
BEGIN:VEVENT
DTSTART:20260321T111500
DTEND:20260321T120000
SUMMARY:Zolman - Maroon vs. Reid - Orange
DESCRIPTION:Kindergarten - Hurricanerec
LOCATION:Three Falls  Field 4
CATEGORIES:QuickScores; Soccer - Youth Game
TRANSP:0
DALARM:20260321T091500;PT10M;2;Zolman - Maroon vs. Reid - Orange
END:VEVENT
BEGIN:VEVENT
DTSTART:20260328T111500
DTEND:20260328T120000
SUMMARY:Reid - Orange vs. Bennion - Lime Green
DESCRIPTION:Kindergarten - Hurricanerec
LOCATION:Three Falls  Field 4
CATEGORIES:QuickScores; Soccer - Youth Game
TRANSP:0
DALARM:20260328T091500;PT10M;2;Reid - Orange vs. Bennion - Lime Green
END:VEVENT
BEGIN:VEVENT
DTSTART:20260411T094500
DTEND:20260411T103000
SUMMARY:May - Light Pink vs. Reid - Orange
DESCRIPTION:Kindergarten - Hurricanerec
LOCATION:Three Falls  Field 4
CATEGORIES:QuickScores; Soccer - Youth Game
TRANSP:0
DALARM:20260411T074500;PT10M;2;May - Light Pink vs. Reid - Orange
END:VEVENT
END:VCALENDAR
