BEGIN:VCALENDAR
VERSION:1.0
BEGIN:VEVENT
DTSTART:20260221T111500
DTEND:20260221T120000
SUMMARY:Housley - Red vs. Dalton - Light Blue
DESCRIPTION:Kindergarten - Hurricanerec
LOCATION:Three Falls  Field 4
CATEGORIES:QuickScores; Soccer - Youth Game
TRANSP:0
DALARM:20260221T091500;PT10M;2;Housley - Red vs. Dalton - Light Blue
END:VEVENT
BEGIN:VEVENT
DTSTART:20260228T090000
DTEND:20260228T094500
SUMMARY:Bennion - Lime Green vs. Housley - Red
DESCRIPTION:Kindergarten - Hurricanerec
LOCATION:Three Falls  Field 4
CATEGORIES:QuickScores; Soccer - Youth Game
TRANSP:0
DALARM:20260228T070000;PT10M;2;Bennion - Lime Green vs. Housley - Red
END:VEVENT
BEGIN:VEVENT
DTSTART:20260307T103000
DTEND:20260307T111500
SUMMARY:Housley - Red vs. May - Light Pink
DESCRIPTION:Kindergarten - Hurricanerec
LOCATION:Three Falls  Field 4
CATEGORIES:QuickScores; Soccer - Youth Game
TRANSP:0
DALARM:20260307T083000;PT10M;2;Housley - Red vs. May - Light Pink
END:VEVENT
BEGIN:VEVENT
DTSTART:20260321T103000
DTEND:20260321T111500
SUMMARY:Nay - Tan vs. Housley - Red
DESCRIPTION:Kindergarten - Hurricanerec
LOCATION:Three Falls  Field 4
CATEGORIES:QuickScores; Soccer - Youth Game
TRANSP:0
DALARM:20260321T083000;PT10M;2;Nay - Tan vs. Housley - Red
END:VEVENT
BEGIN:VEVENT
DTSTART:20260328T094500
DTEND:20260328T103000
SUMMARY:Housley - Red vs. Zolman - Maroon
DESCRIPTION:Kindergarten - Hurricanerec
LOCATION:Three Falls  Field 4
CATEGORIES:QuickScores; Soccer - Youth Game
TRANSP:0
DALARM:20260328T074500;PT10M;2;Housley - Red vs. Zolman - Maroon
END:VEVENT
BEGIN:VEVENT
DTSTART:20260411T111500
DTEND:20260411T120000
SUMMARY:Duenas - Yellow vs. Housley - Red
DESCRIPTION:Kindergarten - Hurricanerec
LOCATION:Three Falls  Field 4
CATEGORIES:QuickScores; Soccer - Youth Game
TRANSP:0
DALARM:20260411T091500;PT10M;2;Duenas - Yellow vs. Housley - Red
END:VEVENT
END:VCALENDAR
