BEGIN:VCALENDAR
VERSION:1.0
BEGIN:VEVENT
DTSTART:20260221T094500
DTEND:20260221T103000
SUMMARY:Reid - Orange vs. Duenas - Yellow
DESCRIPTION:Kindergarten - Hurricanerec
LOCATION:Three Falls  Field 4
CATEGORIES:QuickScores; Soccer - Youth Game
TRANSP:0
DALARM:20260221T074500;PT10M;2;Reid - Orange vs. Duenas - Yellow
END:VEVENT
BEGIN:VEVENT
DTSTART:20260228T103000
DTEND:20260228T111500
SUMMARY:Duenas - Yellow vs. Zolman - Maroon
DESCRIPTION:Kindergarten - Hurricanerec
LOCATION:Three Falls  Field 4
CATEGORIES:QuickScores; Soccer - Youth Game
TRANSP:0
DALARM:20260228T083000;PT10M;2;Duenas - Yellow vs. Zolman - Maroon
END:VEVENT
BEGIN:VEVENT
DTSTART:20260307T094500
DTEND:20260307T103000
SUMMARY:Dalton - Light Blue vs. Duenas - Yellow
DESCRIPTION:Kindergarten - Hurricanerec
LOCATION:Three Falls  Field 4
CATEGORIES:QuickScores; Soccer - Youth Game
TRANSP:0
DALARM:20260307T074500;PT10M;2;Dalton - Light Blue vs. Duenas - Yellow
END:VEVENT
BEGIN:VEVENT
DTSTART:20260321T090000
DTEND:20260321T094500
SUMMARY:May - Light Pink vs. Duenas - Yellow
DESCRIPTION:Kindergarten - Hurricanerec
LOCATION:Three Falls  Field 4
CATEGORIES:QuickScores; Soccer - Youth Game
TRANSP:0
DALARM:20260321T070000;PT10M;2;May - Light Pink vs. Duenas - Yellow
END:VEVENT
BEGIN:VEVENT
DTSTART:20260328T103000
DTEND:20260328T111500
SUMMARY:Duenas - Yellow vs. Nay - Tan
DESCRIPTION:Kindergarten - Hurricanerec
LOCATION:Three Falls  Field 4
CATEGORIES:QuickScores; Soccer - Youth Game
TRANSP:0
DALARM:20260328T083000;PT10M;2;Duenas - Yellow vs. Nay - Tan
END:VEVENT
BEGIN:VEVENT
DTSTART:20260411T111500
DTEND:20260411T120000
SUMMARY:Duenas - Yellow vs. Housley - Red
DESCRIPTION:Kindergarten - Hurricanerec
LOCATION:Three Falls  Field 4
CATEGORIES:QuickScores; Soccer - Youth Game
TRANSP:0
DALARM:20260411T091500;PT10M;2;Duenas - Yellow vs. Housley - Red
END:VEVENT
END:VCALENDAR
