BEGIN:VCALENDAR
VERSION:1.0
BEGIN:VEVENT
DTSTART:20260329T140000
DTEND:20260329T150000
SUMMARY:Take It Easy vs. All Money In
DESCRIPTION:Sunday - B1 - 
LOCATION:Main Court
CATEGORIES:QuickScores; Basketball - Adult Game
TRANSP:0
DALARM:20260329T120000;PT10M;2;Take It Easy vs. All Money In
END:VEVENT
BEGIN:VEVENT
DTSTART:20260412T130000
DTEND:20260412T140000
SUMMARY:Yellowjackets vs. All Money In
DESCRIPTION:Sunday - B1 - 
LOCATION:Main Court
CATEGORIES:QuickScores; Basketball - Adult Game
TRANSP:0
DALARM:20260412T110000;PT10M;2;Yellowjackets vs. All Money In
END:VEVENT
BEGIN:VEVENT
DTSTART:20260419T130000
DTEND:20260419T140000
SUMMARY:All Money In vs. MOVE
DESCRIPTION:Sunday - B1 - 
LOCATION:Main Court
CATEGORIES:QuickScores; Basketball - Adult Game
TRANSP:0
DALARM:20260419T110000;PT10M;2;All Money In vs. MOVE
END:VEVENT
BEGIN:VEVENT
DTSTART:20260426T150000
DTEND:20260426T160000
SUMMARY:Temp Name vs. All Money In
DESCRIPTION:Sunday - B1 - 
LOCATION:Main Court
CATEGORIES:QuickScores; Basketball - Adult Game
TRANSP:0
DALARM:20260426T130000;PT10M;2;Temp Name vs. All Money In
END:VEVENT
BEGIN:VEVENT
DTSTART:20260503T150000
DTEND:20260503T160000
SUMMARY:Flint Tropics vs. All Money In
DESCRIPTION:Sunday - B1 - 
LOCATION:Main Court
CATEGORIES:QuickScores; Basketball - Adult Game
TRANSP:0
DALARM:20260503T130000;PT10M;2;Flint Tropics vs. All Money In
END:VEVENT
BEGIN:VEVENT
DTSTART:20260517T160000
DTEND:20260517T170000
SUMMARY:All Money In vs. The Homebuyers
DESCRIPTION:Sunday - B1 - 
LOCATION:Main Court
CATEGORIES:QuickScores; Basketball - Adult Game
TRANSP:0
DALARM:20260517T140000;PT10M;2;All Money In vs. The Homebuyers
END:VEVENT
BEGIN:VEVENT
DTSTART:20260531T140000
DTEND:20260531T150000
SUMMARY:All Money In vs. Hoop Dreams
DESCRIPTION:Sunday - B1 - 
LOCATION:Main Court
CATEGORIES:QuickScores; Basketball - Adult Game
TRANSP:0
DALARM:20260531T120000;PT10M;2;All Money In vs. Hoop Dreams
END:VEVENT
END:VCALENDAR
