BEGIN:VCALENDAR
VERSION:1.0
BEGIN:VEVENT
DTSTART:20260329T130000
DTEND:20260329T140000
SUMMARY:The Homebuyers vs. Hoop Dreams
DESCRIPTION:Sunday - B1 - 
LOCATION:Main Court
CATEGORIES:QuickScores; Basketball - Adult Game
TRANSP:0
DALARM:20260329T110000;PT10M;2;The Homebuyers vs. Hoop Dreams
END:VEVENT
BEGIN:VEVENT
DTSTART:20260412T150000
DTEND:20260412T160000
SUMMARY:Hoop Dreams vs. Take It Easy
DESCRIPTION:Sunday - B1 - 
LOCATION:Main Court
CATEGORIES:QuickScores; Basketball - Adult Game
TRANSP:0
DALARM:20260412T130000;PT10M;2;Hoop Dreams vs. Take It Easy
END:VEVENT
BEGIN:VEVENT
DTSTART:20260419T160000
DTEND:20260419T170000
SUMMARY:Temp Name vs. Hoop Dreams
DESCRIPTION:Sunday - B1 - 
LOCATION:Main Court
CATEGORIES:QuickScores; Basketball - Adult Game
TRANSP:0
DALARM:20260419T140000;PT10M;2;Temp Name vs. Hoop Dreams
END:VEVENT
BEGIN:VEVENT
DTSTART:20260426T130000
DTEND:20260426T140000
SUMMARY:Hoop Dreams vs. Flint Tropics
DESCRIPTION:Sunday - B1 - 
LOCATION:Main Court
CATEGORIES:QuickScores; Basketball - Adult Game
TRANSP:0
DALARM:20260426T110000;PT10M;2;Hoop Dreams vs. Flint Tropics
END:VEVENT
BEGIN:VEVENT
DTSTART:20260503T160000
DTEND:20260503T170000
SUMMARY:Hoop Dreams vs. Yellowjackets
DESCRIPTION:Sunday - B1 - 
LOCATION:Main Court
CATEGORIES:QuickScores; Basketball - Adult Game
TRANSP:0
DALARM:20260503T140000;PT10M;2;Hoop Dreams vs. Yellowjackets
END:VEVENT
BEGIN:VEVENT
DTSTART:20260517T150000
DTEND:20260517T160000
SUMMARY:Hoop Dreams vs. MOVE
DESCRIPTION:Sunday - B1 - 
LOCATION:Main Court
CATEGORIES:QuickScores; Basketball - Adult Game
TRANSP:0
DALARM:20260517T130000;PT10M;2;Hoop Dreams vs. MOVE
END:VEVENT
BEGIN:VEVENT
DTSTART:20260531T140000
DTEND:20260531T150000
SUMMARY:All Money In vs. Hoop Dreams
DESCRIPTION:Sunday - B1 - 
LOCATION:Main Court
CATEGORIES:QuickScores; Basketball - Adult Game
TRANSP:0
DALARM:20260531T120000;PT10M;2;All Money In vs. Hoop Dreams
END:VEVENT
END:VCALENDAR
