BEGIN:VCALENDAR
VERSION:1.0
BEGIN:VEVENT
DTSTART:20260403T180000
DTEND:20260403T190000
SUMMARY:Paddlemates vs. Parks & Rec
DESCRIPTION:Beginner Mixed Doubles - 
LOCATION:Pickleball Court 5
CATEGORIES:QuickScores; Pickleball Game
TRANSP:0
DALARM:20260403T160000;PT10M;2;Paddlemates vs. Parks & Rec
END:VEVENT
BEGIN:VEVENT
DTSTART:20260403T190000
DTEND:20260403T200000
SUMMARY:Paddlemates vs. Pat and Mary
DESCRIPTION:Beginner Mixed Doubles - 
LOCATION:Pickleball Court 5
CATEGORIES:QuickScores; Pickleball Game
TRANSP:0
DALARM:20260403T170000;PT10M;2;Paddlemates vs. Pat and Mary
END:VEVENT
BEGIN:VEVENT
DTSTART:20260410T180000
DTEND:20260410T190000
SUMMARY:Volley Llamas vs. Paddlemates
DESCRIPTION:Beginner Mixed Doubles - 
LOCATION:Pickleball Court 10
CATEGORIES:QuickScores; Pickleball Game
TRANSP:0
DALARM:20260410T160000;PT10M;2;Volley Llamas vs. Paddlemates
END:VEVENT
BEGIN:VEVENT
DTSTART:20260410T190000
DTEND:20260410T200000
SUMMARY:Paddlemates vs. Now You Know
DESCRIPTION:Beginner Mixed Doubles - 
LOCATION:Pickleball Court 9
CATEGORIES:QuickScores; Pickleball Game
TRANSP:0
DALARM:20260410T170000;PT10M;2;Paddlemates vs. Now You Know
END:VEVENT
BEGIN:VEVENT
DTSTART:20260417T180000
DTEND:20260417T190000
SUMMARY:Foote vs. Paddlemates
DESCRIPTION:Beginner Mixed Doubles - 
LOCATION:Pickleball Court 5
CATEGORIES:QuickScores; Pickleball Game
TRANSP:0
DALARM:20260417T160000;PT10M;2;Foote vs. Paddlemates
END:VEVENT
BEGIN:VEVENT
DTSTART:20260417T190000
DTEND:20260417T200000
SUMMARY:Howard and Joy vs. Paddlemates
DESCRIPTION:Beginner Mixed Doubles - 
LOCATION:Pickleball Court 5
CATEGORIES:QuickScores; Pickleball Game
TRANSP:0
DALARM:20260417T170000;PT10M;2;Howard and Joy vs. Paddlemates
END:VEVENT
BEGIN:VEVENT
DTSTART:20260424T180000
DTEND:20260424T190000
SUMMARY:Parks & Rec vs. Paddlemates
DESCRIPTION:Beginner Mixed Doubles - 
LOCATION:Pickleball Court 6
CATEGORIES:QuickScores; Pickleball Game
TRANSP:0
DALARM:20260424T160000;PT10M;2;Parks & Rec vs. Paddlemates
END:VEVENT
BEGIN:VEVENT
DTSTART:20260424T190000
DTEND:20260424T200000
SUMMARY:The Spicy Spears vs. Paddlemates
DESCRIPTION:Beginner Mixed Doubles - 
LOCATION:Pickleball Court 6
CATEGORIES:QuickScores; Pickleball Game
TRANSP:0
DALARM:20260424T170000;PT10M;2;The Spicy Spears vs. Paddlemates
END:VEVENT
BEGIN:VEVENT
DTSTART:20260501T180000
DTEND:20260501T190000
SUMMARY:Paddlemates vs. Volley Llamas
DESCRIPTION:Beginner Mixed Doubles - 
LOCATION:Pickleball Court 6
CATEGORIES:QuickScores; Pickleball Game
TRANSP:0
DALARM:20260501T160000;PT10M;2;Paddlemates vs. Volley Llamas
END:VEVENT
BEGIN:VEVENT
DTSTART:20260501T190000
DTEND:20260501T200000
SUMMARY:Pat and Mary vs. Paddlemates
DESCRIPTION:Beginner Mixed Doubles - 
LOCATION:Pickleball Court 6
CATEGORIES:QuickScores; Pickleball Game
TRANSP:0
DALARM:20260501T170000;PT10M;2;Pat and Mary vs. Paddlemates
END:VEVENT
BEGIN:VEVENT
DTSTART:20260508T180000
DTEND:20260508T190000
SUMMARY:Paddlemates vs. Foote
DESCRIPTION:Beginner Mixed Doubles - 
LOCATION:Pickleball Court 6
CATEGORIES:QuickScores; Pickleball Game
TRANSP:0
DALARM:20260508T160000;PT10M;2;Paddlemates vs. Foote
END:VEVENT
BEGIN:VEVENT
DTSTART:20260508T190000
DTEND:20260508T200000
SUMMARY:Now You Know vs. Paddlemates
DESCRIPTION:Beginner Mixed Doubles - 
LOCATION:Pickleball Court 5
CATEGORIES:QuickScores; Pickleball Game
TRANSP:0
DALARM:20260508T170000;PT10M;2;Now You Know vs. Paddlemates
END:VEVENT
BEGIN:VEVENT
DTSTART:20260515T180000
DTEND:20260515T190000
SUMMARY:Paddlemates vs. Howard and Joy
DESCRIPTION:Beginner Mixed Doubles - 
LOCATION:Pickleball Court 10
CATEGORIES:QuickScores; Pickleball Game
TRANSP:0
DALARM:20260515T160000;PT10M;2;Paddlemates vs. Howard and Joy
END:VEVENT
BEGIN:VEVENT
DTSTART:20260515T190000
DTEND:20260515T200000
SUMMARY:Paddlemates vs. The Spicy Spears
DESCRIPTION:Beginner Mixed Doubles - 
LOCATION:Pickleball Court 10
CATEGORIES:QuickScores; Pickleball Game
TRANSP:0
DALARM:20260515T170000;PT10M;2;Paddlemates vs. The Spicy Spears
END:VEVENT
END:VCALENDAR
