BEGIN:VCALENDAR
VERSION:1.0
BEGIN:VEVENT
DTSTART:20250607T150000
DTEND:20250607T170000
SUMMARY:TC 12U Storm vs. MO 12U BombSquad Blue
DESCRIPTION:TC. #6-31,#11-66. MO  #12-44,#1-17 --- 12U Division I - Centex Tournament Series Schedules
LOCATION:GYBA Field 6
CATEGORIES:QuickScores; Baseball Game
TRANSP:0
DALARM:20250607T130000;PT10M;2;TC 12U Storm vs. MO 12U BombSquad Blue
END:VEVENT
BEGIN:VEVENT
DTSTART:20250608T110000
DTEND:20250608T130000
SUMMARY:LE 12U Titans vs. MO 12U BombSquad Blue
DESCRIPTION:12U Division I - Centex Tournament Series Schedules
LOCATION:GYBA Field 6
CATEGORIES:QuickScores; Baseball Game
TRANSP:0
DALARM:20250608T090000;PT10M;2;LE 12U Titans vs. MO 12U BombSquad Blue
END:VEVENT
BEGIN:VEVENT
DTSTART:20250608T150000
DTEND:20250608T170000
SUMMARY:MO 12U BombSquad Blue vs. MO 12U Boltz (Red)
DESCRIPTION:12U Division I - Centex Tournament Series Schedules
LOCATION:GYBA Field 6
CATEGORIES:QuickScores; Baseball Game
TRANSP:0
DALARM:20250608T130000;PT10M;2;MO 12U BombSquad Blue vs. MO 12U Boltz (Red)
END:VEVENT
BEGIN:VEVENT
DTSTART:20250614T130000
DTEND:20250614T150000
SUMMARY:MO 12U BombSquad Blue vs. CP 12U Crew
DESCRIPTION:MO: #8 43, #34 52. CP: #21 39, #24 31, #26 20 --- 12U Division I - Centex Tournament Series Schedules
LOCATION:OHYSA Big Softball Field
CATEGORIES:QuickScores; Baseball Game
TRANSP:0
DALARM:20250614T110000;PT10M;2;MO 12U BombSquad Blue vs. CP 12U Crew
END:VEVENT
BEGIN:VEVENT
DTSTART:20250615T130000
DTEND:20250615T150000
SUMMARY:MO 12U BombSquad Blue vs. LH 12U Aces
DESCRIPTION:MO: #12(48), #7(29); LH: #16(23), #99(83), #1(5). --- 12U Division I - Centex Tournament Series Schedules
LOCATION:OHYSA Bronco Field
CATEGORIES:QuickScores; Baseball Game
TRANSP:0
DALARM:20250615T110000;PT10M;2;MO 12U BombSquad Blue vs. LH 12U Aces
END:VEVENT
BEGIN:VEVENT
DTSTART:20250621T110000
DTEND:20250621T130000
SUMMARY:RR 12U Warhawks vs. MO 12U BombSquad Blue
DESCRIPTION:RR #5-44#38-36#77-28. MO #8-17#11-28 --- 12U Division I - Centex Tournament Series Schedules
LOCATION:RRBL Field 15
CATEGORIES:QuickScores; Baseball Game
TRANSP:0
DALARM:20250621T090000;PT10M;2;RR 12U Warhawks vs. MO 12U BombSquad Blue
END:VEVENT
BEGIN:VEVENT
DTSTART:20250621T130000
DTEND:20250621T150000
SUMMARY:OH 12U Green vs. MO 12U BombSquad Blue
DESCRIPTION:OH #10-40, #11-32.  MO #12-73, #34-35 --- 12U Division I - Centex Tournament Series Schedules
LOCATION:RRBL Field 15
CATEGORIES:QuickScores; Baseball Game
TRANSP:0
DALARM:20250621T110000;PT10M;2;OH 12U Green vs. MO 12U BombSquad Blue
END:VEVENT
BEGIN:VEVENT
DTSTART:20250622T130000
DTEND:20250622T150000
SUMMARY:MO 12U BombSquad Blue vs. GT 12U Havok
DESCRIPTION:MO. #9-14#11-16. GT. #3-41#2-35#12-20 --- 12U Division I - Centex Tournament Series Schedules
LOCATION:RRBL Field 15
CATEGORIES:QuickScores; Baseball Game
TRANSP:0
DALARM:20250622T110000;PT10M;2;MO 12U BombSquad Blue vs. GT 12U Havok
END:VEVENT
BEGIN:VEVENT
DTSTART:20250622T150000
DTEND:20250622T170000
SUMMARY:OH 12U Gold vs. MO 12U BombSquad Blue
DESCRIPTION:12U Division I - Centex Tournament Series Schedules
LOCATION:RRBL Field 15
CATEGORIES:QuickScores; Baseball Game
TRANSP:0
DALARM:20250622T130000;PT10M;2;OH 12U Gold vs. MO 12U BombSquad Blue
END:VEVENT
BEGIN:VEVENT
DTSTART:20250628T100000
DTEND:20250628T120000
SUMMARY:[3] MO 12U BombSquad Blue vs. [11] TC 12U Storm
DESCRIPTION:MO #1-33, #11-15, #9-2.  TC #33-33, #8-23 #6-16, #11-15 --- 12U Division I - Centex Tournament Series Schedules
LOCATION:RRBL Field 12
CATEGORIES:QuickScores; Baseball Game
TRANSP:0
DALARM:20250628T080000;PT10M;2;[3] MO 12U BombSquad Blue vs. [11] TC 12U Storm
END:VEVENT
BEGIN:VEVENT
DTSTART:20250628T140000
DTEND:20250628T160000
SUMMARY:[2] OH 12U Green vs. [3] MO 12U BombSquad Blue
DESCRIPTION:MO: #8-31, #12-58; OH: #12-71, #11-23. --- 12U Division I - Centex Tournament Series Schedules
LOCATION:RRBL Field 15
CATEGORIES:QuickScores; Baseball Game
TRANSP:0
DALARM:20250628T120000;PT10M;2;[2] OH 12U Green vs. [3] MO 12U BombSquad Blue
END:VEVENT
BEGIN:VEVENT
DTSTART:20250628T180000
DTEND:20250628T200000
SUMMARY:[3] MO 12U BombSquad Blue vs. [6] RR 12U Warhawks
DESCRIPTION:RR #44-27 #93-23 --- 12U Division I - Centex Tournament Series Schedules
LOCATION:RRBL Field 15
CATEGORIES:QuickScores; Baseball Game
TRANSP:0
DALARM:20250628T160000;PT10M;2;[3] MO 12U BombSquad Blue vs. [6] RR 12U Warhawks
END:VEVENT
END:VCALENDAR
