BEGIN:VCALENDAR
VERSION:1.0
BEGIN:VEVENT
DTSTART:20250607T170000
DTEND:20250607T190000
SUMMARY:LE 12U Titans vs. MO 12U Boltz (Red)
DESCRIPTION:LE. #8–20,#15-22. MO #22-35,#12-39,#23-45 --- 12U Division I - Centex Tournament Series Schedules
LOCATION:GYBA Field 7
CATEGORIES:QuickScores; Baseball Game
TRANSP:0
DALARM:20250607T150000;PT10M;2;LE 12U Titans vs. MO 12U Boltz (Red)
END:VEVENT
BEGIN:VEVENT
DTSTART:20250608T130000
DTEND:20250608T150000
SUMMARY:LH 12U Aces vs. MO 12U Boltz (Red)
DESCRIPTION:12U Division I - Centex Tournament Series Schedules
LOCATION:GYBA Field 6
CATEGORIES:QuickScores; Baseball Game
TRANSP:0
DALARM:20250608T110000;PT10M;2;LH 12U Aces vs. MO 12U Boltz (Red)
END:VEVENT
BEGIN:VEVENT
DTSTART:20250608T150000
DTEND:20250608T170000
SUMMARY:MO 12U BombSquad Blue vs. MO 12U Boltz (Red)
DESCRIPTION:12U Division I - Centex Tournament Series Schedules
LOCATION:GYBA Field 6
CATEGORIES:QuickScores; Baseball Game
TRANSP:0
DALARM:20250608T130000;PT10M;2;MO 12U BombSquad Blue vs. MO 12U Boltz (Red)
END:VEVENT
BEGIN:VEVENT
DTSTART:20250614T090000
DTEND:20250614T110000
SUMMARY:TC 12U Storm vs. MO 12U Boltz (Red)
DESCRIPTION:TC: #37 86, #8 16. MO: #21 76, #30 15 --- 12U Division I - Centex Tournament Series Schedules
LOCATION:OHYSA Big Softball Field
CATEGORIES:QuickScores; Baseball Game
TRANSP:0
DALARM:20250614T070000;PT10M;2;TC 12U Storm vs. MO 12U Boltz (Red)
END:VEVENT
BEGIN:VEVENT
DTSTART:20250615T090000
DTEND:20250615T110000
SUMMARY:MO 12U Boltz (Red) vs. LT 12U All Stars
DESCRIPTION:LT: #7 36, #4 23. MO: #22 52 #12 29. --- 12U Division I - Centex Tournament Series Schedules
LOCATION:OHYSA Big Softball Field
CATEGORIES:QuickScores; Baseball Game
TRANSP:0
DALARM:20250615T070000;PT10M;2;MO 12U Boltz (Red) vs. LT 12U All Stars
END:VEVENT
BEGIN:VEVENT
DTSTART:20250615T110000
DTEND:20250615T130000
SUMMARY:MO 12U Boltz (Red) vs. GT 12U Havok
DESCRIPTION:MO: #27(37), #23(33); GT: #7(44), #3(35). --- 12U Division I - Centex Tournament Series Schedules
LOCATION:OHYSA Big Softball Field
CATEGORIES:QuickScores; Baseball Game
TRANSP:0
DALARM:20250615T090000;PT10M;2;MO 12U Boltz (Red) vs. GT 12U Havok
END:VEVENT
BEGIN:VEVENT
DTSTART:20250621T150000
DTEND:20250621T170000
SUMMARY:CP 12U Crew vs. MO 12U Boltz (Red)
DESCRIPTION:CP #24-36, #7-10.  MO #12-46, #23-50, #30-4. --- 12U Division I - Centex Tournament Series Schedules
LOCATION:RRBL Field 15
CATEGORIES:QuickScores; Baseball Game
TRANSP:0
DALARM:20250621T130000;PT10M;2;CP 12U Crew vs. MO 12U Boltz (Red)
END:VEVENT
BEGIN:VEVENT
DTSTART:20250621T170000
DTEND:20250621T190000
SUMMARY:MO 12U Boltz (Red) vs. OH 12U Green
DESCRIPTION:MO #21-57, #22-34.  OH #8-45, #6-10. --- 12U Division I - Centex Tournament Series Schedules
LOCATION:RRBL Field 15
CATEGORIES:QuickScores; Baseball Game
TRANSP:0
DALARM:20250621T150000;PT10M;2;MO 12U Boltz (Red) vs. OH 12U Green
END:VEVENT
BEGIN:VEVENT
DTSTART:20250622T110000
DTEND:20250622T130000
SUMMARY:MO 12U Boltz (Red) vs. RR 12U Warhawks
DESCRIPTION:MO. #27-47#30-19#21#23. RR #10-51#5-25#14-3#93-12 --- 12U Division I - Centex Tournament Series Schedules
LOCATION:RRBL Field 15
CATEGORIES:QuickScores; Baseball Game
TRANSP:0
DALARM:20250622T090000;PT10M;2;MO 12U Boltz (Red) vs. RR 12U Warhawks
END:VEVENT
BEGIN:VEVENT
DTSTART:20250627T180000
DTEND:20250627T200000
SUMMARY:[8] LT 12U All Stars vs. [9] MO 12U Boltz (Red)
DESCRIPTION:LT #18-70. MO #27-46#23-27 --- 12U Division I - Centex Tournament Series Schedules
LOCATION:RRBL Field 12
CATEGORIES:QuickScores; Baseball Game
TRANSP:0
DALARM:20250627T160000;PT10M;2;[8] LT 12U All Stars vs. [9] MO 12U Boltz (Red)
END:VEVENT
BEGIN:VEVENT
DTSTART:20250628T120000
DTEND:20250628T140000
SUMMARY:[11] TC 12U Storm vs. [9] MO 12U Boltz (Red)
DESCRIPTION:TC: #37-15, #16-18, #8-16; MO: #21-38, #30-28, #27-33. --- 12U Division I - Centex Tournament Series Schedules
LOCATION:RRBL Field 12
CATEGORIES:QuickScores; Baseball Game
TRANSP:0
DALARM:20250628T100000;PT10M;2;[11] TC 12U Storm vs. [9] MO 12U Boltz (Red)
END:VEVENT
END:VCALENDAR
