BEGIN:VCALENDAR
VERSION:1.0
BEGIN:VEVENT
DTSTART:20250607T080000
DTEND:20250607T094500
SUMMARY:RR 10U Goon Squad vs. GT 10U Texas Rangers
DESCRIPTION:RR: #7(28), #14(18). GT: #99(32), #88(42). --- 10U Division III - Centex Tournament Series Schedules
LOCATION:Leander Field 3
CATEGORIES:QuickScores; Baseball Game
TRANSP:0
DALARM:20250607T060000;PT10M;2;RR 10U Goon Squad vs. GT 10U Texas Rangers
END:VEVENT
BEGIN:VEVENT
DTSTART:20250608T150000
DTEND:20250608T164500
SUMMARY:RR 10U Goon Squad vs. WM 10U Red
DESCRIPTION:WM: #88(64), #6(10), #8(21). RR: #7(24), #19(18). --- 10U Division III - Centex Tournament Series Schedules
LOCATION:Leander Field 3
CATEGORIES:QuickScores; Baseball Game
TRANSP:0
DALARM:20250608T130000;PT10M;2;RR 10U Goon Squad vs. WM 10U Red
END:VEVENT
BEGIN:VEVENT
DTSTART:20250608T164500
DTEND:20250608T183000
SUMMARY:RR 10U Goon Squad vs. MO 10U Maniacs
DESCRIPTION:MO: #44(55), #11(36). RR: #19(30), #14(26), #7(23). --- 10U Division III - Centex Tournament Series Schedules
LOCATION:Leander Field 3
CATEGORIES:QuickScores; Baseball Game
TRANSP:0
DALARM:20250608T144500;PT10M;2;RR 10U Goon Squad vs. MO 10U Maniacs
END:VEVENT
BEGIN:VEVENT
DTSTART:20250614T183000
DTEND:20250614T201500
SUMMARY:LH 10U Panthers vs. RR 10U Goon Squad
DESCRIPTION:LH: #18 29, #3 30, #99 6. RR: #7 38, #19 23, #25 21 --- 10U Division III - Centex Tournament Series Schedules
LOCATION:OHYSA Mustang 1 Field
CATEGORIES:QuickScores; Baseball Game
TRANSP:0
DALARM:20250614T163000;PT10M;2;LH 10U Panthers vs. RR 10U Goon Squad
END:VEVENT
BEGIN:VEVENT
DTSTART:20250615T094500
DTEND:20250615T113000
SUMMARY:LT 10U Beasley vs. RR 10U Goon Squad
DESCRIPTION:LT: #99 26, #16 23, #19 25, #25 15, #13 42 --- 10U Division III - Centex Tournament Series Schedules
LOCATION:OHYSA Mustang 1 Field
CATEGORIES:QuickScores; Baseball Game
TRANSP:0
DALARM:20250615T074500;PT10M;2;LT 10U Beasley vs. RR 10U Goon Squad
END:VEVENT
BEGIN:VEVENT
DTSTART:20250615T131500
DTEND:20250615T150000
SUMMARY:MF 10U Mustangs Gold vs. RR 10U Goon Squad
DESCRIPTION:RR: #7 37, #19 21, #25 2. MF: #13 59, #6 11 --- 10U Division III - Centex Tournament Series Schedules
LOCATION:OHYSA Mustang 1 Field
CATEGORIES:QuickScores; Baseball Game
TRANSP:0
DALARM:20250615T111500;PT10M;2;MF 10U Mustangs Gold vs. RR 10U Goon Squad
END:VEVENT
BEGIN:VEVENT
DTSTART:20250621T150000
DTEND:20250621T164500
SUMMARY:RR 10U Goon Squad vs. DS 10U Gold
DESCRIPTION:DS - #3 Benson (46p) #23 Lopez (17p), RR - #7 Easton (50p) #14 Sarantidis (26p) --- 10U Division III - Centex Tournament Series Schedules
LOCATION:CPYL Veterans
CATEGORIES:QuickScores; Baseball Game
TRANSP:0
DALARM:20250621T130000;PT10M;2;RR 10U Goon Squad vs. DS 10U Gold
END:VEVENT
BEGIN:VEVENT
DTSTART:20250621T183000
DTEND:20250621T201500
SUMMARY:RR 10U Goon Squad vs. OH 10U Black Bolts
DESCRIPTION:OH - #7 Hall (26p) #14 Sarantido (24p) #19 Jayden (26p), RR - #6  Cantu (42p), #4 Hansard (1p) --- 10U Division III - Centex Tournament Series Schedules
LOCATION:CPYL Veterans
CATEGORIES:QuickScores; Baseball Game
TRANSP:0
DALARM:20250621T163000;PT10M;2;RR 10U Goon Squad vs. OH 10U Black Bolts
END:VEVENT
BEGIN:VEVENT
DTSTART:20250622T183000
DTEND:20250622T201500
SUMMARY:LH 10U Panthers vs. RR 10U Goon Squad
DESCRIPTION:RR - #19 Thomas (47p), #14 Sarentidis (18p), #25 Makaafi (5p); LH - #15 Hill (70p), #24 Hildenbrandt (15). --- 10U Division III - Centex Tournament Series Schedules
LOCATION:CPYL Veterans
CATEGORIES:QuickScores; Baseball Game
TRANSP:0
DALARM:20250622T163000;PT10M;2;LH 10U Panthers vs. RR 10U Goon Squad
END:VEVENT
BEGIN:VEVENT
DTSTART:20250628T080000
DTEND:20250628T094500
SUMMARY:[4] LH 10U Panthers vs. [5] RR 10U Goon Squad
DESCRIPTION:LH:4-58, #3-12. RR: #19-19, #14-27, #13-23 --- 10U Division III - Centex Tournament Series Schedules
LOCATION:GYBA Field 4
CATEGORIES:QuickScores; Baseball Game
TRANSP:0
DALARM:20250628T060000;PT10M;2;[4] LH 10U Panthers vs. [5] RR 10U Goon Squad
END:VEVENT
BEGIN:VEVENT
DTSTART:20250628T150000
DTEND:20250628T164500
SUMMARY:[5] RR 10U Goon Squad vs. [9] WM 10U Red
DESCRIPTION:RR: #7-18, #25-14, #37-18 --- 10U Division III - Centex Tournament Series Schedules
LOCATION:GYBA Field 4
CATEGORIES:QuickScores; Baseball Game
TRANSP:0
DALARM:20250628T130000;PT10M;2;[5] RR 10U Goon Squad vs. [9] WM 10U Red
END:VEVENT
BEGIN:VEVENT
DTSTART:20250628T164500
DTEND:20250628T183000
SUMMARY:[6] MO 10U Maniacs vs. [5] RR 10U Goon Squad
DESCRIPTION:MO: #11-43, #16-21, #13-6 --- 10U Division III - Centex Tournament Series Schedules
LOCATION:GYBA Field 4
CATEGORIES:QuickScores; Baseball Game
TRANSP:0
DALARM:20250628T144500;PT10M;2;[6] MO 10U Maniacs vs. [5] RR 10U Goon Squad
END:VEVENT
END:VCALENDAR
