BEGIN:VCALENDAR
VERSION:1.0
BEGIN:VEVENT
DTSTART:20250607T183000
DTEND:20250607T201500
SUMMARY:DS 10U Gold vs. MF 10U Mustangs Gold
DESCRIPTION:DS: #8(43), #18(34). MF: #2(21), #6(22), #16(33). --- 10U Division III - Centex Tournament Series Schedules
LOCATION:Leander Field 3
CATEGORIES:QuickScores; Baseball Game
TRANSP:0
DALARM:20250607T163000;PT10M;2;DS 10U Gold vs. MF 10U Mustangs Gold
END:VEVENT
BEGIN:VEVENT
DTSTART:20250608T094500
DTEND:20250608T113000
SUMMARY:GT 10U Texas Rangers vs. MF 10U Mustangs Gold
DESCRIPTION:GT: #9(19), #2(17), #88(11), #99(14). MF: #13(44), #4(19). --- 10U Division III - Centex Tournament Series Schedules
LOCATION:Leander Field 3
CATEGORIES:QuickScores; Baseball Game
TRANSP:0
DALARM:20250608T074500;PT10M;2;GT 10U Texas Rangers vs. MF 10U Mustangs Gold
END:VEVENT
BEGIN:VEVENT
DTSTART:20250608T113000
DTEND:20250608T131500
SUMMARY:LT 10U Beasley vs. MF 10U Mustangs Gold
DESCRIPTION:LT: #16(69), #28(9). MF: #4(27), #27(16), #7(14), #34(22). --- 10U Division III - Centex Tournament Series Schedules
LOCATION:Leander Field 3
CATEGORIES:QuickScores; Baseball Game
TRANSP:0
DALARM:20250608T093000;PT10M;2;LT 10U Beasley vs. MF 10U Mustangs Gold
END:VEVENT
BEGIN:VEVENT
DTSTART:20250614T164500
DTEND:20250614T183000
SUMMARY:WM 10U Red vs. MF 10U Mustangs Gold
DESCRIPTION:WM: #7 65, #95 6. MF: #4 43, #0 45 --- 10U Division III - Centex Tournament Series Schedules
LOCATION:OHYSA Mustang 1 Field
CATEGORIES:QuickScores; Baseball Game
TRANSP:0
DALARM:20250614T144500;PT10M;2;WM 10U Red vs. MF 10U Mustangs Gold
END:VEVENT
BEGIN:VEVENT
DTSTART:20250615T131500
DTEND:20250615T150000
SUMMARY:MF 10U Mustangs Gold vs. RR 10U Goon Squad
DESCRIPTION:RR: #7 37, #19 21, #25 2. MF: #13 59, #6 11 --- 10U Division III - Centex Tournament Series Schedules
LOCATION:OHYSA Mustang 1 Field
CATEGORIES:QuickScores; Baseball Game
TRANSP:0
DALARM:20250615T111500;PT10M;2;MF 10U Mustangs Gold vs. RR 10U Goon Squad
END:VEVENT
BEGIN:VEVENT
DTSTART:20250621T164500
DTEND:20250621T183000
SUMMARY:MF 10U Mustangs Gold vs. MO 10U Maniacs
DESCRIPTION:MO - #1 Bracamontes (17p) #24 Opdyke (31p) #4 Herring (27p) #11 Gregory (9p), MF - #16 Amezquita (32p) #2 Caviness (29p) --- 10U Division III - Centex Tournament Series Schedules
LOCATION:CPYL Veterans
CATEGORIES:QuickScores; Baseball Game
TRANSP:0
DALARM:20250621T144500;PT10M;2;MF 10U Mustangs Gold vs. MO 10U Maniacs
END:VEVENT
BEGIN:VEVENT
DTSTART:20250622T131500
DTEND:20250622T150000
SUMMARY:OH 10U Black Bolts vs. MF 10U Mustangs Gold
DESCRIPTION:OH - #13 Martin (28p) #14 Zahn (7p) #6 Cantu (23p) #12 Day (26p), MF - #16 Amezquita (38p) #6 Escobar (20p) --- 10U Division III - Centex Tournament Series Schedules
LOCATION:CPYL Veterans
CATEGORIES:QuickScores; Baseball Game
TRANSP:0
DALARM:20250622T111500;PT10M;2;OH 10U Black Bolts vs. MF 10U Mustangs Gold
END:VEVENT
BEGIN:VEVENT
DTSTART:20250622T164500
DTEND:20250622T183000
SUMMARY:MF 10U Mustangs Gold vs. WM 10U Red
DESCRIPTION:MF -  #13 Madrid (20p) #4 Henderson (27p) #27 Frisch (11p), #88 Brown (44p) #6 Benae (25p) #95 Holloway (4p) --- 10U Division III - Centex Tournament Series Schedules
LOCATION:CPYL Veterans
CATEGORIES:QuickScores; Baseball Game
TRANSP:0
DALARM:20250622T144500;PT10M;2;MF 10U Mustangs Gold vs. WM 10U Red
END:VEVENT
BEGIN:VEVENT
DTSTART:20250628T094500
DTEND:20250628T113000
SUMMARY:[2] MF 10U Mustangs Gold vs. [7] GT 10U Texas Rangers
DESCRIPTION:GT:#99-23, #88-16, #9-34 MF: #2-28, #0-19, #4-35 --- 10U Division III - Centex Tournament Series Schedules
LOCATION:GYBA Field 1
CATEGORIES:QuickScores; Baseball Game
TRANSP:0
DALARM:20250628T074500;PT10M;2;[2] MF 10U Mustangs Gold vs. [7] GT 10U Texas Rangers
END:VEVENT
BEGIN:VEVENT
DTSTART:20250628T131500
DTEND:20250628T150000
SUMMARY:[2] MF 10U Mustangs Gold vs. [6] MO 10U Maniacs
DESCRIPTION:MO: #24-36, #44-21, #7-21, #11-14,  MF: #16-27, #6-15 --- 10U Division III - Centex Tournament Series Schedules
LOCATION:GYBA Field 4
CATEGORIES:QuickScores; Baseball Game
TRANSP:0
DALARM:20250628T111500;PT10M;2;[2] MF 10U Mustangs Gold vs. [6] MO 10U Maniacs
END:VEVENT
BEGIN:VEVENT
DTSTART:20250629T104500
DTEND:20250629T123000
SUMMARY:[1] DS 10U Gold vs. [2] MF 10U Mustangs Gold
DESCRIPTION:DS: #8-61, #4-5; MF: #7-44, #6-23. --- 10U Division III - Centex Tournament Series Schedules
LOCATION:RRBL Field 16
CATEGORIES:QuickScores; Baseball Game
TRANSP:0
DALARM:20250629T084500;PT10M;2;[1] DS 10U Gold vs. [2] MF 10U Mustangs Gold
END:VEVENT
BEGIN:VEVENT
DTSTART:20250629T123000
DTEND:20250629T141500
SUMMARY:[2] MF 10U Mustangs Gold vs. [3] OH 10U Black Bolts
DESCRIPTION:MF: #6-23, #4-27, #16-17; OH: #5-31, #10-48, #8-7, #12-3. --- 10U Division III - Centex Tournament Series Schedules
LOCATION:RRBL Field 16
CATEGORIES:QuickScores; Baseball Game
TRANSP:0
DALARM:20250629T103000;PT10M;2;[2] MF 10U Mustangs Gold vs. [3] OH 10U Black Bolts
END:VEVENT
BEGIN:VEVENT
DTSTART:20250629T141500
DTEND:20250629T160000
SUMMARY:[1] DS 10U Gold vs. [2] MF 10U Mustangs Gold
DESCRIPTION:DS: #3-60, #4-13; MF: #13-19, #16-26, #6-10, #27-24. --- 10U Division III - Centex Tournament Series Schedules
LOCATION:RRBL Field 16
CATEGORIES:QuickScores; Baseball Game
TRANSP:0
DALARM:20250629T121500;PT10M;2;[1] DS 10U Gold vs. [2] MF 10U Mustangs Gold
END:VEVENT
END:VCALENDAR
