BEGIN:VCALENDAR
VERSION:1.0
BEGIN:VEVENT
DTSTART:20250607T090000
DTEND:20250607T101500
SUMMARY:RR 6U Diamond Dawgs vs. GT 6U Swamp Dawgs
DESCRIPTION:6U Division II - Centex Tournament Series Schedules
LOCATION:TC Field 10
CATEGORIES:QuickScores; Baseball Game
TRANSP:0
DALARM:20250607T070000;PT10M;2;RR 6U Diamond Dawgs vs. GT 6U Swamp Dawgs
END:VEVENT
BEGIN:VEVENT
DTSTART:20250607T101500
DTEND:20250607T113000
SUMMARY:DS 6U Maroon vs. RR 6U Diamond Dawgs
DESCRIPTION:6U Division II - Centex Tournament Series Schedules
LOCATION:TC Field 10
CATEGORIES:QuickScores; Baseball Game
TRANSP:0
DALARM:20250607T081500;PT10M;2;DS 6U Maroon vs. RR 6U Diamond Dawgs
END:VEVENT
BEGIN:VEVENT
DTSTART:20250608T090000
DTEND:20250608T101500
SUMMARY:RR 6U Diamond Dawgs vs. LV 6U Vikings
DESCRIPTION:6U Division II - Centex Tournament Series Schedules
LOCATION:TC Field 10
CATEGORIES:QuickScores; Baseball Game
TRANSP:0
DALARM:20250608T070000;PT10M;2;RR 6U Diamond Dawgs vs. LV 6U Vikings
END:VEVENT
BEGIN:VEVENT
DTSTART:20250614T174500
DTEND:20250614T190000
SUMMARY:RR 6U Diamond Dawgs vs. TC 6U Rebels
DESCRIPTION:6U Division II - Centex Tournament Series Schedules
LOCATION:OHYSA Small Softball Field
CATEGORIES:QuickScores; Baseball Game
TRANSP:0
DALARM:20250614T154500;PT10M;2;RR 6U Diamond Dawgs vs. TC 6U Rebels
END:VEVENT
BEGIN:VEVENT
DTSTART:20250621T103000
DTEND:20250621T114500
SUMMARY:RR 6U Diamond Dawgs vs. CP 6U Comets
DESCRIPTION:6U Division II - Centex Tournament Series Schedules
LOCATION:CPYL Catalina
CATEGORIES:QuickScores; Baseball Game
TRANSP:0
DALARM:20250621T083000;PT10M;2;RR 6U Diamond Dawgs vs. CP 6U Comets
END:VEVENT
BEGIN:VEVENT
DTSTART:20250621T130000
DTEND:20250621T141500
SUMMARY:LT 6U Bombers vs. RR 6U Diamond Dawgs
DESCRIPTION:6U Division II - Centex Tournament Series Schedules
LOCATION:CPYL Catalina
CATEGORIES:QuickScores; Baseball Game
TRANSP:0
DALARM:20250621T110000;PT10M;2;LT 6U Bombers vs. RR 6U Diamond Dawgs
END:VEVENT
BEGIN:VEVENT
DTSTART:20250622T113000
DTEND:20250622T124500
SUMMARY:SM 6U Purple vs. RR 6U Diamond Dawgs
DESCRIPTION:6U Division II - Centex Tournament Series Schedules
LOCATION:CPYL Catalina
CATEGORIES:QuickScores; Baseball Game
TRANSP:0
DALARM:20250622T093000;PT10M;2;SM 6U Purple vs. RR 6U Diamond Dawgs
END:VEVENT
BEGIN:VEVENT
DTSTART:20250622T124500
DTEND:20250622T140000
SUMMARY:MO 6U Silver Wolfpack vs. RR 6U Diamond Dawgs
DESCRIPTION:6U Division II - Centex Tournament Series Schedules
LOCATION:CPYL Catalina
CATEGORIES:QuickScores; Baseball Game
TRANSP:0
DALARM:20250622T104500;PT10M;2;MO 6U Silver Wolfpack vs. RR 6U Diamond Dawgs
END:VEVENT
BEGIN:VEVENT
DTSTART:20250628T080000
DTEND:20250628T091500
SUMMARY:[7] LH 6U Wranglers vs. [10] RR 6U Diamond Dawgs
DESCRIPTION:6U Division II - Centex Tournament Series Schedules
LOCATION:RRBL Field 4
CATEGORIES:QuickScores; Baseball Game
TRANSP:0
DALARM:20250628T060000;PT10M;2;[7] LH 6U Wranglers vs. [10] RR 6U Diamond Dawgs
END:VEVENT
BEGIN:VEVENT
DTSTART:20250628T114500
DTEND:20250628T130000
SUMMARY:[4] LV 6U Vikings vs. [10] RR 6U Diamond Dawgs
DESCRIPTION:6U Division II - Centex Tournament Series Schedules
LOCATION:RRBL Field 4
CATEGORIES:QuickScores; Baseball Game
TRANSP:0
DALARM:20250628T094500;PT10M;2;[4] LV 6U Vikings vs. [10] RR 6U Diamond Dawgs
END:VEVENT
END:VCALENDAR
