BEGIN:VCALENDAR
VERSION:1.0
BEGIN:VEVENT
DTSTART:20250606T180000
DTEND:20250606T191500
SUMMARY:TC 6U Rebels vs. CP 6U Comets
DESCRIPTION:6U Division II - Centex Tournament Series Schedules
LOCATION:TC Field 10
CATEGORIES:QuickScores; Baseball Game
TRANSP:0
DALARM:20250606T160000;PT10M;2;TC 6U Rebels vs. CP 6U Comets
END:VEVENT
BEGIN:VEVENT
DTSTART:20250606T191500
DTEND:20250606T203000
SUMMARY:LV 6U Vikings vs. TC 6U Rebels
DESCRIPTION:6U Division II - Centex Tournament Series Schedules
LOCATION:TC Field 10
CATEGORIES:QuickScores; Baseball Game
TRANSP:0
DALARM:20250606T171500;PT10M;2;LV 6U Vikings vs. TC 6U Rebels
END:VEVENT
BEGIN:VEVENT
DTSTART:20250608T113000
DTEND:20250608T124500
SUMMARY:TC 6U Rebels vs. SM 6U Purple
DESCRIPTION:6U Division II - Centex Tournament Series Schedules
LOCATION:TC Field 10
CATEGORIES:QuickScores; Baseball Game
TRANSP:0
DALARM:20250608T093000;PT10M;2;TC 6U Rebels vs. SM 6U Purple
END:VEVENT
BEGIN:VEVENT
DTSTART:20250608T124500
DTEND:20250608T140000
SUMMARY:LT 6U Bombers vs. TC 6U Rebels
DESCRIPTION:6U Division II - Centex Tournament Series Schedules
LOCATION:TC Field 10
CATEGORIES:QuickScores; Baseball Game
TRANSP:0
DALARM:20250608T104500;PT10M;2;LT 6U Bombers vs. TC 6U Rebels
END:VEVENT
BEGIN:VEVENT
DTSTART:20250614T174500
DTEND:20250614T190000
SUMMARY:RR 6U Diamond Dawgs vs. TC 6U Rebels
DESCRIPTION:6U Division II - Centex Tournament Series Schedules
LOCATION:OHYSA Small Softball Field
CATEGORIES:QuickScores; Baseball Game
TRANSP:0
DALARM:20250614T154500;PT10M;2;RR 6U Diamond Dawgs vs. TC 6U Rebels
END:VEVENT
BEGIN:VEVENT
DTSTART:20250615T101500
DTEND:20250615T113000
SUMMARY:TC 6U Rebels vs. LH 6U Wranglers
DESCRIPTION:6U Division II - Centex Tournament Series Schedules
LOCATION:OHYSA Small Softball Field
CATEGORIES:QuickScores; Baseball Game
TRANSP:0
DALARM:20250615T081500;PT10M;2;TC 6U Rebels vs. LH 6U Wranglers
END:VEVENT
BEGIN:VEVENT
DTSTART:20250621T091500
DTEND:20250621T103000
SUMMARY:OH 6U Gold vs. TC 6U Rebels
DESCRIPTION:6U Division II - Centex Tournament Series Schedules
LOCATION:CPYL Catalina
CATEGORIES:QuickScores; Baseball Game
TRANSP:0
DALARM:20250621T071500;PT10M;2;OH 6U Gold vs. TC 6U Rebels
END:VEVENT
BEGIN:VEVENT
DTSTART:20250621T114500
DTEND:20250621T130000
SUMMARY:TC 6U Rebels vs. DS 6U Maroon
DESCRIPTION:6U Division II - Centex Tournament Series Schedules
LOCATION:CPYL Catalina
CATEGORIES:QuickScores; Baseball Game
TRANSP:0
DALARM:20250621T094500;PT10M;2;TC 6U Rebels vs. DS 6U Maroon
END:VEVENT
BEGIN:VEVENT
DTSTART:20250622T151500
DTEND:20250622T163000
SUMMARY:GT 6U Swamp Dawgs vs. TC 6U Rebels
DESCRIPTION:6U Division II - Centex Tournament Series Schedules
LOCATION:CPYL Catalina
CATEGORIES:QuickScores; Baseball Game
TRANSP:0
DALARM:20250622T131500;PT10M;2;GT 6U Swamp Dawgs vs. TC 6U Rebels
END:VEVENT
BEGIN:VEVENT
DTSTART:20250628T103000
DTEND:20250628T114500
SUMMARY:[1] TC 6U Rebels vs. [8] CP 6U Comets
DESCRIPTION:6U Division II - Centex Tournament Series Schedules
LOCATION:RRBL Field 3
CATEGORIES:QuickScores; Baseball Game
TRANSP:0
DALARM:20250628T083000;PT10M;2;[1] TC 6U Rebels vs. [8] CP 6U Comets
END:VEVENT
BEGIN:VEVENT
DTSTART:20250628T141500
DTEND:20250628T153000
SUMMARY:[1] TC 6U Rebels vs. [5] DS 6U Maroon
DESCRIPTION:6U Division II - Centex Tournament Series Schedules
LOCATION:RRBL Field 3
CATEGORIES:QuickScores; Baseball Game
TRANSP:0
DALARM:20250628T121500;PT10M;2;[1] TC 6U Rebels vs. [5] DS 6U Maroon
END:VEVENT
BEGIN:VEVENT
DTSTART:20250629T121500
DTEND:20250629T133000
SUMMARY:[1] TC 6U Rebels vs. [2] GT 6U Swamp Dawgs
DESCRIPTION:6U Division II - Centex Tournament Series Schedules
LOCATION:RRBL Field 9
CATEGORIES:QuickScores; Baseball Game
TRANSP:0
DALARM:20250629T101500;PT10M;2;[1] TC 6U Rebels vs. [2] GT 6U Swamp Dawgs
END:VEVENT
BEGIN:VEVENT
DTSTART:20250629T144500
DTEND:20250629T160000
SUMMARY:[1] TC 6U Rebels vs. [2] GT 6U Swamp Dawgs
DESCRIPTION:6U Division II - Centex Tournament Series Schedules
LOCATION:RRBL Field 9
CATEGORIES:QuickScores; Baseball Game
TRANSP:0
DALARM:20250629T124500;PT10M;2;[1] TC 6U Rebels vs. [2] GT 6U Swamp Dawgs
END:VEVENT
END:VCALENDAR
