BEGIN:VCALENDAR
VERSION:1.0
BEGIN:VEVENT
DTSTART:20260505T180000
DTEND:20260505T190000
SUMMARY:McNary Kottek vs. Woodburn Coon*
DESCRIPTION:#5 Minor National - Clackamas County Junior Baseball
LOCATION:TBD
CATEGORIES:QuickScores; Baseball Game
TRANSP:0
DALARM:20260505T160000;PT10M;2;McNary Kottek vs. Woodburn Coon*
END:VEVENT
BEGIN:VEVENT
DTSTART:20260507T180000
DTEND:20260507T190000
SUMMARY:Molalla Vidourek vs. Woodburn Coon*
DESCRIPTION:#5 Minor National - Clackamas County Junior Baseball
LOCATION:TBD
CATEGORIES:QuickScores; Baseball Game
TRANSP:0
DALARM:20260507T160000;PT10M;2;Molalla Vidourek vs. Woodburn Coon*
END:VEVENT
BEGIN:VEVENT
DTSTART:20260512T180000
DTEND:20260512T190000
SUMMARY:West Linn Day vs. Woodburn Coon*
DESCRIPTION:#5 Minor National - Clackamas County Junior Baseball
LOCATION:TBD
CATEGORIES:QuickScores; Baseball Game
TRANSP:0
DALARM:20260512T160000;PT10M;2;West Linn Day vs. Woodburn Coon*
END:VEVENT
BEGIN:VEVENT
DTSTART:20260514T180000
DTEND:20260514T190000
SUMMARY:Woodburn Coon* vs. West Linn Day
DESCRIPTION:#5 Minor National - Clackamas County Junior Baseball
LOCATION:TBD
CATEGORIES:QuickScores; Baseball Game
TRANSP:0
DALARM:20260514T160000;PT10M;2;Woodburn Coon* vs. West Linn Day
END:VEVENT
BEGIN:VEVENT
DTSTART:20260519T180000
DTEND:20260519T190000
SUMMARY:Molalla Vidourek vs. Woodburn Coon*
DESCRIPTION:#5 Minor National - Clackamas County Junior Baseball
LOCATION:TBD
CATEGORIES:QuickScores; Baseball Game
TRANSP:0
DALARM:20260519T160000;PT10M;2;Molalla Vidourek vs. Woodburn Coon*
END:VEVENT
BEGIN:VEVENT
DTSTART:20260521T180000
DTEND:20260521T190000
SUMMARY:Woodburn Coon* vs. McNary Kottek
DESCRIPTION:#5 Minor National - Clackamas County Junior Baseball
LOCATION:TBD
CATEGORIES:QuickScores; Baseball Game
TRANSP:0
DALARM:20260521T160000;PT10M;2;Woodburn Coon* vs. McNary Kottek
END:VEVENT
BEGIN:VEVENT
DTSTART:20260526T180000
DTEND:20260526T190000
SUMMARY:Woodburn Coon* vs. Oregon City Fjelstad
DESCRIPTION:#5 Minor National - Clackamas County Junior Baseball
LOCATION:TBD
CATEGORIES:QuickScores; Baseball Game
TRANSP:0
DALARM:20260526T160000;PT10M;2;Woodburn Coon* vs. Oregon City Fjelstad
END:VEVENT
BEGIN:VEVENT
DTSTART:20260528T180000
DTEND:20260528T190000
SUMMARY:Canby Hill vs. Woodburn Coon*
DESCRIPTION:#5 Minor National - Clackamas County Junior Baseball
LOCATION:TBD
CATEGORIES:QuickScores; Baseball Game
TRANSP:0
DALARM:20260528T160000;PT10M;2;Canby Hill vs. Woodburn Coon*
END:VEVENT
BEGIN:VEVENT
DTSTART:20260602T180000
DTEND:20260602T190000
SUMMARY:McNary Kottek vs. Woodburn Coon*
DESCRIPTION:#5 Minor National - Clackamas County Junior Baseball
LOCATION:TBD
CATEGORIES:QuickScores; Baseball Game
TRANSP:0
DALARM:20260602T160000;PT10M;2;McNary Kottek vs. Woodburn Coon*
END:VEVENT
BEGIN:VEVENT
DTSTART:20260604T180000
DTEND:20260604T190000
SUMMARY:Woodburn Coon* vs. West Linn Day
DESCRIPTION:#5 Minor National - Clackamas County Junior Baseball
LOCATION:TBD
CATEGORIES:QuickScores; Baseball Game
TRANSP:0
DALARM:20260604T160000;PT10M;2;Woodburn Coon* vs. West Linn Day
END:VEVENT
BEGIN:VEVENT
DTSTART:20260609T180000
DTEND:20260609T190000
SUMMARY:Woodburn Coon* vs. Canby Hill
DESCRIPTION:#5 Minor National - Clackamas County Junior Baseball
LOCATION:TBD
CATEGORIES:QuickScores; Baseball Game
TRANSP:0
DALARM:20260609T160000;PT10M;2;Woodburn Coon* vs. Canby Hill
END:VEVENT
BEGIN:VEVENT
DTSTART:20260611T180000
DTEND:20260611T190000
SUMMARY:Woodburn Coon* vs. Molalla Vidourek
DESCRIPTION:#5 Minor National - Clackamas County Junior Baseball
LOCATION:TBD
CATEGORIES:QuickScores; Baseball Game
TRANSP:0
DALARM:20260611T160000;PT10M;2;Woodburn Coon* vs. Molalla Vidourek
END:VEVENT
BEGIN:VEVENT
DTSTART:20260616T180000
DTEND:20260616T190000
SUMMARY:Woodburn Coon* vs. Canby Hill
DESCRIPTION:#5 Minor National - Clackamas County Junior Baseball
LOCATION:TBD
CATEGORIES:QuickScores; Baseball Game
TRANSP:0
DALARM:20260616T160000;PT10M;2;Woodburn Coon* vs. Canby Hill
END:VEVENT
BEGIN:VEVENT
DTSTART:20260618T180000
DTEND:20260618T190000
SUMMARY:Oregon City Fjelstad vs. Woodburn Coon*
DESCRIPTION:#5 Minor National - Clackamas County Junior Baseball
LOCATION:TBD
CATEGORIES:QuickScores; Baseball Game
TRANSP:0
DALARM:20260618T160000;PT10M;2;Oregon City Fjelstad vs. Woodburn Coon*
END:VEVENT
BEGIN:VEVENT
DTSTART:20260623T180000
DTEND:20260623T190000
SUMMARY:Woodburn Coon* vs. West Linn Day
DESCRIPTION:#5 Minor National - Clackamas County Junior Baseball
LOCATION:TBD
CATEGORIES:QuickScores; Baseball Game
TRANSP:0
DALARM:20260623T160000;PT10M;2;Woodburn Coon* vs. West Linn Day
END:VEVENT
BEGIN:VEVENT
DTSTART:20260625T180000
DTEND:20260625T190000
SUMMARY:Oregon City Fjelstad vs. Woodburn Coon*
DESCRIPTION:#5 Minor National - Clackamas County Junior Baseball
LOCATION:TBD
CATEGORIES:QuickScores; Baseball Game
TRANSP:0
DALARM:20260625T160000;PT10M;2;Oregon City Fjelstad vs. Woodburn Coon*
END:VEVENT
END:VCALENDAR
