BEGIN:VCALENDAR
VERSION:1.0
BEGIN:VEVENT
DTSTART:20260504T180000
DTEND:20260504T190000
SUMMARY:Country Christian Duhrkoop vs. Estacada Juarez
DESCRIPTION:#2 Minor National - Clackamas County Junior Baseball
LOCATION:TBD
CATEGORIES:QuickScores; Baseball Game
TRANSP:0
DALARM:20260504T160000;PT10M;2;Country Christian Duhrkoop vs. Estacada Juarez
END:VEVENT
BEGIN:VEVENT
DTSTART:20260511T180000
DTEND:20260511T190000
SUMMARY:Gladstone Morse vs. Estacada Juarez
DESCRIPTION:#2 Minor National - Clackamas County Junior Baseball
LOCATION:TBD
CATEGORIES:QuickScores; Baseball Game
TRANSP:0
DALARM:20260511T160000;PT10M;2;Gladstone Morse vs. Estacada Juarez
END:VEVENT
BEGIN:VEVENT
DTSTART:20260513T180000
DTEND:20260513T190000
SUMMARY:Estacada Juarez vs. Woodburn Hayden*
DESCRIPTION:#2 Minor National - Clackamas County Junior Baseball
LOCATION:TBD
CATEGORIES:QuickScores; Baseball Game
TRANSP:0
DALARM:20260513T160000;PT10M;2;Estacada Juarez vs. Woodburn Hayden*
END:VEVENT
BEGIN:VEVENT
DTSTART:20260518T180000
DTEND:20260518T190000
SUMMARY:Nelson Espeland vs. Estacada Juarez
DESCRIPTION:#2 Minor National - Clackamas County Junior Baseball
LOCATION:TBD
CATEGORIES:QuickScores; Baseball Game
TRANSP:0
DALARM:20260518T160000;PT10M;2;Nelson Espeland vs. Estacada Juarez
END:VEVENT
BEGIN:VEVENT
DTSTART:20260520T180000
DTEND:20260520T190000
SUMMARY:Estacada Juarez vs. Mt Angel Beyer
DESCRIPTION:#2 Minor National - Clackamas County Junior Baseball
LOCATION:TBD
CATEGORIES:QuickScores; Baseball Game
TRANSP:0
DALARM:20260520T160000;PT10M;2;Estacada Juarez vs. Mt Angel Beyer
END:VEVENT
BEGIN:VEVENT
DTSTART:20260527T180000
DTEND:20260527T190000
SUMMARY:Colton Banta vs. Estacada Juarez
DESCRIPTION:#2 Minor National - Clackamas County Junior Baseball
LOCATION:TBD
CATEGORIES:QuickScores; Baseball Game
TRANSP:0
DALARM:20260527T160000;PT10M;2;Colton Banta vs. Estacada Juarez
END:VEVENT
BEGIN:VEVENT
DTSTART:20260529T180000
DTEND:20260529T190000
SUMMARY:Estacada Juarez vs. Nelson Espeland
DESCRIPTION:TBD Game - Need to schedule --- #2 Minor National - Clackamas County Junior Baseball
LOCATION:TBD
CATEGORIES:QuickScores; Baseball Game
TRANSP:0
DALARM:20260529T160000;PT10M;2;Estacada Juarez vs. Nelson Espeland
END:VEVENT
BEGIN:VEVENT
DTSTART:20260601T180000
DTEND:20260601T190000
SUMMARY:Estacada Juarez vs. Country Christian Duhrkoop
DESCRIPTION:#2 Minor National - Clackamas County Junior Baseball
LOCATION:TBD
CATEGORIES:QuickScores; Baseball Game
TRANSP:0
DALARM:20260601T160000;PT10M;2;Estacada Juarez vs. Country Christian Duhrkoop
END:VEVENT
BEGIN:VEVENT
DTSTART:20260603T180000
DTEND:20260603T190000
SUMMARY:Mt Angel Beyer vs. Estacada Juarez
DESCRIPTION:#2 Minor National - Clackamas County Junior Baseball
LOCATION:TBD
CATEGORIES:QuickScores; Baseball Game
TRANSP:0
DALARM:20260603T160000;PT10M;2;Mt Angel Beyer vs. Estacada Juarez
END:VEVENT
BEGIN:VEVENT
DTSTART:20260608T180000
DTEND:20260608T190000
SUMMARY:Estacada Juarez vs. Gladstone Morse
DESCRIPTION:#2 Minor National - Clackamas County Junior Baseball
LOCATION:TBD
CATEGORIES:QuickScores; Baseball Game
TRANSP:0
DALARM:20260608T160000;PT10M;2;Estacada Juarez vs. Gladstone Morse
END:VEVENT
BEGIN:VEVENT
DTSTART:20260610T180000
DTEND:20260610T190000
SUMMARY:Woodburn Hayden* vs. Estacada Juarez
DESCRIPTION:#2 Minor National - Clackamas County Junior Baseball
LOCATION:TBD
CATEGORIES:QuickScores; Baseball Game
TRANSP:0
DALARM:20260610T160000;PT10M;2;Woodburn Hayden* vs. Estacada Juarez
END:VEVENT
BEGIN:VEVENT
DTSTART:20260615T180000
DTEND:20260615T190000
SUMMARY:Estacada Juarez vs. Nelson Espeland
DESCRIPTION:#2 Minor National - Clackamas County Junior Baseball
LOCATION:TBD
CATEGORIES:QuickScores; Baseball Game
TRANSP:0
DALARM:20260615T160000;PT10M;2;Estacada Juarez vs. Nelson Espeland
END:VEVENT
BEGIN:VEVENT
DTSTART:20260622T180000
DTEND:20260622T190000
SUMMARY:Estacada Juarez vs. Colton Banta
DESCRIPTION:#2 Minor National - Clackamas County Junior Baseball
LOCATION:TBD
CATEGORIES:QuickScores; Baseball Game
TRANSP:0
DALARM:20260622T160000;PT10M;2;Estacada Juarez vs. Colton Banta
END:VEVENT
BEGIN:VEVENT
DTSTART:20260624T180000
DTEND:20260624T190000
SUMMARY:Woodburn Hayden* vs. Estacada Juarez
DESCRIPTION:#2 Minor National - Clackamas County Junior Baseball
LOCATION:TBD
CATEGORIES:QuickScores; Baseball Game
TRANSP:0
DALARM:20260624T160000;PT10M;2;Woodburn Hayden* vs. Estacada Juarez
END:VEVENT
END:VCALENDAR
