BEGIN:VCALENDAR
VERSION:1.0
BEGIN:VEVENT
DTSTART:20260423T180000
DTEND:20260423T190000
SUMMARY:Clackamas Elliott vs. Nelson Coburn
DESCRIPTION:Nelson (away): #10 Coburn 30, #24 Ohm 55, #27 Schwartz 49

Clackamas (home): #12 Weststeyn 55, #72 Tiede 25, #40 Dunbar 41 --- #17 Junior Federal - Clackamas County Junior Baseball
LOCATION:TBD
CATEGORIES:QuickScores; Baseball Game
TRANSP:0
DALARM:20260423T160000;PT10M;2;Clackamas Elliott vs. Nelson Coburn
END:VEVENT
BEGIN:VEVENT
DTSTART:20260428T180000
DTEND:20260428T190000
SUMMARY:Tualatin Foiles vs. Clackamas Elliott
DESCRIPTION:#17 Junior Federal - Clackamas County Junior Baseball
LOCATION:TBD
CATEGORIES:QuickScores; Baseball Game
TRANSP:0
DALARM:20260428T160000;PT10M;2;Tualatin Foiles vs. Clackamas Elliott
END:VEVENT
BEGIN:VEVENT
DTSTART:20260430T180000
DTEND:20260430T190000
SUMMARY:Clackamas Elliott vs. Canby Rash
DESCRIPTION:#17 Junior Federal - Clackamas County Junior Baseball
LOCATION:TBD
CATEGORIES:QuickScores; Baseball Game
TRANSP:0
DALARM:20260430T160000;PT10M;2;Clackamas Elliott vs. Canby Rash
END:VEVENT
BEGIN:VEVENT
DTSTART:20260505T180000
DTEND:20260505T190000
SUMMARY:Oregon City Glynn vs. Clackamas Elliott
DESCRIPTION:#17 Junior Federal - Clackamas County Junior Baseball
LOCATION:TBD
CATEGORIES:QuickScores; Baseball Game
TRANSP:0
DALARM:20260505T160000;PT10M;2;Oregon City Glynn vs. Clackamas Elliott
END:VEVENT
BEGIN:VEVENT
DTSTART:20260512T180000
DTEND:20260512T190000
SUMMARY:Nelson Coburn vs. Clackamas Elliott
DESCRIPTION:#17 Junior Federal - Clackamas County Junior Baseball
LOCATION:TBD
CATEGORIES:QuickScores; Baseball Game
TRANSP:0
DALARM:20260512T160000;PT10M;2;Nelson Coburn vs. Clackamas Elliott
END:VEVENT
BEGIN:VEVENT
DTSTART:20260519T180000
DTEND:20260519T190000
SUMMARY:West Linn Mitchell vs. Clackamas Elliott
DESCRIPTION:#17 Junior Federal - Clackamas County Junior Baseball
LOCATION:TBD
CATEGORIES:QuickScores; Baseball Game
TRANSP:0
DALARM:20260519T160000;PT10M;2;West Linn Mitchell vs. Clackamas Elliott
END:VEVENT
BEGIN:VEVENT
DTSTART:20260521T180000
DTEND:20260521T190000
SUMMARY:Clackamas Elliott vs. Tualatin Foiles
DESCRIPTION:#17 Junior Federal - Clackamas County Junior Baseball
LOCATION:TBD
CATEGORIES:QuickScores; Baseball Game
TRANSP:0
DALARM:20260521T160000;PT10M;2;Clackamas Elliott vs. Tualatin Foiles
END:VEVENT
BEGIN:VEVENT
DTSTART:20260526T180000
DTEND:20260526T190000
SUMMARY:Canby Rash vs. Clackamas Elliott
DESCRIPTION:#17 Junior Federal - Clackamas County Junior Baseball
LOCATION:TBD
CATEGORIES:QuickScores; Baseball Game
TRANSP:0
DALARM:20260526T160000;PT10M;2;Canby Rash vs. Clackamas Elliott
END:VEVENT
BEGIN:VEVENT
DTSTART:20260528T180000
DTEND:20260528T190000
SUMMARY:Clackamas Elliott vs. Oregon City Glynn
DESCRIPTION:#17 Junior Federal - Clackamas County Junior Baseball
LOCATION:TBD
CATEGORIES:QuickScores; Baseball Game
TRANSP:0
DALARM:20260528T160000;PT10M;2;Clackamas Elliott vs. Oregon City Glynn
END:VEVENT
BEGIN:VEVENT
DTSTART:20260602T180000
DTEND:20260602T190000
SUMMARY:Tualatin Foiles vs. Clackamas Elliott
DESCRIPTION:#17 Junior Federal - Clackamas County Junior Baseball
LOCATION:TBD
CATEGORIES:QuickScores; Baseball Game
TRANSP:0
DALARM:20260602T160000;PT10M;2;Tualatin Foiles vs. Clackamas Elliott
END:VEVENT
BEGIN:VEVENT
DTSTART:20260604T180000
DTEND:20260604T190000
SUMMARY:Clackamas Elliott vs. Nelson Coburn
DESCRIPTION:#17 Junior Federal - Clackamas County Junior Baseball
LOCATION:TBD
CATEGORIES:QuickScores; Baseball Game
TRANSP:0
DALARM:20260604T160000;PT10M;2;Clackamas Elliott vs. Nelson Coburn
END:VEVENT
BEGIN:VEVENT
DTSTART:20260611T180000
DTEND:20260611T190000
SUMMARY:Clackamas Elliott vs. West Linn Mitchell
DESCRIPTION:#17 Junior Federal - Clackamas County Junior Baseball
LOCATION:TBD
CATEGORIES:QuickScores; Baseball Game
TRANSP:0
DALARM:20260611T160000;PT10M;2;Clackamas Elliott vs. West Linn Mitchell
END:VEVENT
BEGIN:VEVENT
DTSTART:20260618T180000
DTEND:20260618T190000
SUMMARY:Clackamas Elliott vs. Canby Rash
DESCRIPTION:#17 Junior Federal - Clackamas County Junior Baseball
LOCATION:TBD
CATEGORIES:QuickScores; Baseball Game
TRANSP:0
DALARM:20260618T160000;PT10M;2;Clackamas Elliott vs. Canby Rash
END:VEVENT
BEGIN:VEVENT
DTSTART:20260623T180000
DTEND:20260623T190000
SUMMARY:Oregon City Glynn vs. Clackamas Elliott
DESCRIPTION:#17 Junior Federal - Clackamas County Junior Baseball
LOCATION:TBD
CATEGORIES:QuickScores; Baseball Game
TRANSP:0
DALARM:20260623T160000;PT10M;2;Oregon City Glynn vs. Clackamas Elliott
END:VEVENT
BEGIN:VEVENT
DTSTART:20260625T180000
DTEND:20260625T190000
SUMMARY:Clackamas Elliott vs. West Linn Mitchell
DESCRIPTION:#17 Junior Federal - Clackamas County Junior Baseball
LOCATION:TBD
CATEGORIES:QuickScores; Baseball Game
TRANSP:0
DALARM:20260625T160000;PT10M;2;Clackamas Elliott vs. West Linn Mitchell
END:VEVENT
END:VCALENDAR
