BEGIN:VCALENDAR
VERSION:1.0
BEGIN:VEVENT
DTSTART:20260421T180000
DTEND:20260421T190000
SUMMARY:Clackamas Joy vs. North Marion Steinke
DESCRIPTION:Rained out. To be rescheduled. --- #25 Senior American - Clackamas County Junior Baseball
LOCATION:TBD
CATEGORIES:QuickScores; Baseball Game
TRANSP:0
DALARM:20260421T160000;PT10M;2;Clackamas Joy vs. North Marion Steinke
END:VEVENT
BEGIN:VEVENT
DTSTART:20260423T180000
DTEND:20260423T190000
SUMMARY:Nelson Hamlin vs. Clackamas Joy
DESCRIPTION:Clackamas Joy (Away): #13 Sletmoe 40, #5 Pettinger 42, #24 Zimmerman 28, #29 Pfaff 12, #10 York 7 // Nelson Hamlin (Home):#4 Newman 31, #24 Nollman 19, #1 Simpson 17, #2 Joseph 28, #11 Thorne 19, #21 Lee-Brun 11, #12 Strayhan 39 --- #25 Senior American - Clackamas County Junior Baseball
LOCATION:TBD
CATEGORIES:QuickScores; Baseball Game
TRANSP:0
DALARM:20260423T160000;PT10M;2;Nelson Hamlin vs. Clackamas Joy
END:VEVENT
BEGIN:VEVENT
DTSTART:20260428T180000
DTEND:20260428T190000
SUMMARY:Clackamas Joy vs. Mt Angel Banducci
DESCRIPTION:#25 Senior American - Clackamas County Junior Baseball
LOCATION:TBD
CATEGORIES:QuickScores; Baseball Game
TRANSP:0
DALARM:20260428T160000;PT10M;2;Clackamas Joy vs. Mt Angel Banducci
END:VEVENT
BEGIN:VEVENT
DTSTART:20260505T180000
DTEND:20260505T190000
SUMMARY:Clackamas Joy vs. Milwaukie Schaeffer
DESCRIPTION:#25 Senior American - Clackamas County Junior Baseball
LOCATION:TBD
CATEGORIES:QuickScores; Baseball Game
TRANSP:0
DALARM:20260505T160000;PT10M;2;Clackamas Joy vs. Milwaukie Schaeffer
END:VEVENT
BEGIN:VEVENT
DTSTART:20260507T180000
DTEND:20260507T190000
SUMMARY:North Marion Steinke vs. Clackamas Joy
DESCRIPTION:#25 Senior American - Clackamas County Junior Baseball
LOCATION:TBD
CATEGORIES:QuickScores; Baseball Game
TRANSP:0
DALARM:20260507T160000;PT10M;2;North Marion Steinke vs. Clackamas Joy
END:VEVENT
BEGIN:VEVENT
DTSTART:20260512T180000
DTEND:20260512T190000
SUMMARY:Clackamas Joy vs. Putnam Towle
DESCRIPTION:#25 Senior American - Clackamas County Junior Baseball
LOCATION:TBD
CATEGORIES:QuickScores; Baseball Game
TRANSP:0
DALARM:20260512T160000;PT10M;2;Clackamas Joy vs. Putnam Towle
END:VEVENT
BEGIN:VEVENT
DTSTART:20260514T180000
DTEND:20260514T190000
SUMMARY:Clackamas Joy vs. McNary Martin*
DESCRIPTION:#25 Senior American - Clackamas County Junior Baseball
LOCATION:TBD
CATEGORIES:QuickScores; Baseball Game
TRANSP:0
DALARM:20260514T160000;PT10M;2;Clackamas Joy vs. McNary Martin*
END:VEVENT
BEGIN:VEVENT
DTSTART:20260519T180000
DTEND:20260519T190000
SUMMARY:Clackamas Joy vs. Nelson Hamlin
DESCRIPTION:#25 Senior American - Clackamas County Junior Baseball
LOCATION:TBD
CATEGORIES:QuickScores; Baseball Game
TRANSP:0
DALARM:20260519T160000;PT10M;2;Clackamas Joy vs. Nelson Hamlin
END:VEVENT
BEGIN:VEVENT
DTSTART:20260521T180000
DTEND:20260521T190000
SUMMARY:Mt Angel Banducci vs. Clackamas Joy
DESCRIPTION:#25 Senior American - Clackamas County Junior Baseball
LOCATION:TBD
CATEGORIES:QuickScores; Baseball Game
TRANSP:0
DALARM:20260521T160000;PT10M;2;Mt Angel Banducci vs. Clackamas Joy
END:VEVENT
BEGIN:VEVENT
DTSTART:20260528T180000
DTEND:20260528T190000
SUMMARY:Nelson Hamlin vs. Clackamas Joy
DESCRIPTION:#25 Senior American - Clackamas County Junior Baseball
LOCATION:TBD
CATEGORIES:QuickScores; Baseball Game
TRANSP:0
DALARM:20260528T160000;PT10M;2;Nelson Hamlin vs. Clackamas Joy
END:VEVENT
BEGIN:VEVENT
DTSTART:20260602T180000
DTEND:20260602T190000
SUMMARY:Clackamas Joy vs. North Marion Steinke
DESCRIPTION:#25 Senior American - Clackamas County Junior Baseball
LOCATION:TBD
CATEGORIES:QuickScores; Baseball Game
TRANSP:0
DALARM:20260602T160000;PT10M;2;Clackamas Joy vs. North Marion Steinke
END:VEVENT
BEGIN:VEVENT
DTSTART:20260604T180000
DTEND:20260604T190000
SUMMARY:Putnam Towle vs. Clackamas Joy
DESCRIPTION:#25 Senior American - Clackamas County Junior Baseball
LOCATION:TBD
CATEGORIES:QuickScores; Baseball Game
TRANSP:0
DALARM:20260604T160000;PT10M;2;Putnam Towle vs. Clackamas Joy
END:VEVENT
BEGIN:VEVENT
DTSTART:20260609T180000
DTEND:20260609T190000
SUMMARY:McNary Martin* vs. Clackamas Joy
DESCRIPTION:#25 Senior American - Clackamas County Junior Baseball
LOCATION:TBD
CATEGORIES:QuickScores; Baseball Game
TRANSP:0
DALARM:20260609T160000;PT10M;2;McNary Martin* vs. Clackamas Joy
END:VEVENT
BEGIN:VEVENT
DTSTART:20260611T180000
DTEND:20260611T190000
SUMMARY:Milwaukie Schaeffer vs. Clackamas Joy
DESCRIPTION:#25 Senior American - Clackamas County Junior Baseball
LOCATION:TBD
CATEGORIES:QuickScores; Baseball Game
TRANSP:0
DALARM:20260611T160000;PT10M;2;Milwaukie Schaeffer vs. Clackamas Joy
END:VEVENT
BEGIN:VEVENT
DTSTART:20260616T180000
DTEND:20260616T190000
SUMMARY:Clackamas Joy vs. Mt Angel Banducci
DESCRIPTION:#25 Senior American - Clackamas County Junior Baseball
LOCATION:TBD
CATEGORIES:QuickScores; Baseball Game
TRANSP:0
DALARM:20260616T160000;PT10M;2;Clackamas Joy vs. Mt Angel Banducci
END:VEVENT
BEGIN:VEVENT
DTSTART:20260618T180000
DTEND:20260618T190000
SUMMARY:Milwaukie Schaeffer vs. Clackamas Joy
DESCRIPTION:#25 Senior American - Clackamas County Junior Baseball
LOCATION:TBD
CATEGORIES:QuickScores; Baseball Game
TRANSP:0
DALARM:20260618T160000;PT10M;2;Milwaukie Schaeffer vs. Clackamas Joy
END:VEVENT
BEGIN:VEVENT
DTSTART:20260623T180000
DTEND:20260623T190000
SUMMARY:McNary Martin* vs. Clackamas Joy
DESCRIPTION:#25 Senior American - Clackamas County Junior Baseball
LOCATION:TBD
CATEGORIES:QuickScores; Baseball Game
TRANSP:0
DALARM:20260623T160000;PT10M;2;McNary Martin* vs. Clackamas Joy
END:VEVENT
BEGIN:VEVENT
DTSTART:20260625T180000
DTEND:20260625T190000
SUMMARY:Clackamas Joy vs. Putnam Towle
DESCRIPTION:#25 Senior American - Clackamas County Junior Baseball
LOCATION:TBD
CATEGORIES:QuickScores; Baseball Game
TRANSP:0
DALARM:20260625T160000;PT10M;2;Clackamas Joy vs. Putnam Towle
END:VEVENT
END:VCALENDAR
