BEGIN:VCALENDAR
VERSION:1.0
BEGIN:VEVENT
DTSTART:20260423T180000
DTEND:20260423T190000
SUMMARY:McNary Kuckkahn vs. Oregon City Hull
DESCRIPTION:Oregon City -Hull (away) #16 Cole 67, #14 Christiansan 35 // McNary Kuckahn (home) #30  West 67, #13 Lindsay 32, #22 Byerly 22. --- #21 Senior National - Clackamas County Junior Baseball
LOCATION:TBD
CATEGORIES:QuickScores; Baseball Game
TRANSP:0
DALARM:20260423T160000;PT10M;2;McNary Kuckkahn vs. Oregon City Hull
END:VEVENT
BEGIN:VEVENT
DTSTART:20260428T180000
DTEND:20260428T190000
SUMMARY:Gladstone Smail vs. Oregon City Hull
DESCRIPTION:#21 Senior National - Clackamas County Junior Baseball
LOCATION:TBD
CATEGORIES:QuickScores; Baseball Game
TRANSP:0
DALARM:20260428T160000;PT10M;2;Gladstone Smail vs. Oregon City Hull
END:VEVENT
BEGIN:VEVENT
DTSTART:20260430T180000
DTEND:20260430T190000
SUMMARY:Oregon City Hull vs. Woodburn Goode*
DESCRIPTION:#21 Senior National - Clackamas County Junior Baseball
LOCATION:TBD
CATEGORIES:QuickScores; Baseball Game
TRANSP:0
DALARM:20260430T160000;PT10M;2;Oregon City Hull vs. Woodburn Goode*
END:VEVENT
BEGIN:VEVENT
DTSTART:20260505T180000
DTEND:20260505T190000
SUMMARY:Tualatin Hornaday vs. Oregon City Hull
DESCRIPTION:#21 Senior National - Clackamas County Junior Baseball
LOCATION:TBD
CATEGORIES:QuickScores; Baseball Game
TRANSP:0
DALARM:20260505T160000;PT10M;2;Tualatin Hornaday vs. Oregon City Hull
END:VEVENT
BEGIN:VEVENT
DTSTART:20260512T180000
DTEND:20260512T190000
SUMMARY:Oregon City Hull vs. Clackamas Ositis
DESCRIPTION:#21 Senior National - Clackamas County Junior Baseball
LOCATION:TBD
CATEGORIES:QuickScores; Baseball Game
TRANSP:0
DALARM:20260512T160000;PT10M;2;Oregon City Hull vs. Clackamas Ositis
END:VEVENT
BEGIN:VEVENT
DTSTART:20260514T180000
DTEND:20260514T190000
SUMMARY:Country Christian Meisch vs. Oregon City Hull
DESCRIPTION:#21 Senior National - Clackamas County Junior Baseball
LOCATION:TBD
CATEGORIES:QuickScores; Baseball Game
TRANSP:0
DALARM:20260514T160000;PT10M;2;Country Christian Meisch vs. Oregon City Hull
END:VEVENT
BEGIN:VEVENT
DTSTART:20260519T180000
DTEND:20260519T190000
SUMMARY:Oregon City Hull vs. McNary Kuckkahn
DESCRIPTION:#21 Senior National - Clackamas County Junior Baseball
LOCATION:TBD
CATEGORIES:QuickScores; Baseball Game
TRANSP:0
DALARM:20260519T160000;PT10M;2;Oregon City Hull vs. McNary Kuckkahn
END:VEVENT
BEGIN:VEVENT
DTSTART:20260521T180000
DTEND:20260521T190000
SUMMARY:Oregon City Hull vs. Gladstone Smail
DESCRIPTION:#21 Senior National - Clackamas County Junior Baseball
LOCATION:TBD
CATEGORIES:QuickScores; Baseball Game
TRANSP:0
DALARM:20260521T160000;PT10M;2;Oregon City Hull vs. Gladstone Smail
END:VEVENT
BEGIN:VEVENT
DTSTART:20260526T180000
DTEND:20260526T190000
SUMMARY:Woodburn Goode* vs. Oregon City Hull
DESCRIPTION:#21 Senior National - Clackamas County Junior Baseball
LOCATION:TBD
CATEGORIES:QuickScores; Baseball Game
TRANSP:0
DALARM:20260526T160000;PT10M;2;Woodburn Goode* vs. Oregon City Hull
END:VEVENT
BEGIN:VEVENT
DTSTART:20260528T180000
DTEND:20260528T190000
SUMMARY:McNary Kuckkahn vs. Oregon City Hull
DESCRIPTION:#21 Senior National - Clackamas County Junior Baseball
LOCATION:TBD
CATEGORIES:QuickScores; Baseball Game
TRANSP:0
DALARM:20260528T160000;PT10M;2;McNary Kuckkahn vs. Oregon City Hull
END:VEVENT
BEGIN:VEVENT
DTSTART:20260604T180000
DTEND:20260604T190000
SUMMARY:Clackamas Ositis vs. Oregon City Hull
DESCRIPTION:#21 Senior National - Clackamas County Junior Baseball
LOCATION:TBD
CATEGORIES:QuickScores; Baseball Game
TRANSP:0
DALARM:20260604T160000;PT10M;2;Clackamas Ositis vs. Oregon City Hull
END:VEVENT
BEGIN:VEVENT
DTSTART:20260609T180000
DTEND:20260609T190000
SUMMARY:Oregon City Hull vs. Country Christian Meisch
DESCRIPTION:#21 Senior National - Clackamas County Junior Baseball
LOCATION:TBD
CATEGORIES:QuickScores; Baseball Game
TRANSP:0
DALARM:20260609T160000;PT10M;2;Oregon City Hull vs. Country Christian Meisch
END:VEVENT
BEGIN:VEVENT
DTSTART:20260610T180000
DTEND:20260610T190000
SUMMARY:Woodburn Goode* vs. Oregon City Hull
DESCRIPTION:TBD Game - Needs to be scheduled --- #21 Senior National - Clackamas County Junior Baseball
LOCATION:TBD
CATEGORIES:QuickScores; Baseball Game
TRANSP:0
DALARM:20260610T160000;PT10M;2;Woodburn Goode* vs. Oregon City Hull
END:VEVENT
BEGIN:VEVENT
DTSTART:20260611T180000
DTEND:20260611T190000
SUMMARY:Oregon City Hull vs. Tualatin Hornaday
DESCRIPTION:#21 Senior National - Clackamas County Junior Baseball
LOCATION:TBD
CATEGORIES:QuickScores; Baseball Game
TRANSP:0
DALARM:20260611T160000;PT10M;2;Oregon City Hull vs. Tualatin Hornaday
END:VEVENT
BEGIN:VEVENT
DTSTART:20260616T180000
DTEND:20260616T190000
SUMMARY:Gladstone Smail vs. Oregon City Hull
DESCRIPTION:#21 Senior National - Clackamas County Junior Baseball
LOCATION:TBD
CATEGORIES:QuickScores; Baseball Game
TRANSP:0
DALARM:20260616T160000;PT10M;2;Gladstone Smail vs. Oregon City Hull
END:VEVENT
BEGIN:VEVENT
DTSTART:20260618T180000
DTEND:20260618T190000
SUMMARY:Oregon City Hull vs. Tualatin Hornaday
DESCRIPTION:#21 Senior National - Clackamas County Junior Baseball
LOCATION:TBD
CATEGORIES:QuickScores; Baseball Game
TRANSP:0
DALARM:20260618T160000;PT10M;2;Oregon City Hull vs. Tualatin Hornaday
END:VEVENT
BEGIN:VEVENT
DTSTART:20260623T180000
DTEND:20260623T190000
SUMMARY:Oregon City Hull vs. Country Christian Meisch
DESCRIPTION:#21 Senior National - Clackamas County Junior Baseball
LOCATION:TBD
CATEGORIES:QuickScores; Baseball Game
TRANSP:0
DALARM:20260623T160000;PT10M;2;Oregon City Hull vs. Country Christian Meisch
END:VEVENT
BEGIN:VEVENT
DTSTART:20260625T180000
DTEND:20260625T190000
SUMMARY:Oregon City Hull vs. Clackamas Ositis
DESCRIPTION:#21 Senior National - Clackamas County Junior Baseball
LOCATION:TBD
CATEGORIES:QuickScores; Baseball Game
TRANSP:0
DALARM:20260625T160000;PT10M;2;Oregon City Hull vs. Clackamas Ositis
END:VEVENT
END:VCALENDAR
