BEGIN:VCALENDAR
VERSION:1.0
BEGIN:VEVENT
DTSTART:20250919T193000
DTEND:20250919T203000
SUMMARY:Texas Capital Bank vs. LJA Engineering
DESCRIPTION:B Division - City of Richardson Corporate Challenge<br>Sponsored by State Farm
LOCATION:Huffhines Softball Field 2
CATEGORIES:QuickScores; Softball Game
TRANSP:0
DALARM:20250919T173000;PT10M;2;Texas Capital Bank vs. LJA Engineering
END:VEVENT
BEGIN:VEVENT
DTSTART:20250920T090000
DTEND:20250920T100000
SUMMARY:LJA Engineering vs. HF Sinclair
DESCRIPTION:B Division - City of Richardson Corporate Challenge<br>Sponsored by State Farm
LOCATION:Huffhines Softball Field 2
CATEGORIES:QuickScores; Softball Game
TRANSP:0
DALARM:20250920T070000;PT10M;2;LJA Engineering vs. HF Sinclair
END:VEVENT
END:VCALENDAR
