BEGIN:VCALENDAR
VERSION:1.0
BEGIN:VEVENT
DTSTART:20250919T193000
DTEND:20250919T203000
SUMMARY:Globe Life vs. Geico
DESCRIPTION:B Division - City of Richardson Corporate Challenge<br>Sponsored by State Farm
LOCATION:Huffhines Softball Field 4
CATEGORIES:QuickScores; Softball Game
TRANSP:0
DALARM:20250919T173000;PT10M;2;Globe Life vs. Geico
END:VEVENT
BEGIN:VEVENT
DTSTART:20250920T090000
DTEND:20250920T100000
SUMMARY:City of Richardson vs. Globe Life
DESCRIPTION:B Division - City of Richardson Corporate Challenge<br>Sponsored by State Farm
LOCATION:Huffhines Softball Field 3
CATEGORIES:QuickScores; Softball Game
TRANSP:0
DALARM:20250920T070000;PT10M;2;City of Richardson vs. Globe Life
END:VEVENT
BEGIN:VEVENT
DTSTART:20250921T110000
DTEND:20250921T120000
SUMMARY:[B1] Globe Life vs. [A2] Baylor Heart Hospital
DESCRIPTION:B Division - City of Richardson Corporate Challenge<br>Sponsored by State Farm
LOCATION:Huffhines Softball Field 4
CATEGORIES:QuickScores; Softball Game
TRANSP:0
DALARM:20250921T090000;PT10M;2;[B1] Globe Life vs. [A2] Baylor Heart Hospital
END:VEVENT
BEGIN:VEVENT
DTSTART:20250921T130000
DTEND:20250921T140000
SUMMARY:[C2] HF Sinclair vs. [B1] Globe Life
DESCRIPTION:B Division - City of Richardson Corporate Challenge<br>Sponsored by State Farm
LOCATION:Huffhines Softball Field 4
CATEGORIES:QuickScores; Softball Game
TRANSP:0
DALARM:20250921T110000;PT10M;2;[C2] HF Sinclair vs. [B1] Globe Life
END:VEVENT
END:VCALENDAR
