BEGIN:VCALENDAR
VERSION:1.0
BEGIN:VEVENT
DTSTART:20250919T183000
DTEND:20250919T193000
SUMMARY:Cisco vs. 7-Eleven
DESCRIPTION:B Division - City of Richardson Corporate Challenge<br>Sponsored by State Farm
LOCATION:Huffhines Softball Field 1
CATEGORIES:QuickScores; Softball Game
TRANSP:0
DALARM:20250919T163000;PT10M;2;Cisco vs. 7-Eleven
END:VEVENT
BEGIN:VEVENT
DTSTART:20250919T203000
DTEND:20250919T213000
SUMMARY:7-Eleven vs. Baylor Heart Hospital
DESCRIPTION:B Division - City of Richardson Corporate Challenge<br>Sponsored by State Farm
LOCATION:Huffhines Softball Field 3
CATEGORIES:QuickScores; Softball Game
TRANSP:0
DALARM:20250919T183000;PT10M;2;7-Eleven vs. Baylor Heart Hospital
END:VEVENT
BEGIN:VEVENT
DTSTART:20250921T110000
DTEND:20250921T120000
SUMMARY:[A1] 7-Eleven vs. [C2] HF Sinclair
DESCRIPTION:B Division - City of Richardson Corporate Challenge<br>Sponsored by State Farm
LOCATION:Huffhines Softball Field 3
CATEGORIES:QuickScores; Softball Game
TRANSP:0
DALARM:20250921T090000;PT10M;2;[A1] 7-Eleven vs. [C2] HF Sinclair
END:VEVENT
BEGIN:VEVENT
DTSTART:20250921T130000
DTEND:20250921T140000
SUMMARY:[A1] 7-Eleven vs. [A2] Baylor Heart Hospital
DESCRIPTION:B Division - City of Richardson Corporate Challenge<br>Sponsored by State Farm
LOCATION:Huffhines Softball Field 3
CATEGORIES:QuickScores; Softball Game
TRANSP:0
DALARM:20250921T110000;PT10M;2;[A1] 7-Eleven vs. [A2] Baylor Heart Hospital
END:VEVENT
END:VCALENDAR
