BEGIN:VCALENDAR
VERSION:1.0
BEGIN:VEVENT
DTSTART:20250902T193500
DTEND:20250902T204000
SUMMARY:HF Sinclair vs. LJA Engineering
DESCRIPTION:B Division - City of Richardson Corporate Challenge<br>Sponsored by State Farm
LOCATION:Carpenter Park Field A
CATEGORIES:QuickScores; Soccer Game
TRANSP:0
DALARM:20250902T173500;PT10M;2;HF Sinclair vs. LJA Engineering
END:VEVENT
BEGIN:VEVENT
DTSTART:20250904T193500
DTEND:20250904T204000
SUMMARY:LJA Engineering vs. Texas Capital Bank
DESCRIPTION:B Division - City of Richardson Corporate Challenge<br>Sponsored by State Farm
LOCATION:Carpenter Park Field B
CATEGORIES:QuickScores; Soccer Game
TRANSP:0
DALARM:20250904T173500;PT10M;2;LJA Engineering vs. Texas Capital Bank
END:VEVENT
BEGIN:VEVENT
DTSTART:20250911T192000
DTEND:20250911T202000
SUMMARY:[C1] LJA Engineering vs. [A2] Baylor Heart Hospital
DESCRIPTION:B Division - City of Richardson Corporate Challenge<br>Sponsored by State Farm
LOCATION:Carpenter Park Field D
CATEGORIES:QuickScores; Soccer Game
TRANSP:0
DALARM:20250911T172000;PT10M;2;[C1] LJA Engineering vs. [A2] Baylor Heart Hospital
END:VEVENT
END:VCALENDAR
