BEGIN:VCALENDAR
VERSION:1.0
BEGIN:VEVENT
DTSTART:20250902T193500
DTEND:20250902T204000
SUMMARY:HF Sinclair vs. LJA Engineering
DESCRIPTION:B Division - City of Richardson Corporate Challenge<br>Sponsored by State Farm
LOCATION:Carpenter Park Field A
CATEGORIES:QuickScores; Soccer Game
TRANSP:0
DALARM:20250902T173500;PT10M;2;HF Sinclair vs. LJA Engineering
END:VEVENT
BEGIN:VEVENT
DTSTART:20250903T183000
DTEND:20250903T193500
SUMMARY:Texas Capital Bank vs. HF Sinclair
DESCRIPTION:B Division - City of Richardson Corporate Challenge<br>Sponsored by State Farm
LOCATION:Carpenter Park Field B
CATEGORIES:QuickScores; Soccer Game
TRANSP:0
DALARM:20250903T163000;PT10M;2;Texas Capital Bank vs. HF Sinclair
END:VEVENT
END:VCALENDAR
