BEGIN:VCALENDAR
VERSION:1.0
BEGIN:VEVENT
DTSTART:20250903T193500
DTEND:20250903T204000
SUMMARY:City of Richardson vs. Geico
DESCRIPTION:B Division - City of Richardson Corporate Challenge<br>Sponsored by State Farm
LOCATION:Carpenter Park Field D
CATEGORIES:QuickScores; Soccer Game
TRANSP:0
DALARM:20250903T173500;PT10M;2;City of Richardson vs. Geico
END:VEVENT
BEGIN:VEVENT
DTSTART:20250904T193500
DTEND:20250904T204000
SUMMARY:Cisco vs. City of Richardson
DESCRIPTION:B Division - City of Richardson Corporate Challenge<br>Sponsored by State Farm
LOCATION:Carpenter Park Field C
CATEGORIES:QuickScores; Soccer Game
TRANSP:0
DALARM:20250904T173500;PT10M;2;Cisco vs. City of Richardson
END:VEVENT
BEGIN:VEVENT
DTSTART:20250911T192000
DTEND:20250911T202000
SUMMARY:[B2] City of Richardson vs. [C2] Texas Capital Bank
DESCRIPTION:B Division - City of Richardson Corporate Challenge<br>Sponsored by State Farm
LOCATION:Carpenter Park Field C
CATEGORIES:QuickScores; Soccer Game
TRANSP:0
DALARM:20250911T172000;PT10M;2;[B2] City of Richardson vs. [C2] Texas Capital Bank
END:VEVENT
END:VCALENDAR
