BEGIN:VCALENDAR
VERSION:1.0
BEGIN:VEVENT
DTSTART:20250902T193500
DTEND:20250902T204000
SUMMARY:Baylor Heart Hospital vs. Globe Life
DESCRIPTION:B Division - City of Richardson Corporate Challenge<br>Sponsored by State Farm
LOCATION:Carpenter Park Field B
CATEGORIES:QuickScores; Soccer Game
TRANSP:0
DALARM:20250902T173500;PT10M;2;Baylor Heart Hospital vs. Globe Life
END:VEVENT
BEGIN:VEVENT
DTSTART:20250903T183000
DTEND:20250903T193500
SUMMARY:Globe Life vs. 7-Eleven
DESCRIPTION:B Division - City of Richardson Corporate Challenge<br>Sponsored by State Farm
LOCATION:Carpenter Park Field A
CATEGORIES:QuickScores; Soccer Game
TRANSP:0
DALARM:20250903T163000;PT10M;2;Globe Life vs. 7-Eleven
END:VEVENT
END:VCALENDAR
