BEGIN:VCALENDAR
VERSION:1.0
BEGIN:VEVENT
DTSTART:20250926T183000
DTEND:20250926T193000
SUMMARY:Lennox vs. PepsiCo
DESCRIPTION:A Division - City of Richardson Corporate Challenge<br>Sponsored by State Farm
LOCATION:Huffhines #3
CATEGORIES:QuickScores; Kickball Game
TRANSP:0
DALARM:20250926T163000;PT10M;2;Lennox vs. PepsiCo
END:VEVENT
BEGIN:VEVENT
DTSTART:20250926T193000
DTEND:20250926T203000
SUMMARY:Blue Cross Blue Shield vs. Lennox
DESCRIPTION:A Division - City of Richardson Corporate Challenge<br>Sponsored by State Farm
LOCATION:Huffhines #4
CATEGORIES:QuickScores; Kickball Game
TRANSP:0
DALARM:20250926T173000;PT10M;2;Blue Cross Blue Shield vs. Lennox
END:VEVENT
BEGIN:VEVENT
DTSTART:20250928T100000
DTEND:20250928T110000
SUMMARY:[C1] Texas Instruments vs. [A2] Lennox
DESCRIPTION:A Division - City of Richardson Corporate Challenge<br>Sponsored by State Farm
LOCATION:Huffhines #2
CATEGORIES:QuickScores; Kickball Game
TRANSP:0
DALARM:20250928T080000;PT10M;2;[C1] Texas Instruments vs. [A2] Lennox
END:VEVENT
END:VCALENDAR
