BEGIN:VCALENDAR
VERSION:1.0
BEGIN:VEVENT
DTSTART:20250605T203000
DTEND:20250605T213000
SUMMARY:Always Open vs. KPMG
DESCRIPTION:2025 Summer Basketball League - City of Richardson Corporate Challenge<br>Sponsored by State Farm
LOCATION:Huffhines Rec Center
CATEGORIES:QuickScores; Basketball Game
TRANSP:0
DALARM:20250605T183000;PT10M;2;Always Open vs. KPMG
END:VEVENT
BEGIN:VEVENT
DTSTART:20250612T183000
DTEND:20250612T193000
SUMMARY:Always Open vs. GEICO
DESCRIPTION:2025 Summer Basketball League - City of Richardson Corporate Challenge<br>Sponsored by State Farm
LOCATION:Huffhines Rec Center
CATEGORIES:QuickScores; Basketball Game
TRANSP:0
DALARM:20250612T163000;PT10M;2;Always Open vs. GEICO
END:VEVENT
BEGIN:VEVENT
DTSTART:20250619T183000
DTEND:20250619T193000
SUMMARY:LJA Engineering vs. Always Open
DESCRIPTION:2025 Summer Basketball League - City of Richardson Corporate Challenge<br>Sponsored by State Farm
LOCATION:Huffhines Rec Center
CATEGORIES:QuickScores; Basketball Game
TRANSP:0
DALARM:20250619T163000;PT10M;2;LJA Engineering vs. Always Open
END:VEVENT
BEGIN:VEVENT
DTSTART:20250626T183000
DTEND:20250626T193000
SUMMARY:ISN Swishers vs. Always Open
DESCRIPTION:2025 Summer Basketball League - City of Richardson Corporate Challenge<br>Sponsored by State Farm
LOCATION:Huffhines Rec Center
CATEGORIES:QuickScores; Basketball Game
TRANSP:0
DALARM:20250626T163000;PT10M;2;ISN Swishers vs. Always Open
END:VEVENT
BEGIN:VEVENT
DTSTART:20250710T203000
DTEND:20250710T213000
SUMMARY:KPMG vs. Always Open
DESCRIPTION:2025 Summer Basketball League - City of Richardson Corporate Challenge<br>Sponsored by State Farm
LOCATION:Huffhines Rec Center
CATEGORIES:QuickScores; Basketball Game
TRANSP:0
DALARM:20250710T183000;PT10M;2;KPMG vs. Always Open
END:VEVENT
BEGIN:VEVENT
DTSTART:20250717T193000
DTEND:20250717T203000
SUMMARY:GEICO vs. Always Open
DESCRIPTION:2025 Summer Basketball League - City of Richardson Corporate Challenge<br>Sponsored by State Farm
LOCATION:Huffhines Rec Center
CATEGORIES:QuickScores; Basketball Game
TRANSP:0
DALARM:20250717T173000;PT10M;2;GEICO vs. Always Open
END:VEVENT
BEGIN:VEVENT
DTSTART:20250724T203000
DTEND:20250724T213000
SUMMARY:Always Open vs. LJA Engineering
DESCRIPTION:2025 Summer Basketball League - City of Richardson Corporate Challenge<br>Sponsored by State Farm
LOCATION:Huffhines Rec Center
CATEGORIES:QuickScores; Basketball Game
TRANSP:0
DALARM:20250724T183000;PT10M;2;Always Open vs. LJA Engineering
END:VEVENT
BEGIN:VEVENT
DTSTART:20250731T193000
DTEND:20250731T203000
SUMMARY:Always Open vs. State Farm
DESCRIPTION:2025 Summer Basketball League - City of Richardson Corporate Challenge<br>Sponsored by State Farm
LOCATION:Huffhines Rec Center
CATEGORIES:QuickScores; Basketball Game
TRANSP:0
DALARM:20250731T173000;PT10M;2;Always Open vs. State Farm
END:VEVENT
BEGIN:VEVENT
DTSTART:20250807T183000
DTEND:20250807T193000
SUMMARY:State Farm vs. Always Open
DESCRIPTION:2025 Summer Basketball League - City of Richardson Corporate Challenge<br>Sponsored by State Farm
LOCATION:Huffhines Rec Center
CATEGORIES:QuickScores; Basketball Game
TRANSP:0
DALARM:20250807T163000;PT10M;2;State Farm vs. Always Open
END:VEVENT
END:VCALENDAR
