BEGIN:VCALENDAR
VERSION:1.0
BEGIN:VEVENT
DTSTART:20260311T180000
DTEND:20260311T190000
SUMMARY:Practice: PHILLIES-COPE
DESCRIPTION:Boys Coach Pitch - CPRD
LOCATION:Dellinger Park Field #4
CATEGORIES:QuickScores; Baseball - Youth Game
TRANSP:0
DALARM:20260311T160000;PT10M;2;Practice: PHILLIES-COPE
END:VEVENT
BEGIN:VEVENT
DTSTART:20260312T180000
DTEND:20260312T190000
SUMMARY:Practice: PHILLIES-COPE
DESCRIPTION:Boys Coach Pitch - CPRD
LOCATION:Dellinger Park Field #3
CATEGORIES:QuickScores; Baseball - Youth Game
TRANSP:0
DALARM:20260312T160000;PT10M;2;Practice: PHILLIES-COPE
END:VEVENT
BEGIN:VEVENT
DTSTART:20260316T180000
DTEND:20260316T190000
SUMMARY:Practice: PHILLIES-COPE
DESCRIPTION:Boys Coach Pitch - CPRD
LOCATION:Dellinger Park Field #3
CATEGORIES:QuickScores; Baseball - Youth Game
TRANSP:0
DALARM:20260316T160000;PT10M;2;Practice: PHILLIES-COPE
END:VEVENT
BEGIN:VEVENT
DTSTART:20260319T190000
DTEND:20260319T200000
SUMMARY:Practice: PHILLIES-COPE
DESCRIPTION:Boys Coach Pitch - CPRD
LOCATION:Dellinger Park Field 6
CATEGORIES:QuickScores; Baseball - Youth Game
TRANSP:0
DALARM:20260319T170000;PT10M;2;Practice: PHILLIES-COPE
END:VEVENT
BEGIN:VEVENT
DTSTART:20260323T180000
DTEND:20260323T190000
SUMMARY:Practice: PHILLIES-COPE
DESCRIPTION:Boys Coach Pitch - CPRD
LOCATION:Dellinger Park Field #4
CATEGORIES:QuickScores; Baseball - Youth Game
TRANSP:0
DALARM:20260323T160000;PT10M;2;Practice: PHILLIES-COPE
END:VEVENT
BEGIN:VEVENT
DTSTART:20260326T180000
DTEND:20260326T190000
SUMMARY:Practice: PHILLIES-COPE
DESCRIPTION:Boys Coach Pitch - CPRD
LOCATION:Dellinger Park Field #3
CATEGORIES:QuickScores; Baseball - Youth Game
TRANSP:0
DALARM:20260326T160000;PT10M;2;Practice: PHILLIES-COPE
END:VEVENT
BEGIN:VEVENT
DTSTART:20260330T190000
DTEND:20260330T200000
SUMMARY:DODGERS-MOSS vs. PHILLIES-COPE
DESCRIPTION:Boys Coach Pitch - CPRD
LOCATION:Dellinger Park Field #3
CATEGORIES:QuickScores; Baseball - Youth Game
TRANSP:0
DALARM:20260330T170000;PT10M;2;DODGERS-MOSS vs. PHILLIES-COPE
END:VEVENT
BEGIN:VEVENT
DTSTART:20260402T190000
DTEND:20260402T200000
SUMMARY:PHILLIES-COPE vs. GIANTS-IRVIN
DESCRIPTION:Boys Coach Pitch - CPRD
LOCATION:Dellinger Park Field #4
CATEGORIES:QuickScores; Baseball - Youth Game
TRANSP:0
DALARM:20260402T170000;PT10M;2;PHILLIES-COPE vs. GIANTS-IRVIN
END:VEVENT
BEGIN:VEVENT
DTSTART:20260406T180000
DTEND:20260406T190000
SUMMARY:PHILLIES-COPE vs. PHILLIES-COPE
DESCRIPTION:Boys Coach Pitch - CPRD
LOCATION:Dellinger Park Field 5
CATEGORIES:QuickScores; Baseball - Youth Game
TRANSP:0
DALARM:20260406T160000;PT10M;2;PHILLIES-COPE vs. PHILLIES-COPE
END:VEVENT
BEGIN:VEVENT
DTSTART:20260408T180000
DTEND:20260408T190000
SUMMARY:Practice: PHILLIES-COPE
DESCRIPTION:Boys Coach Pitch - CPRD
LOCATION:Dellinger Park Field #3
CATEGORIES:QuickScores; Baseball - Youth Game
TRANSP:0
DALARM:20260408T160000;PT10M;2;Practice: PHILLIES-COPE
END:VEVENT
BEGIN:VEVENT
DTSTART:20260413T180000
DTEND:20260413T190000
SUMMARY:MARINERS-KING vs. PHILLIES-COPE
DESCRIPTION:Boys Coach Pitch - CPRD
LOCATION:Dellinger Park Field #4
CATEGORIES:QuickScores; Baseball - Youth Game
TRANSP:0
DALARM:20260413T160000;PT10M;2;MARINERS-KING vs. PHILLIES-COPE
END:VEVENT
BEGIN:VEVENT
DTSTART:20260415T180000
DTEND:20260415T190000
SUMMARY:Practice: PHILLIES-COPE
DESCRIPTION:Boys Coach Pitch - CPRD
LOCATION:Dellinger Park Field #4
CATEGORIES:QuickScores; Baseball - Youth Game
TRANSP:0
DALARM:20260415T160000;PT10M;2;Practice: PHILLIES-COPE
END:VEVENT
BEGIN:VEVENT
DTSTART:20260416T180000
DTEND:20260416T190000
SUMMARY:PHILLIES-COPE vs. RANGERS-MITCHELL
DESCRIPTION:Boys Coach Pitch - CPRD
LOCATION:Dellinger Park Field #4
CATEGORIES:QuickScores; Baseball - Youth Game
TRANSP:0
DALARM:20260416T160000;PT10M;2;PHILLIES-COPE vs. RANGERS-MITCHELL
END:VEVENT
BEGIN:VEVENT
DTSTART:20260420T190000
DTEND:20260420T200000
SUMMARY:PHILLIES-COPE vs. BRAVES-GILMORE
DESCRIPTION:Boys Coach Pitch - CPRD
LOCATION:Dellinger Park Field 5
CATEGORIES:QuickScores; Baseball - Youth Game
TRANSP:0
DALARM:20260420T170000;PT10M;2;PHILLIES-COPE vs. BRAVES-GILMORE
END:VEVENT
BEGIN:VEVENT
DTSTART:20260430T180000
DTEND:20260430T190000
SUMMARY:PADRES-BURCH vs. PHILLIES-COPE
DESCRIPTION:Boys Coach Pitch - CPRD
LOCATION:Dellinger Park Field #3
CATEGORIES:QuickScores; Baseball - Youth Game
TRANSP:0
DALARM:20260430T160000;PT10M;2;PADRES-BURCH vs. PHILLIES-COPE
END:VEVENT
BEGIN:VEVENT
DTSTART:20260504T190000
DTEND:20260504T200000
SUMMARY:DODGERS-MOSS vs. PHILLIES-COPE
DESCRIPTION:Boys Coach Pitch - CPRD
LOCATION:Dellinger Park Field 6
CATEGORIES:QuickScores; Baseball - Youth Game
TRANSP:0
DALARM:20260504T170000;PT10M;2;DODGERS-MOSS vs. PHILLIES-COPE
END:VEVENT
BEGIN:VEVENT
DTSTART:20260507T180000
DTEND:20260507T190000
SUMMARY:PHILLIES-COPE vs. GIANTS-IRVIN
DESCRIPTION:Boys Coach Pitch - CPRD
LOCATION:Dellinger Park Field 6
CATEGORIES:QuickScores; Baseball - Youth Game
TRANSP:0
DALARM:20260507T160000;PT10M;2;PHILLIES-COPE vs. GIANTS-IRVIN
END:VEVENT
BEGIN:VEVENT
DTSTART:20260514T190000
DTEND:20260514T200000
SUMMARY:PHILLIES-COPE vs. MARINERS-KING
DESCRIPTION:Boys Coach Pitch - CPRD
LOCATION:Dellinger Park Field #3
CATEGORIES:QuickScores; Baseball - Youth Game
TRANSP:0
DALARM:20260514T170000;PT10M;2;PHILLIES-COPE vs. MARINERS-KING
END:VEVENT
END:VCALENDAR
