BEGIN:VCALENDAR
VERSION:1.0
BEGIN:VEVENT
DTSTART:20260114T200000
DTEND:20260114T210000
SUMMARY:Off on the Ice vs. RVR HOA
DESCRIPTION:Broomball 2026 - Carbondale Parks and Recreation
LOCATION:Gus Darien Ice Arena
CATEGORIES:QuickScores; Broomball Game
TRANSP:0
DALARM:20260114T180000;PT10M;2;Off on the Ice vs. RVR HOA
END:VEVENT
BEGIN:VEVENT
DTSTART:20260121T200000
DTEND:20260121T210000
SUMMARY:Off on the Ice vs. Baker and the Cakes on Ice
DESCRIPTION:Broomball 2026 - Carbondale Parks and Recreation
LOCATION:Gus Darien Ice Arena
CATEGORIES:QuickScores; Broomball Game
TRANSP:0
DALARM:20260121T180000;PT10M;2;Off on the Ice vs. Baker and the Cakes on Ice
END:VEVENT
BEGIN:VEVENT
DTSTART:20260128T180000
DTEND:20260128T190000
SUMMARY:Sweep Dreams vs. Off on the Ice
DESCRIPTION:Broomball 2026 - Carbondale Parks and Recreation
LOCATION:Gus Darien Ice Arena
CATEGORIES:QuickScores; Broomball Game
TRANSP:0
DALARM:20260128T160000;PT10M;2;Sweep Dreams vs. Off on the Ice
END:VEVENT
BEGIN:VEVENT
DTSTART:20260204T190000
DTEND:20260204T200000
SUMMARY:Team Orange vs. Off on the Ice
DESCRIPTION:Broomball 2026 - Carbondale Parks and Recreation
LOCATION:Gus Darien Ice Arena
CATEGORIES:QuickScores; Broomball Game
TRANSP:0
DALARM:20260204T170000;PT10M;2;Team Orange vs. Off on the Ice
END:VEVENT
BEGIN:VEVENT
DTSTART:20260211T190000
DTEND:20260211T200000
SUMMARY:Broom Pirates vs. Off on the Ice
DESCRIPTION:Broomball 2026 - Carbondale Parks and Recreation
LOCATION:Gus Darien Ice Arena
CATEGORIES:QuickScores; Broomball Game
TRANSP:0
DALARM:20260211T170000;PT10M;2;Broom Pirates vs. Off on the Ice
END:VEVENT
END:VCALENDAR
