BEGIN:VCALENDAR
VERSION:1.0
BEGIN:VEVENT
DTSTART:20250916T183000
DTEND:20250916T193000
SUMMARY:The Mighty Duck Snorts vs. Base Gods
DESCRIPTION:Fall Coed Softball 2025 - Carbondale Parks and Recreation
LOCATION:North Face Field
CATEGORIES:QuickScores; Softball - Adult Game
TRANSP:0
DALARM:20250916T163000;PT10M;2;The Mighty Duck Snorts vs. Base Gods
END:VEVENT
BEGIN:VEVENT
DTSTART:20250923T183000
DTEND:20250923T193000
SUMMARY:The Mighty Duck Snorts vs. The Jortstops
DESCRIPTION:Fall Coed Softball 2025 - Carbondale Parks and Recreation
LOCATION:North Face Field
CATEGORIES:QuickScores; Softball - Adult Game
TRANSP:0
DALARM:20250923T163000;PT10M;2;The Mighty Duck Snorts vs. The Jortstops
END:VEVENT
BEGIN:VEVENT
DTSTART:20250930T193000
DTEND:20250930T203000
SUMMARY:Fresh Trout vs. The Mighty Duck Snorts
DESCRIPTION:Fall Coed Softball 2025 - Carbondale Parks and Recreation
LOCATION:North Face Field
CATEGORIES:QuickScores; Softball - Adult Game
TRANSP:0
DALARM:20250930T173000;PT10M;2;Fresh Trout vs. The Mighty Duck Snorts
END:VEVENT
BEGIN:VEVENT
DTSTART:20251007T183000
DTEND:20251007T193000
SUMMARY:Jaywalker Lodge vs. The Mighty Duck Snorts
DESCRIPTION:Fall Coed Softball 2025 - Carbondale Parks and Recreation
LOCATION:North Face Field
CATEGORIES:QuickScores; Softball - Adult Game
TRANSP:0
DALARM:20251007T163000;PT10M;2;Jaywalker Lodge vs. The Mighty Duck Snorts
END:VEVENT
BEGIN:VEVENT
DTSTART:20251014T193000
DTEND:20251014T203000
SUMMARY:The Mighty Duck Snorts vs. Pancake Batters
DESCRIPTION:Fall Coed Softball 2025 - Carbondale Parks and Recreation
LOCATION:North Face Field
CATEGORIES:QuickScores; Softball - Adult Game
TRANSP:0
DALARM:20251014T173000;PT10M;2;The Mighty Duck Snorts vs. Pancake Batters
END:VEVENT
BEGIN:VEVENT
DTSTART:20251021T203000
DTEND:20251021T213000
SUMMARY:The Romero Group vs. The Mighty Duck Snorts
DESCRIPTION:Fall Coed Softball 2025 - Carbondale Parks and Recreation
LOCATION:North Face Field
CATEGORIES:QuickScores; Softball - Adult Game
TRANSP:0
DALARM:20251021T183000;PT10M;2;The Romero Group vs. The Mighty Duck Snorts
END:VEVENT
BEGIN:VEVENT
DTSTART:20251104T183000
DTEND:20251104T193000
SUMMARY:[5] The Jortstops vs. [6] The Mighty Duck Snorts
DESCRIPTION:Fall Coed Softball 2025 - Carbondale Parks and Recreation
LOCATION:North Face Field
CATEGORIES:QuickScores; Softball - Adult Game
TRANSP:0
DALARM:20251104T163000;PT10M;2;[5] The Jortstops vs. [6] The Mighty Duck Snorts
END:VEVENT
END:VCALENDAR
