BEGIN:VCALENDAR
VERSION:1.0
BEGIN:VEVENT
DTSTART:20250916T183000
DTEND:20250916T193000
SUMMARY:The Mighty Duck Snorts vs. Base Gods
DESCRIPTION:Fall Coed Softball 2025 - Carbondale Parks and Recreation
LOCATION:North Face Field
CATEGORIES:QuickScores; Softball - Adult Game
TRANSP:0
DALARM:20250916T163000;PT10M;2;The Mighty Duck Snorts vs. Base Gods
END:VEVENT
BEGIN:VEVENT
DTSTART:20250923T203000
DTEND:20250923T213000
SUMMARY:Base Gods vs. Pancake Batters
DESCRIPTION:Fall Coed Softball 2025 - Carbondale Parks and Recreation
LOCATION:North Face Field
CATEGORIES:QuickScores; Softball - Adult Game
TRANSP:0
DALARM:20250923T183000;PT10M;2;Base Gods vs. Pancake Batters
END:VEVENT
BEGIN:VEVENT
DTSTART:20250930T203000
DTEND:20250930T213000
SUMMARY:Base Gods vs. The Romero Group
DESCRIPTION:Fall Coed Softball 2025 - Carbondale Parks and Recreation
LOCATION:North Face Field
CATEGORIES:QuickScores; Softball - Adult Game
TRANSP:0
DALARM:20250930T183000;PT10M;2;Base Gods vs. The Romero Group
END:VEVENT
BEGIN:VEVENT
DTSTART:20251007T203000
DTEND:20251007T213000
SUMMARY:Fresh Trout vs. Base Gods
DESCRIPTION:Fall Coed Softball 2025 - Carbondale Parks and Recreation
LOCATION:North Face Field
CATEGORIES:QuickScores; Softball - Adult Game
TRANSP:0
DALARM:20251007T183000;PT10M;2;Fresh Trout vs. Base Gods
END:VEVENT
BEGIN:VEVENT
DTSTART:20251021T193000
DTEND:20251021T203000
SUMMARY:Base Gods vs. The Jortstops
DESCRIPTION:Fall Coed Softball 2025 - Carbondale Parks and Recreation
LOCATION:North Face Field
CATEGORIES:QuickScores; Softball - Adult Game
TRANSP:0
DALARM:20251021T173000;PT10M;2;Base Gods vs. The Jortstops
END:VEVENT
BEGIN:VEVENT
DTSTART:20251028T193000
DTEND:20251028T203000
SUMMARY:Jaywalker Lodge vs. Base Gods
DESCRIPTION:Fall Coed Softball 2025 - Carbondale Parks and Recreation
LOCATION:North Face Field
CATEGORIES:QuickScores; Softball - Adult Game
TRANSP:0
DALARM:20251028T173000;PT10M;2;Jaywalker Lodge vs. Base Gods
END:VEVENT
END:VCALENDAR
